BEGIN:VCALENDAR
VERSION:2.0
PRODID:-//864 Food Trucks - ECPv6.15.20//NONSGML v1.0//EN
CALSCALE:GREGORIAN
METHOD:PUBLISH
X-WR-CALNAME:864 Food Trucks
X-ORIGINAL-URL:https://864foodtrucks.com
X-WR-CALDESC:Events for 864 Food Trucks
REFRESH-INTERVAL;VALUE=DURATION:PT1H
X-Robots-Tag:noindex
X-PUBLISHED-TTL:PT1H
BEGIN:VTIMEZONE
TZID:America/New_York
BEGIN:DAYLIGHT
TZOFFSETFROM:-0500
TZOFFSETTO:-0400
TZNAME:EDT
DTSTART:20240310T070000
END:DAYLIGHT
BEGIN:STANDARD
TZOFFSETFROM:-0400
TZOFFSETTO:-0500
TZNAME:EST
DTSTART:20241103T060000
END:STANDARD
BEGIN:DAYLIGHT
TZOFFSETFROM:-0500
TZOFFSETTO:-0400
TZNAME:EDT
DTSTART:20250309T070000
END:DAYLIGHT
BEGIN:STANDARD
TZOFFSETFROM:-0400
TZOFFSETTO:-0500
TZNAME:EST
DTSTART:20251102T060000
END:STANDARD
BEGIN:DAYLIGHT
TZOFFSETFROM:-0500
TZOFFSETTO:-0400
TZNAME:EDT
DTSTART:20260308T070000
END:DAYLIGHT
BEGIN:STANDARD
TZOFFSETFROM:-0400
TZOFFSETTO:-0500
TZNAME:EST
DTSTART:20261101T060000
END:STANDARD
END:VTIMEZONE
BEGIN:VEVENT
DTSTART;TZID=America/New_York:20250930T080000
DTEND;TZID=America/New_York:20250930T130000
DTSTAMP:20260424T053547
CREATED:20250630T201910Z
LAST-MODIFIED:20250630T201910Z
UID:49606-1759219200-1759237200@864foodtrucks.com
SUMMARY:MooShi Rolled Ice Cream @ Anderson Farmer's Market
DESCRIPTION:We are a Unique dessert truck\, creating one of a kind Rolled Ice Cream!!!
URL:https://864foodtrucks.com/event/mooshi-rolled-ice-cream-anderson-farmers-market/2025-09-30/
LOCATION:Anderson Farmers Market\, 402 N Murray Ave\, Anderson\, South Carolina
CATEGORIES:Anderson,Food Truck Schedules
ATTACH;FMTTYPE=image/jpeg:https://864foodtrucks.com/wp-content/uploads/2025/03/Moo-Shi-Ice-Cream.jpg
ORGANIZER;CN="Mooshi Ice Cream":MAILTO:MooShi.rolled.ice.cream@gmail.com
GEO:34.5066855;-82.6521632
X-APPLE-STRUCTURED-LOCATION;VALUE=URI;X-ADDRESS=Anderson Farmers Market 402 N Murray Ave Anderson South Carolina;X-APPLE-RADIUS=500;X-TITLE=402 N Murray Ave:geo:-82.6521632,34.5066855
END:VEVENT
BEGIN:VEVENT
DTSTART;TZID=America/New_York:20250923T080000
DTEND;TZID=America/New_York:20250923T130000
DTSTAMP:20260424T053547
CREATED:20250630T201910Z
LAST-MODIFIED:20250630T201910Z
UID:49605-1758614400-1758632400@864foodtrucks.com
SUMMARY:MooShi Rolled Ice Cream @ Anderson Farmer's Market
DESCRIPTION:We are a Unique dessert truck\, creating one of a kind Rolled Ice Cream!!!
URL:https://864foodtrucks.com/event/mooshi-rolled-ice-cream-anderson-farmers-market/2025-09-23/
LOCATION:Anderson Farmers Market\, 402 N Murray Ave\, Anderson\, South Carolina
CATEGORIES:Anderson,Food Truck Schedules
ATTACH;FMTTYPE=image/jpeg:https://864foodtrucks.com/wp-content/uploads/2025/03/Moo-Shi-Ice-Cream.jpg
ORGANIZER;CN="Mooshi Ice Cream":MAILTO:MooShi.rolled.ice.cream@gmail.com
GEO:34.5066855;-82.6521632
X-APPLE-STRUCTURED-LOCATION;VALUE=URI;X-ADDRESS=Anderson Farmers Market 402 N Murray Ave Anderson South Carolina;X-APPLE-RADIUS=500;X-TITLE=402 N Murray Ave:geo:-82.6521632,34.5066855
END:VEVENT
BEGIN:VEVENT
DTSTART;TZID=America/New_York:20250916T080000
DTEND;TZID=America/New_York:20250916T130000
DTSTAMP:20260424T053547
CREATED:20250630T201910Z
LAST-MODIFIED:20250630T201910Z
UID:49604-1758009600-1758027600@864foodtrucks.com
SUMMARY:MooShi Rolled Ice Cream @ Anderson Farmer's Market
DESCRIPTION:We are a Unique dessert truck\, creating one of a kind Rolled Ice Cream!!!
URL:https://864foodtrucks.com/event/mooshi-rolled-ice-cream-anderson-farmers-market/2025-09-16/
LOCATION:Anderson Farmers Market\, 402 N Murray Ave\, Anderson\, South Carolina
CATEGORIES:Anderson,Food Truck Schedules
ATTACH;FMTTYPE=image/jpeg:https://864foodtrucks.com/wp-content/uploads/2025/03/Moo-Shi-Ice-Cream.jpg
ORGANIZER;CN="Mooshi Ice Cream":MAILTO:MooShi.rolled.ice.cream@gmail.com
GEO:34.5066855;-82.6521632
X-APPLE-STRUCTURED-LOCATION;VALUE=URI;X-ADDRESS=Anderson Farmers Market 402 N Murray Ave Anderson South Carolina;X-APPLE-RADIUS=500;X-TITLE=402 N Murray Ave:geo:-82.6521632,34.5066855
END:VEVENT
BEGIN:VEVENT
DTSTART;TZID=America/New_York:20250909T080000
DTEND;TZID=America/New_York:20250909T130000
DTSTAMP:20260424T053547
CREATED:20250630T201910Z
LAST-MODIFIED:20250630T201910Z
UID:49602-1757404800-1757422800@864foodtrucks.com
SUMMARY:MooShi Rolled Ice Cream @ Anderson Farmer's Market
DESCRIPTION:We are a Unique dessert truck\, creating one of a kind Rolled Ice Cream!!!
URL:https://864foodtrucks.com/event/mooshi-rolled-ice-cream-anderson-farmers-market/2025-09-09/
LOCATION:Anderson Farmers Market\, 402 N Murray Ave\, Anderson\, South Carolina
CATEGORIES:Anderson,Food Truck Schedules
ATTACH;FMTTYPE=image/jpeg:https://864foodtrucks.com/wp-content/uploads/2025/03/Moo-Shi-Ice-Cream.jpg
ORGANIZER;CN="Mooshi Ice Cream":MAILTO:MooShi.rolled.ice.cream@gmail.com
GEO:34.5066855;-82.6521632
X-APPLE-STRUCTURED-LOCATION;VALUE=URI;X-ADDRESS=Anderson Farmers Market 402 N Murray Ave Anderson South Carolina;X-APPLE-RADIUS=500;X-TITLE=402 N Murray Ave:geo:-82.6521632,34.5066855
END:VEVENT
BEGIN:VEVENT
DTSTART;TZID=America/New_York:20250902T080000
DTEND;TZID=America/New_York:20250902T130000
DTSTAMP:20260424T053547
CREATED:20250630T201910Z
LAST-MODIFIED:20250630T201910Z
UID:49601-1756800000-1756818000@864foodtrucks.com
SUMMARY:MooShi Rolled Ice Cream @ Anderson Farmer's Market
DESCRIPTION:We are a Unique dessert truck\, creating one of a kind Rolled Ice Cream!!!
URL:https://864foodtrucks.com/event/mooshi-rolled-ice-cream-anderson-farmers-market/2025-09-02/
LOCATION:Anderson Farmers Market\, 402 N Murray Ave\, Anderson\, South Carolina
CATEGORIES:Anderson,Food Truck Schedules
ATTACH;FMTTYPE=image/jpeg:https://864foodtrucks.com/wp-content/uploads/2025/03/Moo-Shi-Ice-Cream.jpg
ORGANIZER;CN="Mooshi Ice Cream":MAILTO:MooShi.rolled.ice.cream@gmail.com
GEO:34.5066855;-82.6521632
X-APPLE-STRUCTURED-LOCATION;VALUE=URI;X-ADDRESS=Anderson Farmers Market 402 N Murray Ave Anderson South Carolina;X-APPLE-RADIUS=500;X-TITLE=402 N Murray Ave:geo:-82.6521632,34.5066855
END:VEVENT
BEGIN:VEVENT
DTSTART;TZID=America/New_York:20250826T080000
DTEND;TZID=America/New_York:20250826T130000
DTSTAMP:20260424T053547
CREATED:20250630T201910Z
LAST-MODIFIED:20250630T201910Z
UID:49600-1756195200-1756213200@864foodtrucks.com
SUMMARY:MooShi Rolled Ice Cream @ Anderson Farmer's Market
DESCRIPTION:We are a Unique dessert truck\, creating one of a kind Rolled Ice Cream!!!
URL:https://864foodtrucks.com/event/mooshi-rolled-ice-cream-anderson-farmers-market/2025-08-26/
LOCATION:Anderson Farmers Market\, 402 N Murray Ave\, Anderson\, South Carolina
CATEGORIES:Anderson,Food Truck Schedules
ATTACH;FMTTYPE=image/jpeg:https://864foodtrucks.com/wp-content/uploads/2025/03/Moo-Shi-Ice-Cream.jpg
ORGANIZER;CN="Mooshi Ice Cream":MAILTO:MooShi.rolled.ice.cream@gmail.com
GEO:34.5066855;-82.6521632
X-APPLE-STRUCTURED-LOCATION;VALUE=URI;X-ADDRESS=Anderson Farmers Market 402 N Murray Ave Anderson South Carolina;X-APPLE-RADIUS=500;X-TITLE=402 N Murray Ave:geo:-82.6521632,34.5066855
END:VEVENT
BEGIN:VEVENT
DTSTART;TZID=America/New_York:20250701T080000
DTEND;TZID=America/New_York:20250701T130000
DTSTAMP:20260424T053547
CREATED:20250630T201910Z
LAST-MODIFIED:20250630T201910Z
UID:49592-1751356800-1751374800@864foodtrucks.com
SUMMARY:MooShi Rolled Ice Cream @ Anderson Farmer's Market
DESCRIPTION:We are a Unique dessert truck\, creating one of a kind Rolled Ice Cream!!!
URL:https://864foodtrucks.com/event/mooshi-rolled-ice-cream-anderson-farmers-market/2025-07-01/
LOCATION:Anderson Farmers Market\, 402 N Murray Ave\, Anderson\, South Carolina
CATEGORIES:Anderson,Food Truck Schedules
ATTACH;FMTTYPE=image/jpeg:https://864foodtrucks.com/wp-content/uploads/2025/03/Moo-Shi-Ice-Cream.jpg
ORGANIZER;CN="Mooshi Ice Cream":MAILTO:MooShi.rolled.ice.cream@gmail.com
GEO:34.5066855;-82.6521632
X-APPLE-STRUCTURED-LOCATION;VALUE=URI;X-ADDRESS=Anderson Farmers Market 402 N Murray Ave Anderson South Carolina;X-APPLE-RADIUS=500;X-TITLE=402 N Murray Ave:geo:-82.6521632,34.5066855
END:VEVENT
BEGIN:VEVENT
DTSTART;TZID=America/New_York:20250628T110000
DTEND;TZID=America/New_York:20250628T223000
DTSTAMP:20260424T053547
CREATED:20250623T230608Z
LAST-MODIFIED:20250623T230608Z
UID:48973-1751108400-1751149800@864foodtrucks.com
SUMMARY:Moo Shi Rolled Ice Cream @ Freedom Celebration
DESCRIPTION:We are a Unique dessert truck\, creating one of a kind Rolled Ice Cream!!!
URL:https://864foodtrucks.com/event/moo-shi-rolled-ice-cream-freedom-celebration/
LOCATION:Big Water Marina\, 320 Big Water Rd\, Starr\, South Carolina
CATEGORIES:Food Truck Schedules
ATTACH;FMTTYPE=image/jpeg:https://864foodtrucks.com/wp-content/uploads/2025/03/Moo-Shi-Ice-Cream.jpg
ORGANIZER;CN="Mooshi Ice Cream":MAILTO:MooShi.rolled.ice.cream@gmail.com
GEO:34.3950884;-82.8163208
X-APPLE-STRUCTURED-LOCATION;VALUE=URI;X-ADDRESS=Big Water Marina 320 Big Water Rd Starr South Carolina;X-APPLE-RADIUS=500;X-TITLE=320 Big Water Rd:geo:-82.8163208,34.3950884
END:VEVENT
BEGIN:VEVENT
DTSTART;TZID=America/New_York:20250524T100000
DTEND;TZID=America/New_York:20250524T140000
DTSTAMP:20260424T053547
CREATED:20250520T132421Z
LAST-MODIFIED:20250520T132421Z
UID:45931-1748080800-1748095200@864foodtrucks.com
SUMMARY:MooShi Rolled Ice Cream @ Anderson Crafts Market
DESCRIPTION:We are a Unique dessert truck\, creating one of a kind Rolled Ice Cream!!!
URL:https://864foodtrucks.com/event/mooshi-rolled-ice-cream-anderson-crafts-market/2025-05-24/
LOCATION:Anderson Makers Market\, 2000 E River St\, Anderson\, South Carolina
CATEGORIES:Anderson,Food Truck Schedules
ATTACH;FMTTYPE=image/jpeg:https://864foodtrucks.com/wp-content/uploads/2025/03/Moo-Shi-Ice-Cream.jpg
ORGANIZER;CN="Mooshi Ice Cream":MAILTO:MooShi.rolled.ice.cream@gmail.com
GEO:34.4958152;-82.6210591
X-APPLE-STRUCTURED-LOCATION;VALUE=URI;X-ADDRESS=Anderson Makers Market 2000 E River St Anderson South Carolina;X-APPLE-RADIUS=500;X-TITLE=2000 E River St:geo:-82.6210591,34.4958152
END:VEVENT
BEGIN:VEVENT
DTSTART;TZID=America/New_York:20250503T110000
DTEND;TZID=America/New_York:20250503T110000
DTSTAMP:20260424T053547
CREATED:20250429T150728Z
LAST-MODIFIED:20250429T150728Z
UID:44191-1746270000-1746270000@864foodtrucks.com
SUMMARY:MooShi Rolled Ice Cream @ The Local Uptown
DESCRIPTION:We are a Unique dessert truck\, creating one of a kind Rolled Ice Cream!!!
URL:https://864foodtrucks.com/event/mooshi-rolled-ice-cream-the-local-uptown/
LOCATION:The Local Uptown\, 301 N McDuffie St\, Anderson\, South Carolina
CATEGORIES:Anderson,Food Truck Schedules
ATTACH;FMTTYPE=image/jpeg:https://864foodtrucks.com/wp-content/uploads/2025/03/Moo-Shi-Ice-Cream.jpg
ORGANIZER;CN="Mooshi Ice Cream":MAILTO:MooShi.rolled.ice.cream@gmail.com
GEO:34.5056593;-82.6494203
X-APPLE-STRUCTURED-LOCATION;VALUE=URI;X-ADDRESS=The Local Uptown 301 N McDuffie St Anderson South Carolina;X-APPLE-RADIUS=500;X-TITLE=301 N McDuffie St:geo:-82.6494203,34.5056593
END:VEVENT
END:VCALENDAR