BEGIN:VCALENDAR
VERSION:2.0
PRODID:-//864 Food Trucks - ECPv6.15.20//NONSGML v1.0//EN
CALSCALE:GREGORIAN
METHOD:PUBLISH
X-WR-CALNAME:864 Food Trucks
X-ORIGINAL-URL:https://864foodtrucks.com
X-WR-CALDESC:Events for 864 Food Trucks
REFRESH-INTERVAL;VALUE=DURATION:PT1H
X-Robots-Tag:noindex
X-PUBLISHED-TTL:PT1H
BEGIN:VTIMEZONE
TZID:America/New_York
BEGIN:DAYLIGHT
TZOFFSETFROM:-0500
TZOFFSETTO:-0400
TZNAME:EDT
DTSTART:20210314T070000
END:DAYLIGHT
BEGIN:STANDARD
TZOFFSETFROM:-0400
TZOFFSETTO:-0500
TZNAME:EST
DTSTART:20211107T060000
END:STANDARD
BEGIN:DAYLIGHT
TZOFFSETFROM:-0500
TZOFFSETTO:-0400
TZNAME:EDT
DTSTART:20220313T070000
END:DAYLIGHT
BEGIN:STANDARD
TZOFFSETFROM:-0400
TZOFFSETTO:-0500
TZNAME:EST
DTSTART:20221106T060000
END:STANDARD
BEGIN:DAYLIGHT
TZOFFSETFROM:-0500
TZOFFSETTO:-0400
TZNAME:EDT
DTSTART:20230312T070000
END:DAYLIGHT
BEGIN:STANDARD
TZOFFSETFROM:-0400
TZOFFSETTO:-0500
TZNAME:EST
DTSTART:20231105T060000
END:STANDARD
BEGIN:DAYLIGHT
TZOFFSETFROM:-0500
TZOFFSETTO:-0400
TZNAME:EDT
DTSTART:20240310T070000
END:DAYLIGHT
BEGIN:STANDARD
TZOFFSETFROM:-0400
TZOFFSETTO:-0500
TZNAME:EST
DTSTART:20241103T060000
END:STANDARD
END:VTIMEZONE
BEGIN:VEVENT
DTSTART;TZID=America/New_York:20231007T120000
DTEND;TZID=America/New_York:20231007T160000
DTSTAMP:20260424T170044
CREATED:20231004T214630Z
LAST-MODIFIED:20231004T214630Z
UID:23354-1696680000-1696694400@864foodtrucks.com
SUMMARY:One Eyed Donkey @ Village Launch Market
DESCRIPTION:#followthedonkey … ji-roz presents the one eyed donkey! fun take on some greek classics ~ on wheels!!! same quality\, same service\, same vibe as our brick and mortar just brought directly to you. Call or email us today to schedule our donkey.
URL:https://864foodtrucks.com/event/one-eyed-donkey-village-launch-market/
LOCATION:Pendleton Street\, Pendleton Street 1186\, Greenville\, South Carolina\, 29611\, United States
CATEGORIES:Food Truck Schedules,Greenville
ATTACH;FMTTYPE=image/jpeg:https://864foodtrucks.com/wp-content/uploads/2021/05/One-Eyed-Donkey-Food-Truck.jpg
GEO:34.8466754;-82.4261095
X-APPLE-STRUCTURED-LOCATION;VALUE=URI;X-ADDRESS=Pendleton Street Pendleton Street 1186 Greenville South Carolina 29611 United States;X-APPLE-RADIUS=500;X-TITLE=Pendleton Street 1186:geo:-82.4261095,34.8466754
END:VEVENT
BEGIN:VEVENT
DTSTART;TZID=America/New_York:20231006T180000
DTEND;TZID=America/New_York:20231006T210000
DTSTAMP:20260424T170044
CREATED:20231004T214426Z
LAST-MODIFIED:20231004T214426Z
UID:23351-1696615200-1696626000@864foodtrucks.com
SUMMARY:One Eyed Donkey @ Fall Food Truck Festival
DESCRIPTION:#followthedonkey … ji-roz presents the one eyed donkey! fun take on some greek classics ~ on wheels!!! same quality\, same service\, same vibe as our brick and mortar just brought directly to you. Call or email us today to schedule our donkey.
URL:https://864foodtrucks.com/event/one-eyed-donkey-fall-food-truck-festival/
LOCATION:Across from Legacy Park\, Rocky Slope Road\, Greenville\, South Carolina\, 29607\, United States
CATEGORIES:Food Truck Schedules,Greenville
ATTACH;FMTTYPE=image/jpeg:https://864foodtrucks.com/wp-content/uploads/2021/05/One-Eyed-Donkey-Food-Truck.jpg
GEO:34.8320452;-82.3321013
X-APPLE-STRUCTURED-LOCATION;VALUE=URI;X-ADDRESS=Across from Legacy Park Rocky Slope Road Greenville South Carolina 29607 United States;X-APPLE-RADIUS=500;X-TITLE=Rocky Slope Road:geo:-82.3321013,34.8320452
END:VEVENT
BEGIN:VEVENT
DTSTART;TZID=America/New_York:20231005T190000
DTEND;TZID=America/New_York:20231005T213000
DTSTAMP:20260424T170044
CREATED:20231004T214233Z
LAST-MODIFIED:20231025T190107Z
UID:23348-1696532400-1696541400@864foodtrucks.com
SUMMARY:One Eyed Donkey @ Moonlight Movies
DESCRIPTION:#followthedonkey … ji-roz presents the one eyed donkey! fun take on some greek classics ~ on wheels!!! same quality\, same service\, same vibe as our brick and mortar just brought directly to you. Call or email us today to schedule our donkey.
URL:https://864foodtrucks.com/event/one-eyed-donkey-moonlight-movies/2023-10-05/
LOCATION:Moonlight Movies\, University Street 55\, Greenville\, South Carolina\, 29601\, United States
CATEGORIES:Food Truck Schedules,Greenville
ATTACH;FMTTYPE=image/jpeg:https://864foodtrucks.com/wp-content/uploads/2021/05/One-Eyed-Donkey-Food-Truck.jpg
GEO:34.8433354;-82.4040706
X-APPLE-STRUCTURED-LOCATION;VALUE=URI;X-ADDRESS=Moonlight Movies University Street 55 Greenville South Carolina 29601 United States;X-APPLE-RADIUS=500;X-TITLE=University Street 55:geo:-82.4040706,34.8433354
END:VEVENT
BEGIN:VEVENT
DTSTART;TZID=America/New_York:20230923T160000
DTEND;TZID=America/New_York:20230923T190000
DTSTAMP:20260424T170044
CREATED:20230920T180802Z
LAST-MODIFIED:20230920T180802Z
UID:23009-1695484800-1695495600@864foodtrucks.com
SUMMARY:One Eyed Donkey @ Car Show
DESCRIPTION:#followthedonkey … ji-roz presents the one eyed donkey! fun take on some greek classics ~ on wheels!!! same quality\, same service\, same vibe as our brick and mortar just brought directly to you. Call or email us today to schedule our donkey.
URL:https://864foodtrucks.com/event/one-eyed-donkey-car-show/
LOCATION:Car Show\, Grove Road 706\, Greenville\, South Carolina\, 29605\, United States
CATEGORIES:Food Truck Schedules,Greenville
ATTACH;FMTTYPE=image/jpeg:https://864foodtrucks.com/wp-content/uploads/2021/05/One-Eyed-Donkey-Food-Truck.jpg
GEO:34.8216886;-82.4142065
X-APPLE-STRUCTURED-LOCATION;VALUE=URI;X-ADDRESS=Car Show Grove Road 706 Greenville South Carolina 29605 United States;X-APPLE-RADIUS=500;X-TITLE=Grove Road 706:geo:-82.4142065,34.8216886
END:VEVENT
BEGIN:VEVENT
DTSTART;TZID=America/New_York:20230922T170000
DTEND;TZID=America/New_York:20230922T200000
DTSTAMP:20260424T170044
CREATED:20230920T180559Z
LAST-MODIFIED:20230920T180559Z
UID:23006-1695402000-1695412800@864foodtrucks.com
SUMMARY:One Eyed Donkey @ Rock of Ages
DESCRIPTION:#followthedonkey … ji-roz presents the one eyed donkey! fun take on some greek classics ~ on wheels!!! same quality\, same service\, same vibe as our brick and mortar just brought directly to you. Call or email us today to schedule our donkey.
URL:https://864foodtrucks.com/event/one-eyed-donkey-rock-of-ages/
LOCATION:Rock of Ages\, Federal Street 110\, Anderson\, South Carolina\, 29625\, United States
CATEGORIES:Anderson,Food Truck Schedules
ATTACH;FMTTYPE=image/jpeg:https://864foodtrucks.com/wp-content/uploads/2021/05/One-Eyed-Donkey-Food-Truck.jpg
GEO:34.5062252;-82.6516546
X-APPLE-STRUCTURED-LOCATION;VALUE=URI;X-ADDRESS=Rock of Ages Federal Street 110 Anderson South Carolina 29625 United States;X-APPLE-RADIUS=500;X-TITLE=Federal Street 110:geo:-82.6516546,34.5062252
END:VEVENT
BEGIN:VEVENT
DTSTART;TZID=America/New_York:20230922T120000
DTEND;TZID=America/New_York:20230922T140000
DTSTAMP:20260424T170044
CREATED:20230920T175354Z
LAST-MODIFIED:20230920T175354Z
UID:23004-1695384000-1695391200@864foodtrucks.com
SUMMARY:One Eyed Donkey @ The Blake At Hollingsworth Park
DESCRIPTION:#followthedonkey … ji-roz presents the one eyed donkey! fun take on some greek classics ~ on wheels!!! same quality\, same service\, same vibe as our brick and mortar just brought directly to you. Call or email us today to schedule our donkey.
URL:https://864foodtrucks.com/event/one-eyed-donkey-the-blake-at-hollingsworth-park/
LOCATION:Hollingsworth Park\, Greenville\, South Carolina
CATEGORIES:Food Truck Schedules,Greenville
ATTACH;FMTTYPE=image/jpeg:https://864foodtrucks.com/wp-content/uploads/2021/05/One-Eyed-Donkey-Food-Truck.jpg
GEO:34.8526176;-82.3940104
END:VEVENT
BEGIN:VEVENT
DTSTART;TZID=America/New_York:20230913T110000
DTEND;TZID=America/New_York:20230913T133000
DTSTAMP:20260424T170044
CREATED:20230910T193658Z
LAST-MODIFIED:20230910T193658Z
UID:22715-1694602800-1694611800@864foodtrucks.com
SUMMARY:One Eyed Donkey @ Proterra
DESCRIPTION:#followthedonkey … ji-roz presents the one eyed donkey! fun take on some greek classics ~ on wheels!!! same quality\, same service\, same vibe as our brick and mortar just brought directly to you. Call or email us today to schedule our donkey.
URL:https://864foodtrucks.com/event/one-eyed-donkey-proterra/2023-09-13/
LOCATION:Proterra\, 1 Whitlee Ct\, Greenville\, South Carolina
CATEGORIES:Food Truck Schedules,Greenville
ATTACH;FMTTYPE=image/jpeg:https://864foodtrucks.com/wp-content/uploads/2021/05/One-Eyed-Donkey-Food-Truck.jpg
GEO:34.803605;-82.347947
X-APPLE-STRUCTURED-LOCATION;VALUE=URI;X-ADDRESS=Proterra 1 Whitlee Ct Greenville South Carolina;X-APPLE-RADIUS=500;X-TITLE=1 Whitlee Ct:geo:-82.347947,34.803605
END:VEVENT
BEGIN:VEVENT
DTSTART;TZID=America/New_York:20230901T100000
DTEND;TZID=America/New_York:20230901T133000
DTSTAMP:20260424T170044
CREATED:20230827T204115Z
LAST-MODIFIED:20230827T204115Z
UID:22413-1693562400-1693575000@864foodtrucks.com
SUMMARY:One Eyed Donkey @ Bells Crossing Elementary
DESCRIPTION:#followthedonkey … ji-roz presents the one eyed donkey! fun take on some greek classics ~ on wheels!!! same quality\, same service\, same vibe as our brick and mortar just brought directly to you. Call or email us today to schedule our donkey.
URL:https://864foodtrucks.com/event/one-eyed-donkey-bells-crossing-elementary-2/
LOCATION:Bells Crossing\, 804 Scuffletown Rd\, Simpsonville\, SC\, United States
CATEGORIES:Food Truck Schedules,Simpsonville
ATTACH;FMTTYPE=image/jpeg:https://864foodtrucks.com/wp-content/uploads/2021/05/One-Eyed-Donkey-Food-Truck.jpg
END:VEVENT
BEGIN:VEVENT
DTSTART;TZID=America/New_York:20230830T173000
DTEND;TZID=America/New_York:20230830T200000
DTSTAMP:20260424T170044
CREATED:20230827T204249Z
LAST-MODIFIED:20240128T151010Z
UID:22415-1693416600-1693425600@864foodtrucks.com
SUMMARY:One Eyed Donkey @ Community Tap
DESCRIPTION:#followthedonkey … ji-roz presents the one eyed donkey! fun take on some greek classics ~ on wheels!!! same quality\, same service\, same vibe as our brick and mortar just brought directly to you. Call or email us today to schedule our donkey.
URL:https://864foodtrucks.com/event/one-eyed-donkey-community-tap-3/2023-08-30/
LOCATION:The Community Tap\, 217 Wade Hampton Blvd\, Greenville\, South Carolina
CATEGORIES:Food Truck Schedules,Greenville
ATTACH;FMTTYPE=image/jpeg:https://864foodtrucks.com/wp-content/uploads/2021/05/One-Eyed-Donkey-Food-Truck.jpg
GEO:34.8625763;-82.3857613
X-APPLE-STRUCTURED-LOCATION;VALUE=URI;X-ADDRESS=The Community Tap 217 Wade Hampton Blvd Greenville South Carolina;X-APPLE-RADIUS=500;X-TITLE=217 Wade Hampton Blvd:geo:-82.3857613,34.8625763
END:VEVENT
BEGIN:VEVENT
DTSTART;TZID=America/New_York:20230829T173000
DTEND;TZID=America/New_York:20230829T193000
DTSTAMP:20260424T170044
CREATED:20230827T203945Z
LAST-MODIFIED:20230827T203945Z
UID:22389-1693330200-1693337400@864foodtrucks.com
SUMMARY:One Eyed Donkey @ Avendell
DESCRIPTION:#followthedonkey … ji-roz presents the one eyed donkey! fun take on some greek classics ~ on wheels!!! same quality\, same service\, same vibe as our brick and mortar just brought directly to you. Call or email us today to schedule our donkey.
URL:https://864foodtrucks.com/event/one-eyed-donkey-avendell/
LOCATION:Avendell\, 100 Avendell Dr\, Easley
CATEGORIES:Easley,Food Truck Schedules
ATTACH;FMTTYPE=image/jpeg:https://864foodtrucks.com/wp-content/uploads/2021/05/One-Eyed-Donkey-Food-Truck.jpg
GEO:34.7285738;-82.5929346
X-APPLE-STRUCTURED-LOCATION;VALUE=URI;X-ADDRESS=Avendell 100 Avendell Dr Easley;X-APPLE-RADIUS=500;X-TITLE=100 Avendell Dr:geo:-82.5929346,34.7285738
END:VEVENT
BEGIN:VEVENT
DTSTART;TZID=America/New_York:20230826T173000
DTEND;TZID=America/New_York:20230826T193000
DTSTAMP:20260424T170044
CREATED:20230820T232425Z
LAST-MODIFIED:20230820T232425Z
UID:22255-1693071000-1693078200@864foodtrucks.com
SUMMARY:One Eyed Donkey @ Rivendell
DESCRIPTION:#followthedonkey … ji-roz presents the one eyed donkey! fun take on some greek classics ~ on wheels!!! same quality\, same service\, same vibe as our brick and mortar just brought directly to you. Call or email us today to schedule our donkey.
URL:https://864foodtrucks.com/event/one-eyed-donkey-rivendell/
LOCATION:Rivendell\, 100 Buckland Dr\, Anderson\, SC\, 29621\, United States
CATEGORIES:Anderson,Food Truck Schedules
ATTACH;FMTTYPE=image/jpeg:https://864foodtrucks.com/wp-content/uploads/2021/05/One-Eyed-Donkey-Food-Truck.jpg
GEO:34.5818601;-82.6157372
X-APPLE-STRUCTURED-LOCATION;VALUE=URI;X-ADDRESS=Rivendell 100 Buckland Dr Anderson SC 29621 United States;X-APPLE-RADIUS=500;X-TITLE=100 Buckland Dr:geo:-82.6157372,34.5818601
END:VEVENT
BEGIN:VEVENT
DTSTART;TZID=America/New_York:20230824T173000
DTEND;TZID=America/New_York:20230824T193000
DTSTAMP:20260424T170044
CREATED:20230820T232306Z
LAST-MODIFIED:20230820T232306Z
UID:22230-1692898200-1692905400@864foodtrucks.com
SUMMARY:One Eyed Donkey @ Kilgore Plantation
DESCRIPTION:ji-roz presents the one eyed donkey! fun take on some greek classics ~ on wheels!!! same quality\, same service\, same vibe as our brick and mortar just brought directly to you. Call or email us today to schedule our donkey.
URL:https://864foodtrucks.com/event/one-eyed-donkey-kilgore-plantation/
LOCATION:Kilgore Plantation\, 2 Land Grant Drive\, Simpsonville\, South Carolina
CATEGORIES:Food Truck Schedules,Simpsonville
ATTACH;FMTTYPE=image/jpeg:https://864foodtrucks.com/wp-content/uploads/2021/05/One-Eyed-Donkey-Food-Truck.jpg
GEO:34.8158303;-82.2290627
X-APPLE-STRUCTURED-LOCATION;VALUE=URI;X-ADDRESS=Kilgore Plantation 2 Land Grant Drive Simpsonville South Carolina;X-APPLE-RADIUS=500;X-TITLE=2 Land Grant Drive:geo:-82.2290627,34.8158303
END:VEVENT
BEGIN:VEVENT
DTSTART;TZID=America/New_York:20230805T173000
DTEND;TZID=America/New_York:20230805T193000
DTSTAMP:20260424T170044
CREATED:20230801T182752Z
LAST-MODIFIED:20230801T182752Z
UID:21747-1691256600-1691263800@864foodtrucks.com
SUMMARY:One Eyed Donkey @ Silver Meadows
DESCRIPTION:#followthedonkey … ji-roz presents the one eyed donkey! fun take on some greek classics ~ on wheels!!! same quality\, same service\, same vibe as our brick and mortar just brought directly to you. Call or email us today to schedule our donkey.
URL:https://864foodtrucks.com/event/one-eyed-donkey-silver-meadows/
LOCATION:Silver Meadows\, Travelers Rest\, South Carolina
CATEGORIES:Food Truck Schedules,Taylors
ATTACH;FMTTYPE=image/jpeg:https://864foodtrucks.com/wp-content/uploads/2021/05/One-Eyed-Donkey-Food-Truck.jpg
GEO:34.9676167;-82.4434548
END:VEVENT
BEGIN:VEVENT
DTSTART;TZID=America/New_York:20230803T173000
DTEND;TZID=America/New_York:20230803T193000
DTSTAMP:20260424T170044
CREATED:20230801T182634Z
LAST-MODIFIED:20230801T182634Z
UID:21745-1691083800-1691091000@864foodtrucks.com
SUMMARY:One Eyed Donkey @ Spring Lake Estates
DESCRIPTION:#followthedonkey … ji-roz presents the one eyed donkey! fun take on some greek classics ~ on wheels!!! same quality\, same service\, same vibe as our brick and mortar just brought directly to you. Call or email us today to schedule our donkey.
URL:https://864foodtrucks.com/event/one-eyed-donkey-spring-lake-estates/
LOCATION:Spring Lake Estates\, 406 Jewelwood Drive\, Lyman\, South Carolina
CATEGORIES:Food Truck Schedules,Lyman
ATTACH;FMTTYPE=image/jpeg:https://864foodtrucks.com/wp-content/uploads/2021/05/One-Eyed-Donkey-Food-Truck.jpg
GEO:34.9626099;-82.1366934
X-APPLE-STRUCTURED-LOCATION;VALUE=URI;X-ADDRESS=Spring Lake Estates 406 Jewelwood Drive Lyman South Carolina;X-APPLE-RADIUS=500;X-TITLE=406 Jewelwood Drive:geo:-82.1366934,34.9626099
END:VEVENT
BEGIN:VEVENT
DTSTART;TZID=America/New_York:20230727T173000
DTEND;TZID=America/New_York:20230727T193000
DTSTAMP:20260424T170044
CREATED:20230724T183148Z
LAST-MODIFIED:20230724T183148Z
UID:21068-1690479000-1690486200@864foodtrucks.com
SUMMARY:One Eyed Donkey @ Silver Meadow
DESCRIPTION:#followthedonkey … ji-roz presents the one eyed donkey! fun take on some greek classics ~ on wheels!!! same quality\, same service\, same vibe as our brick and mortar just brought directly to you. Call or email us today to schedule our donkey.
URL:https://864foodtrucks.com/event/one-eyed-donkey-silver-meadow/
LOCATION:Silver Meadows\, Travelers Rest\, South Carolina
CATEGORIES:Food Truck Schedules,Taylors
ATTACH;FMTTYPE=image/jpeg:https://864foodtrucks.com/wp-content/uploads/2021/05/One-Eyed-Donkey-Food-Truck.jpg
GEO:34.9676167;-82.4434548
END:VEVENT
BEGIN:VEVENT
DTSTART;TZID=America/New_York:20230725T180000
DTEND;TZID=America/New_York:20230725T200000
DTSTAMP:20260424T170044
CREATED:20230724T182847Z
LAST-MODIFIED:20230724T182847Z
UID:21064-1690308000-1690315200@864foodtrucks.com
SUMMARY:One Eyed Donkey @ Tetrad Brewing
DESCRIPTION:#followthedonkey … ji-roz presents the one eyed donkey! fun take on some greek classics ~ on wheels!!! same quality\, same service\, same vibe as our brick and mortar just brought directly to you. Call or email us today to schedule our donkey.
URL:https://864foodtrucks.com/event/one-eyed-donkey-tetrad-brewing/
LOCATION:Tetrad Brewing\, 603 E Stone Ave\, Greenville\, SC\, 29601\, United States
CATEGORIES:Food Truck Schedules,Greenville
ATTACH;FMTTYPE=image/jpeg:https://864foodtrucks.com/wp-content/uploads/2021/05/One-Eyed-Donkey-Food-Truck.jpg
GEO:34.8585948;-82.3848082
X-APPLE-STRUCTURED-LOCATION;VALUE=URI;X-ADDRESS=Tetrad Brewing 603 E Stone Ave Greenville SC 29601 United States;X-APPLE-RADIUS=500;X-TITLE=603 E Stone Ave:geo:-82.3848082,34.8585948
END:VEVENT
BEGIN:VEVENT
DTSTART;TZID=America/New_York:20230519T173000
DTEND;TZID=America/New_York:20230519T200000
DTSTAMP:20260424T170044
CREATED:20230517T145124Z
LAST-MODIFIED:20230517T145124Z
UID:19056-1684517400-1684526400@864foodtrucks.com
SUMMARY:One Eyed Donkey @ Sugar Creek Swim Kick Off
DESCRIPTION:#followthedonkey … ji-roz presents the one eyed donkey! fun take on some greek classics ~ on wheels!!! same quality\, same service\, same vibe as our brick and mortar just brought directly to you. Call or email us today to schedule our donkey.
URL:https://864foodtrucks.com/event/one-eyed-donkey-sugar-creek-swim-kick-off/
LOCATION:Silverleaf/Sugar Creek\, 2 w shefford St\, Greer\, SC\, 29650\, United States
CATEGORIES:Food Truck Schedules,Greer
ATTACH;FMTTYPE=image/jpeg:https://864foodtrucks.com/wp-content/uploads/2021/05/One-Eyed-Donkey-Food-Truck.jpg
GEO:34.893074;-82.287816
X-APPLE-STRUCTURED-LOCATION;VALUE=URI;X-ADDRESS=Silverleaf/Sugar Creek 2 w shefford St Greer SC 29650 United States;X-APPLE-RADIUS=500;X-TITLE=2 w shefford St:geo:-82.287816,34.893074
END:VEVENT
BEGIN:VEVENT
DTSTART;TZID=America/New_York:20230518T173000
DTEND;TZID=America/New_York:20230518T193000
DTSTAMP:20260424T170044
CREATED:20230517T144752Z
LAST-MODIFIED:20230517T144752Z
UID:19054-1684431000-1684438200@864foodtrucks.com
SUMMARY:One Eyed Donkey @ Orchard Farms
DESCRIPTION:#followthedonkey … ji-roz presents the one eyed donkey! fun take on some greek classics ~ on wheels!!! same quality\, same service\, same vibe as our brick and mortar just brought directly to you. Call or email us today to schedule our donkey.
URL:https://864foodtrucks.com/event/one-eyed-donkey-orchard-farms/
LOCATION:Orchard Farms\, Simpsonville
CATEGORIES:Food Truck Schedules,Greenville
ATTACH;FMTTYPE=image/jpeg:https://864foodtrucks.com/wp-content/uploads/2021/05/One-Eyed-Donkey-Food-Truck.jpg
GEO:34.7370639;-82.2542834
END:VEVENT
BEGIN:VEVENT
DTSTART;TZID=America/New_York:20230506T150000
DTEND;TZID=America/New_York:20230506T200000
DTSTAMP:20260424T170044
CREATED:20230502T214549Z
LAST-MODIFIED:20230502T214549Z
UID:18697-1683385200-1683403200@864foodtrucks.com
SUMMARY:One Eyed Donkey @ Rhythm on the River
DESCRIPTION:#followthedonkey … ji-roz presents the one eyed donkey! fun take on some greek classics ~ on wheels!!! same quality\, same service\, same vibe as our brick and mortar just brought directly to you. Call or email us today to schedule our donkey.
URL:https://864foodtrucks.com/event/one-eyed-donkey-rhythm-on-the-river/
LOCATION:Rhythm on the River\, 107 Spearman Circle\, Powdersville\, SC\, United States
CATEGORIES:Food Truck Schedules,Greenville
ATTACH;FMTTYPE=image/jpeg:https://864foodtrucks.com/wp-content/uploads/2021/05/One-Eyed-Donkey-Food-Truck.jpg
END:VEVENT
BEGIN:VEVENT
DTSTART;TZID=America/New_York:20230504T113000
DTEND;TZID=America/New_York:20230504T133000
DTSTAMP:20260424T170044
CREATED:20230502T213735Z
LAST-MODIFIED:20231004T214047Z
UID:18695-1683199800-1683207000@864foodtrucks.com
SUMMARY:One Eyed Donkey @ BJU Press
DESCRIPTION:#followthedonkey … ji-roz presents the one eyed donkey! fun take on some greek classics ~ on wheels!!! same quality\, same service\, same vibe as our brick and mortar just brought directly to you. Call or email us today to schedule our donkey.
URL:https://864foodtrucks.com/event/one-eyed-donkey-bju-press/2023-05-04/
LOCATION:BJU Press\, 1430 Wade Hampton Blvd\, Greenville\, South Carolina\, 29609
CATEGORIES:Food Truck Schedules,Greenville
ATTACH;FMTTYPE=image/jpeg:https://864foodtrucks.com/wp-content/uploads/2021/05/One-Eyed-Donkey-Food-Truck.jpg
GEO:34.8715847;-82.369853
X-APPLE-STRUCTURED-LOCATION;VALUE=URI;X-ADDRESS=BJU Press 1430 Wade Hampton Blvd Greenville South Carolina 29609;X-APPLE-RADIUS=500;X-TITLE=1430 Wade Hampton Blvd:geo:-82.369853,34.8715847
END:VEVENT
BEGIN:VEVENT
DTSTART;TZID=America/New_York:20230224T100000
DTEND;TZID=America/New_York:20230224T130000
DTSTAMP:20260424T170044
CREATED:20230220T182039Z
LAST-MODIFIED:20230220T182039Z
UID:16972-1677232800-1677243600@864foodtrucks.com
SUMMARY:One Eyed Donkey @ Bell's Crossing Elementary
DESCRIPTION:#followthedonkey … ji-roz presents the one eyed donkey! fun take on some greek classics ~ on wheels!!! same quality\, same service\, same vibe as our brick and mortar just brought directly to you. Call or email us today to schedule our donkey.
URL:https://864foodtrucks.com/event/one-eyed-donkey-bells-crossing-elementary/
LOCATION:Bell’s Crossing Elementary\, 804 Scuffletown Rd\, Simpsonville\, SC\, United States
CATEGORIES:Food Truck Schedules,Simpsonville
ATTACH;FMTTYPE=image/jpeg:https://864foodtrucks.com/wp-content/uploads/2021/05/One-Eyed-Donkey-Food-Truck.jpg
END:VEVENT
BEGIN:VEVENT
DTSTART;TZID=America/New_York:20230223T110000
DTEND;TZID=America/New_York:20230223T130000
DTSTAMP:20260424T170044
CREATED:20230220T181840Z
LAST-MODIFIED:20230327T184553Z
UID:16970-1677150000-1677157200@864foodtrucks.com
SUMMARY:One Eyed Donkey @ Blood Connection
DESCRIPTION:#followthedonkey … ji-roz presents the one eyed donkey! fun take on some greek classics ~ on wheels!!! same quality\, same service\, same vibe as our brick and mortar just brought directly to you. Call or email us today to schedule our donkey.
URL:https://864foodtrucks.com/event/one-eyed-donkey-blood-connection-2/2023-02-23/
LOCATION:Blood Connection\, 1099 Bracken Rd\, Piedmont\, South Carolina
CATEGORIES:Food Truck Schedules,Greenville
ATTACH;FMTTYPE=image/jpeg:https://864foodtrucks.com/wp-content/uploads/2021/05/One-Eyed-Donkey-Food-Truck.jpg
GEO:34.7474256;-82.408823
X-APPLE-STRUCTURED-LOCATION;VALUE=URI;X-ADDRESS=Blood Connection 1099 Bracken Rd Piedmont South Carolina;X-APPLE-RADIUS=500;X-TITLE=1099 Bracken Rd:geo:-82.408823,34.7474256
END:VEVENT
BEGIN:VEVENT
DTSTART;TZID=America/New_York:20230221T110000
DTEND;TZID=America/New_York:20230221T140000
DTSTAMP:20260424T170044
CREATED:20230220T181601Z
LAST-MODIFIED:20230801T182518Z
UID:16967-1676977200-1676988000@864foodtrucks.com
SUMMARY:One Eyed Donkey @ Prisma Cardiology
DESCRIPTION:#followthedonkey … ji-roz presents the one eyed donkey! fun take on some greek classics ~ on wheels!!! same quality\, same service\, same vibe as our brick and mortar just brought directly to you. Call or email us today to schedule our donkey.
URL:https://864foodtrucks.com/event/one-eyed-donkey-prisma-cardiology/2023-02-21/
LOCATION:Prisma Cardiology\, 1005 Grove Rd\, Greenville
CATEGORIES:Food Truck Schedules,Greenville
ATTACH;FMTTYPE=image/jpeg:https://864foodtrucks.com/wp-content/uploads/2021/05/One-Eyed-Donkey-Food-Truck.jpg
END:VEVENT
BEGIN:VEVENT
DTSTART;TZID=America/New_York:20230112T103000
DTEND;TZID=America/New_York:20230112T133000
DTSTAMP:20260424T170044
CREATED:20230109T204326Z
LAST-MODIFIED:20230502T212930Z
UID:16043-1673519400-1673530200@864foodtrucks.com
SUMMARY:One Eyed Donkey @ Richard H Gettys Middle School
DESCRIPTION:#followthedonkey … ji-roz presents the one eyed donkey! fun take on some greek classics ~ on wheels!!! same quality\, same service\, same vibe as our brick and mortar just brought directly to you. Call or email us today to schedule our donkey.
URL:https://864foodtrucks.com/event/one-eyed-donkey-richard-h-gettys-middle-school/2023-01-12/
LOCATION:Richard H Gettys Middle School\, 510 S Pendleton St\, Easley\, SC\, United States
CATEGORIES:Easley,Food Truck Schedules
ATTACH;FMTTYPE=image/jpeg:https://864foodtrucks.com/wp-content/uploads/2021/05/One-Eyed-Donkey-Food-Truck.jpg
END:VEVENT
BEGIN:VEVENT
DTSTART;TZID=America/New_York:20221202T160000
DTEND;TZID=America/New_York:20221202T210000
DTSTAMP:20260424T170044
CREATED:20221128T201325Z
LAST-MODIFIED:20221128T201325Z
UID:15059-1669996800-1670014800@864foodtrucks.com
SUMMARY:One Eyed Donkey @ Bob Jones Christmas Lighting
DESCRIPTION:#followthedonkey … ji-roz presents the one eyed donkey! fun take on some greek classics ~ on wheels!!! same quality\, same service\, same vibe as our brick and mortar just brought directly to you. Call or email us today to schedule our donkey.
URL:https://864foodtrucks.com/event/one-eyed-donkey-bob-jones-christmas-lighting/
LOCATION:Bob Jones University\, Wade Hampton Blvd\, Greenville\, South Carolina
CATEGORIES:Food Truck Schedules,Greenville
ATTACH;FMTTYPE=image/jpeg:https://864foodtrucks.com/wp-content/uploads/2021/05/One-Eyed-Donkey-Food-Truck.jpg
GEO:34.8752958;-82.3661448
X-APPLE-STRUCTURED-LOCATION;VALUE=URI;X-ADDRESS=Bob Jones University Wade Hampton Blvd Greenville South Carolina;X-APPLE-RADIUS=500;X-TITLE=Wade Hampton Blvd:geo:-82.3661448,34.8752958
END:VEVENT
BEGIN:VEVENT
DTSTART;TZID=America/New_York:20221201T110000
DTEND;TZID=America/New_York:20221201T130000
DTSTAMP:20260424T170044
CREATED:20221128T201854Z
LAST-MODIFIED:20230125T195108Z
UID:15061-1669892400-1669899600@864foodtrucks.com
SUMMARY:One Eyed Donkey @ Blood Connection
DESCRIPTION:#followthedonkey … ji-roz presents the one eyed donkey! fun take on some greek classics ~ on wheels!!! same quality\, same service\, same vibe as our brick and mortar just brought directly to you. Call or email us today to schedule our donkey.
URL:https://864foodtrucks.com/event/one-eyed-donkey-blood-connection/2022-12-01/
LOCATION:Blood Connection\, 1099 Bracken Rd\, Piedmont\, South Carolina
CATEGORIES:Food Truck Schedules,Piedmont
ATTACH;FMTTYPE=image/jpeg:https://864foodtrucks.com/wp-content/uploads/2021/05/One-Eyed-Donkey-Food-Truck.jpg
GEO:34.7474256;-82.408823
X-APPLE-STRUCTURED-LOCATION;VALUE=URI;X-ADDRESS=Blood Connection 1099 Bracken Rd Piedmont South Carolina;X-APPLE-RADIUS=500;X-TITLE=1099 Bracken Rd:geo:-82.408823,34.7474256
END:VEVENT
BEGIN:VEVENT
DTSTART;TZID=America/New_York:20221109T173000
DTEND;TZID=America/New_York:20221109T193000
DTSTAMP:20260424T170044
CREATED:20221107T171729Z
LAST-MODIFIED:20230820T232317Z
UID:14443-1668015000-1668022200@864foodtrucks.com
SUMMARY:One Eyed Donkey @ Community Tap
DESCRIPTION:#followthedonkey … ji-roz presents the one eyed donkey! fun take on some greek classics ~ on wheels!!! same quality\, same service\, same vibe as our brick and mortar just brought directly to you. Call or email us today to schedule our donkey.
URL:https://864foodtrucks.com/event/one-eyed-donkey-community-tap-2/2022-11-09/
LOCATION:The Community Tap\, 217 Wade Hampton Blvd\, Greenville\, South Carolina
CATEGORIES:Food Truck Schedules,Greenville
ATTACH;FMTTYPE=image/jpeg:https://864foodtrucks.com/wp-content/uploads/2021/05/One-Eyed-Donkey-Food-Truck.jpg
GEO:34.8625763;-82.3857613
X-APPLE-STRUCTURED-LOCATION;VALUE=URI;X-ADDRESS=The Community Tap 217 Wade Hampton Blvd Greenville South Carolina;X-APPLE-RADIUS=500;X-TITLE=217 Wade Hampton Blvd:geo:-82.3857613,34.8625763
END:VEVENT
BEGIN:VEVENT
DTSTART;TZID=America/New_York:20221109T113000
DTEND;TZID=America/New_York:20221109T133000
DTSTAMP:20260424T170044
CREATED:20221107T171407Z
LAST-MODIFIED:20221107T171407Z
UID:14424-1667993400-1668000600@864foodtrucks.com
SUMMARY:One Eyed Donkey @ Patewood
DESCRIPTION:#followthedonkey … ji-roz presents the one eyed donkey! fun take on some greek classics ~ on wheels!!! same quality\, same service\, same vibe as our brick and mortar just brought directly to you. Call or email us today to schedule our donkey.
URL:https://864foodtrucks.com/event/one-eyed-donkey-patewood/
LOCATION:Patewood Office Park\, 30 Patewood Drive\, Greenville\, South Carolina
CATEGORIES:Food Truck Schedules,Greenville
ATTACH;FMTTYPE=image/jpeg:https://864foodtrucks.com/wp-content/uploads/2021/05/One-Eyed-Donkey-Food-Truck.jpg
GEO:34.8494568;-82.3233995
X-APPLE-STRUCTURED-LOCATION;VALUE=URI;X-ADDRESS=Patewood Office Park 30 Patewood Drive Greenville South Carolina;X-APPLE-RADIUS=500;X-TITLE=30 Patewood Drive:geo:-82.3233995,34.8494568
END:VEVENT
END:VCALENDAR