BEGIN:VCALENDAR
VERSION:2.0
PRODID:-//864 Food Trucks - ECPv6.15.20//NONSGML v1.0//EN
CALSCALE:GREGORIAN
METHOD:PUBLISH
X-ORIGINAL-URL:https://864foodtrucks.com
X-WR-CALDESC:Events for 864 Food Trucks
REFRESH-INTERVAL;VALUE=DURATION:PT1H
X-Robots-Tag:noindex
X-PUBLISHED-TTL:PT1H
BEGIN:VTIMEZONE
TZID:America/New_York
BEGIN:DAYLIGHT
TZOFFSETFROM:-0500
TZOFFSETTO:-0400
TZNAME:EDT
DTSTART:20210314T070000
END:DAYLIGHT
BEGIN:STANDARD
TZOFFSETFROM:-0400
TZOFFSETTO:-0500
TZNAME:EST
DTSTART:20211107T060000
END:STANDARD
BEGIN:DAYLIGHT
TZOFFSETFROM:-0500
TZOFFSETTO:-0400
TZNAME:EDT
DTSTART:20220313T070000
END:DAYLIGHT
BEGIN:STANDARD
TZOFFSETFROM:-0400
TZOFFSETTO:-0500
TZNAME:EST
DTSTART:20221106T060000
END:STANDARD
BEGIN:DAYLIGHT
TZOFFSETFROM:-0500
TZOFFSETTO:-0400
TZNAME:EDT
DTSTART:20230312T070000
END:DAYLIGHT
BEGIN:STANDARD
TZOFFSETFROM:-0400
TZOFFSETTO:-0500
TZNAME:EST
DTSTART:20231105T060000
END:STANDARD
BEGIN:DAYLIGHT
TZOFFSETFROM:-0500
TZOFFSETTO:-0400
TZNAME:EDT
DTSTART:20240310T070000
END:DAYLIGHT
BEGIN:STANDARD
TZOFFSETFROM:-0400
TZOFFSETTO:-0500
TZNAME:EST
DTSTART:20241103T060000
END:STANDARD
BEGIN:DAYLIGHT
TZOFFSETFROM:-0500
TZOFFSETTO:-0400
TZNAME:EDT
DTSTART:20250309T070000
END:DAYLIGHT
BEGIN:STANDARD
TZOFFSETFROM:-0400
TZOFFSETTO:-0500
TZNAME:EST
DTSTART:20251102T060000
END:STANDARD
BEGIN:DAYLIGHT
TZOFFSETFROM:-0500
TZOFFSETTO:-0400
TZNAME:EDT
DTSTART:20260308T070000
END:DAYLIGHT
BEGIN:STANDARD
TZOFFSETFROM:-0400
TZOFFSETTO:-0500
TZNAME:EST
DTSTART:20261101T060000
END:STANDARD
END:VTIMEZONE
BEGIN:VEVENT
DTSTART;TZID=America/New_York:20250322T100000
DTEND;TZID=America/New_York:20250322T140000
DTSTAMP:20260424T035848
CREATED:20250319T175957Z
LAST-MODIFIED:20250319T175957Z
UID:43159-1742637600-1742652000@864foodtrucks.com
SUMMARY:Rad Dad's BBQ @ Trucks on Main Anderson
DESCRIPTION:We at Rad Dad’s are determined to bring the best BBQ and friendliest service possible. If there is one thing we love more than slow cooked BBQ it’s people! We want to bring family and friends together because that’s what BBQ truly represents.
URL:https://864foodtrucks.com/event/rad-dads-bbq-trucks-on-main-anderson/
LOCATION:Downtown Anderson\, Anderson\, South Carolina
CATEGORIES:Anderson,Food Truck Schedules
ATTACH;FMTTYPE=image/jpeg:https://864foodtrucks.com/wp-content/uploads/2021/05/Rad-Dads-BBQ-and-Catering-Truck.jpg
ORGANIZER;CN="Rad Dad's BBQ and Catering":MAILTO:info@raddadsbbq.com
GEO:34.5034394;-82.6501332
END:VEVENT
BEGIN:VEVENT
DTSTART;TZID=America/New_York:20241122T173000
DTEND;TZID=America/New_York:20241122T173000
DTSTAMP:20260424T035848
CREATED:20241119T195357Z
LAST-MODIFIED:20241119T195357Z
UID:40012-1732296600-1732296600@864foodtrucks.com
SUMMARY:Rad Dad's BBQ @ Piney Mountain Bike Lounge
DESCRIPTION:We at Rad Dad’s are determined to bring the best BBQ and friendliest service possible. If there is one thing we love more than slow cooked BBQ it’s people! We want to bring family and friends together because that’s what BBQ truly represents.
URL:https://864foodtrucks.com/event/rad-dads-bbq-piney-mountain-bike-lounge/
LOCATION:Piney Mountain Bike Lounge\, 20 Piney Mountain Rd\, Greenville\, South Carolina
CATEGORIES:Food Truck Schedules,Greenville
ATTACH;FMTTYPE=image/jpeg:https://864foodtrucks.com/wp-content/uploads/2021/05/Rad-Dads-BBQ-and-Catering-Truck.jpg
ORGANIZER;CN="Rad Dad's BBQ and Catering":MAILTO:info@raddadsbbq.com
GEO:34.8913881;-82.373773
X-APPLE-STRUCTURED-LOCATION;VALUE=URI;X-ADDRESS=Piney Mountain Bike Lounge 20 Piney Mountain Rd Greenville South Carolina;X-APPLE-RADIUS=500;X-TITLE=20 Piney Mountain Rd:geo:-82.373773,34.8913881
END:VEVENT
BEGIN:VEVENT
DTSTART;TZID=America/New_York:20240430T120000
DTEND;TZID=America/New_York:20240430T200000
DTSTAMP:20260424T035848
CREATED:20240425T161658Z
LAST-MODIFIED:20241106T002403Z
UID:27519-1714478400-1714507200@864foodtrucks.com
SUMMARY:Rad Dad's BBQ @ Scuffletown
DESCRIPTION:We at Rad Dad’s are determined to bring the best BBQ and friendliest service possible. If there is one thing we love more than slow cooked BBQ it’s people! We want to bring family and friends together because that’s what BBQ truly represents.
URL:https://864foodtrucks.com/event/rad-dads-bbq-scuffletown-3/2024-04-30/
LOCATION:Scuffletown Food Truck Park\, Ladean Court 206\, Simpsonville\, South Carolina\, 29680\, United States
CATEGORIES:Food Truck Schedules,Simpsonville
ATTACH;FMTTYPE=image/jpeg:https://864foodtrucks.com/wp-content/uploads/2021/05/Rad-Dads-BBQ-and-Catering-Truck.jpg
ORGANIZER;CN="Rad Dad's BBQ and Catering":MAILTO:info@raddadsbbq.com
GEO:34.7127674;-82.2550282
X-APPLE-STRUCTURED-LOCATION;VALUE=URI;X-ADDRESS=Scuffletown Food Truck Park Ladean Court 206 Simpsonville South Carolina 29680 United States;X-APPLE-RADIUS=500;X-TITLE=Ladean Court 206:geo:-82.2550282,34.7127674
END:VEVENT
BEGIN:VEVENT
DTSTART;TZID=America/New_York:20240427T100000
DTEND;TZID=America/New_York:20240427T100000
DTSTAMP:20260424T035848
CREATED:20240425T155521Z
LAST-MODIFIED:20240425T155521Z
UID:27510-1714212000-1714212000@864foodtrucks.com
SUMMARY:Rad Dad's BBQ @ Anderson Soiree
DESCRIPTION:We at Rad Dad’s are determined to bring the best BBQ and friendliest service possible. If there is one thing we love more than slow cooked BBQ it’s people! We want to bring family and friends together because that’s what BBQ truly represents.
URL:https://864foodtrucks.com/event/rad-dads-bbq-anderson-soiree/
LOCATION:Downtown Anderson\, Anderson\, South Carolina
CATEGORIES:Anderson,Food Truck Schedules
ATTACH;FMTTYPE=image/jpeg:https://864foodtrucks.com/wp-content/uploads/2021/05/Rad-Dads-BBQ-and-Catering-Truck.jpg
ORGANIZER;CN="Rad Dad's BBQ and Catering":MAILTO:info@raddadsbbq.com
GEO:34.5034394;-82.6501332
END:VEVENT
BEGIN:VEVENT
DTSTART;TZID=America/New_York:20240426T180000
DTEND;TZID=America/New_York:20240426T220000
DTSTAMP:20260424T035848
CREATED:20240425T155354Z
LAST-MODIFIED:20240425T155354Z
UID:27508-1714154400-1714168800@864foodtrucks.com
SUMMARY:Rad Dad's BBQ @ Picken's Azalea Festival
DESCRIPTION:We at Rad Dad’s are determined to bring the best BBQ and friendliest service possible. If there is one thing we love more than slow cooked BBQ it’s people! We want to bring family and friends together because that’s what BBQ truly represents.
URL:https://864foodtrucks.com/event/rad-dads-bbq-pickens-azalea-festival/
LOCATION:Pickens Azalea Festival\, 208 Johnson St\, Pickens\, SC\, United States
CATEGORIES:Food Truck Schedules,Pickens
ATTACH;FMTTYPE=image/jpeg:https://864foodtrucks.com/wp-content/uploads/2021/05/Rad-Dads-BBQ-and-Catering-Truck.jpg
ORGANIZER;CN="Rad Dad's BBQ and Catering":MAILTO:info@raddadsbbq.com
END:VEVENT
BEGIN:VEVENT
DTSTART;TZID=America/New_York:20240313T110000
DTEND;TZID=America/New_York:20240313T200000
DTSTAMP:20260424T035848
CREATED:20240311T141126Z
LAST-MODIFIED:20240311T141126Z
UID:26733-1710327600-1710360000@864foodtrucks.com
SUMMARY:Rad Dad's BBQ @ Scuffletown
DESCRIPTION:We at Rad Dad’s are determined to bring the best BBQ and friendliest service possible. If there is one thing we love more than slow cooked BBQ it’s people! We want to bring family and friends together because that’s what BBQ truly represents.
URL:https://864foodtrucks.com/event/rad-dads-bbq-scuffletown-2/2024-03-13/
LOCATION:Scuffletown Food Truck Park\, Ladean Court 206\, Simpsonville\, South Carolina\, 29680\, United States
CATEGORIES:Food Truck Schedules,Simpsonville
ATTACH;FMTTYPE=image/jpeg:https://864foodtrucks.com/wp-content/uploads/2021/05/Rad-Dads-BBQ-and-Catering-Truck.jpg
ORGANIZER;CN="Rad Dad's BBQ and Catering":MAILTO:info@raddadsbbq.com
GEO:34.7127674;-82.2550282
X-APPLE-STRUCTURED-LOCATION;VALUE=URI;X-ADDRESS=Scuffletown Food Truck Park Ladean Court 206 Simpsonville South Carolina 29680 United States;X-APPLE-RADIUS=500;X-TITLE=Ladean Court 206:geo:-82.2550282,34.7127674
END:VEVENT
BEGIN:VEVENT
DTSTART;TZID=America/New_York:20231221T110000
DTEND;TZID=America/New_York:20231221T210000
DTSTAMP:20260424T035848
CREATED:20231219T021849Z
LAST-MODIFIED:20240226T192011Z
UID:24688-1703156400-1703192400@864foodtrucks.com
SUMMARY:Rad Dad's BBQ @ Scuffletown
DESCRIPTION:We at Rad Dad’s are determined to bring the best BBQ and friendliest service possible. If there is one thing we love more than slow cooked BBQ it’s people! We want to bring family and friends together because that’s what BBQ truly represents.
URL:https://864foodtrucks.com/event/rad-dads-bbq-scuffletown/2023-12-21/
LOCATION:Scuffletown Food Truck Park\, Ladean Court 206\, Simpsonville\, South Carolina\, 29680\, United States
CATEGORIES:Food Truck Schedules,Simpsonville
ATTACH;FMTTYPE=image/jpeg:https://864foodtrucks.com/wp-content/uploads/2021/05/Rad-Dads-BBQ-and-Catering-Truck.jpg
ORGANIZER;CN="Rad Dad's BBQ and Catering":MAILTO:info@raddadsbbq.com
GEO:34.7127674;-82.2550282
X-APPLE-STRUCTURED-LOCATION;VALUE=URI;X-ADDRESS=Scuffletown Food Truck Park Ladean Court 206 Simpsonville South Carolina 29680 United States;X-APPLE-RADIUS=500;X-TITLE=Ladean Court 206:geo:-82.2550282,34.7127674
END:VEVENT
BEGIN:VEVENT
DTSTART;TZID=America/New_York:20231124T103000
DTEND;TZID=America/New_York:20231124T103000
DTSTAMP:20260424T035848
CREATED:20231122T164153Z
LAST-MODIFIED:20231122T164153Z
UID:24259-1700821800-1700821800@864foodtrucks.com
SUMMARY:Rad Dad's BBQ @ The Kitchen Emporium
DESCRIPTION:We at Rad Dad’s are determined to bring the best BBQ and friendliest service possible. If there is one thing we love more than slow cooked BBQ it’s people! We want to bring family and friends together because that’s what BBQ truly represents.
URL:https://864foodtrucks.com/event/rad-dads-bbq-the-kitchen-emporium-2/
LOCATION:The Kitchen Emporium\, 418 N Main St\, Anderson\, South Carolina
CATEGORIES:Anderson,Food Truck Schedules
ATTACH;FMTTYPE=image/jpeg:https://864foodtrucks.com/wp-content/uploads/2021/05/Rad-Dads-BBQ-and-Catering-Truck.jpg
ORGANIZER;CN="Rad Dad's BBQ and Catering":MAILTO:info@raddadsbbq.com
GEO:34.5066776;-82.6506018
X-APPLE-STRUCTURED-LOCATION;VALUE=URI;X-ADDRESS=The Kitchen Emporium 418 N Main St Anderson South Carolina;X-APPLE-RADIUS=500;X-TITLE=418 N Main St:geo:-82.6506018,34.5066776
END:VEVENT
BEGIN:VEVENT
DTSTART;TZID=America/New_York:20230622T170000
DTEND;TZID=America/New_York:20230622T200000
DTSTAMP:20260424T035848
CREATED:20230621T175442Z
LAST-MODIFIED:20230913T124637Z
UID:19890-1687453200-1687464000@864foodtrucks.com
SUMMARY:Rad Dad's BBQ @ Gypsy Wine Bar
DESCRIPTION:We at Rad Dad’s are determined to bring the best BBQ and friendliest service possible. If there is one thing we love more than slow cooked BBQ it’s people! We want to bring family and friends together because that’s what BBQ truly represents.
URL:https://864foodtrucks.com/event/rad-dads-bbq-gypsy-wine-bar/2023-06-22/
LOCATION:The Gypsy Wine Bar\, 168 Exchange St\, Pendleton\, South Carolina
CATEGORIES:Food Truck Schedules,Pendleton
ATTACH;FMTTYPE=image/jpeg:https://864foodtrucks.com/wp-content/uploads/2021/05/Rad-Dads-BBQ-and-Catering-Truck.jpg
ORGANIZER;CN="Rad Dad's BBQ and Catering":MAILTO:info@raddadsbbq.com
GEO:34.6513941;-82.7830173
X-APPLE-STRUCTURED-LOCATION;VALUE=URI;X-ADDRESS=The Gypsy Wine Bar 168 Exchange St Pendleton South Carolina;X-APPLE-RADIUS=500;X-TITLE=168 Exchange St:geo:-82.7830173,34.6513941
END:VEVENT
BEGIN:VEVENT
DTSTART;TZID=America/New_York:20230331T170000
DTEND;TZID=America/New_York:20230331T200000
DTSTAMP:20260424T035848
CREATED:20230330T181356Z
LAST-MODIFIED:20231122T164019Z
UID:17909-1680282000-1680292800@864foodtrucks.com
SUMMARY:Rad Dad's BBQ @ WineXpress
DESCRIPTION:We at Rad Dad’s are determined to bring the best BBQ and friendliest service possible. If there is one thing we love more than slow cooked BBQ it’s people! We want to bring family and friends together because that’s what BBQ truly represents.
URL:https://864foodtrucks.com/event/rad-dads-bbq-winexpress/2023-03-31/
LOCATION:WineXpress Anderson Location\, 109 E Greenville St\, Anderson\, SC\, United States
CATEGORIES:Anderson,Food Truck Schedules
ATTACH;FMTTYPE=image/jpeg:https://864foodtrucks.com/wp-content/uploads/2021/05/Rad-Dads-BBQ-and-Catering-Truck.jpg
ORGANIZER;CN="Rad Dad's BBQ and Catering":MAILTO:info@raddadsbbq.com
GEO:34.5098541;-82.6509805
X-APPLE-STRUCTURED-LOCATION;VALUE=URI;X-ADDRESS=WineXpress Anderson Location 109 E Greenville St Anderson SC United States;X-APPLE-RADIUS=500;X-TITLE=109 E Greenville St:geo:-82.6509805,34.5098541
END:VEVENT
BEGIN:VEVENT
DTSTART;TZID=America/New_York:20230310T170000
DTEND;TZID=America/New_York:20230310T200000
DTSTAMP:20260424T035848
CREATED:20230308T193818Z
LAST-MODIFIED:20231030T132338Z
UID:17356-1678467600-1678478400@864foodtrucks.com
SUMMARY:Rad Dad's BBQ @ The Kitchen Emporium
DESCRIPTION:We at Rad Dad’s are determined to bring the best BBQ and friendliest service possible. If there is one thing we love more than slow cooked BBQ it’s people! We want to bring family and friends together because that’s what BBQ truly represents.
URL:https://864foodtrucks.com/event/rad-dads-bbq-the-kitchen-emporium/2023-03-10/
LOCATION:The Kitchen Emporium\, 418 N Main St\, Anderson\, South Carolina
CATEGORIES:Anderson,Food Truck Schedules
ATTACH;FMTTYPE=image/jpeg:https://864foodtrucks.com/wp-content/uploads/2021/05/Rad-Dads-BBQ-and-Catering-Truck.jpg
ORGANIZER;CN="Rad Dad's BBQ and Catering":MAILTO:info@raddadsbbq.com
GEO:34.5066776;-82.6506018
X-APPLE-STRUCTURED-LOCATION;VALUE=URI;X-ADDRESS=The Kitchen Emporium 418 N Main St Anderson South Carolina;X-APPLE-RADIUS=500;X-TITLE=418 N Main St:geo:-82.6506018,34.5066776
END:VEVENT
BEGIN:VEVENT
DTSTART;TZID=America/New_York:20230309T170000
DTEND;TZID=America/New_York:20230309T193000
DTSTAMP:20260424T035848
CREATED:20230308T193455Z
LAST-MODIFIED:20230308T193455Z
UID:17354-1678381200-1678390200@864foodtrucks.com
SUMMARY:Rad Dad's BBQ @ Creekwood
DESCRIPTION:We at Rad Dad’s are determined to bring the best BBQ and friendliest service possible. If there is one thing we love more than slow cooked BBQ it’s people! We want to bring family and friends together because that’s what BBQ truly represents.
URL:https://864foodtrucks.com/event/rad-dads-bbq-creekwood/
LOCATION:Creekwood\, 2 Creek Shoals Dr\, Simpsonville\, South Carolina
CATEGORIES:Food Truck Schedules,Simpsonville
ATTACH;FMTTYPE=image/jpeg:https://864foodtrucks.com/wp-content/uploads/2021/05/Rad-Dads-BBQ-and-Catering-Truck.jpg
ORGANIZER;CN="Rad Dad's BBQ and Catering":MAILTO:info@raddadsbbq.com
GEO:34.7963553;-82.1907998
X-APPLE-STRUCTURED-LOCATION;VALUE=URI;X-ADDRESS=Creekwood 2 Creek Shoals Dr Simpsonville South Carolina;X-APPLE-RADIUS=500;X-TITLE=2 Creek Shoals Dr:geo:-82.1907998,34.7963553
END:VEVENT
BEGIN:VEVENT
DTSTART;TZID=America/New_York:20230211T173000
DTEND;TZID=America/New_York:20230211T193000
DTSTAMP:20260424T035848
CREATED:20230209T190829Z
LAST-MODIFIED:20230209T190829Z
UID:16680-1676136600-1676143800@864foodtrucks.com
SUMMARY:Rad Dad's BBQ @ Lincoln Tap Room
DESCRIPTION:We at Rad Dad’s are determined to bring the best BBQ and friendliest service possible. If there is one thing we love more than slow cooked BBQ it’s people! We want to bring family and friends together because that’s what BBQ truly represents.
URL:https://864foodtrucks.com/event/rad-dads-bbq-lincoln-tap-room/
LOCATION:Lincoln Taproom\, 28A Main St\, Pelzer\, South Carolina\, 29669
CATEGORIES:Food Truck Schedules,Pelzer
ATTACH;FMTTYPE=image/jpeg:https://864foodtrucks.com/wp-content/uploads/2021/05/Rad-Dads-BBQ-and-Catering-Truck.jpg
ORGANIZER;CN="Rad Dad's BBQ and Catering":MAILTO:info@raddadsbbq.com
GEO:34.644879;-82.4683195
X-APPLE-STRUCTURED-LOCATION;VALUE=URI;X-ADDRESS=Lincoln Taproom 28A Main St Pelzer South Carolina 29669;X-APPLE-RADIUS=500;X-TITLE=28A Main St:geo:-82.4683195,34.644879
END:VEVENT
BEGIN:VEVENT
DTSTART;TZID=America/New_York:20230211T120000
DTEND;TZID=America/New_York:20230211T170000
DTSTAMP:20260424T035848
CREATED:20230209T190306Z
LAST-MODIFIED:20230913T124646Z
UID:16678-1676116800-1676134800@864foodtrucks.com
SUMMARY:Rad Dad's BBQ @ City Scape Winery
DESCRIPTION:We at Rad Dad’s are determined to bring the best BBQ and friendliest service possible. If there is one thing we love more than slow cooked BBQ it’s people! We want to bring family and friends together because that’s what BBQ truly represents.
URL:https://864foodtrucks.com/event/rad-dads-bbq-city-scape-winery/2023-02-11/
LOCATION:City Scape Winery\, 589 Dunklin Bridge Rd\, Pelzer\, South Carolina
CATEGORIES:Food Truck Schedules,Pelzer
ATTACH;FMTTYPE=image/jpeg:https://864foodtrucks.com/wp-content/uploads/2021/05/Rad-Dads-BBQ-and-Catering-Truck.jpg
ORGANIZER;CN="Rad Dad's BBQ and Catering":MAILTO:info@raddadsbbq.com
GEO:34.6006559;-82.316679
X-APPLE-STRUCTURED-LOCATION;VALUE=URI;X-ADDRESS=City Scape Winery 589 Dunklin Bridge Rd Pelzer South Carolina;X-APPLE-RADIUS=500;X-TITLE=589 Dunklin Bridge Rd:geo:-82.316679,34.6006559
END:VEVENT
BEGIN:VEVENT
DTSTART;TZID=America/New_York:20230210T190000
DTEND;TZID=America/New_York:20230210T220000
DTSTAMP:20260424T035848
CREATED:20230209T185916Z
LAST-MODIFIED:20230209T185916Z
UID:16676-1676055600-1676066400@864foodtrucks.com
SUMMARY:Rad Dad's BBQ @ 13 Stripes Brewing
DESCRIPTION:We at Rad Dad’s are determined to bring the best BBQ and friendliest service possible. If there is one thing we love more than slow cooked BBQ it’s people! We want to bring family and friends together because that’s what BBQ truly represents.
URL:https://864foodtrucks.com/event/rad-dads-bbq-13-stripes-brewing/
LOCATION:13 Stripes Brewery\, 250 Mill Street\, Ste PW3101 Dock Print Works No\, 3\, Taylors\, South Carolina
CATEGORIES:Food Truck Schedules,Taylors
ATTACH;FMTTYPE=image/jpeg:https://864foodtrucks.com/wp-content/uploads/2021/05/Rad-Dads-BBQ-and-Catering-Truck.jpg
ORGANIZER;CN="Rad Dad's BBQ and Catering":MAILTO:info@raddadsbbq.com
GEO:34.9197401;-82.2845935
X-APPLE-STRUCTURED-LOCATION;VALUE=URI;X-ADDRESS=13 Stripes Brewery 250 Mill Street Ste PW3101 Dock Print Works No 3 Taylors South Carolina;X-APPLE-RADIUS=500;X-TITLE=250 Mill Street\, Ste PW3101 Dock Print Works No\, 3:geo:-82.2845935,34.9197401
END:VEVENT
BEGIN:VEVENT
DTSTART;TZID=America/New_York:20230204T160000
DTEND;TZID=America/New_York:20230204T200000
DTSTAMP:20260424T035848
CREATED:20230131T195747Z
LAST-MODIFIED:20230214T013459Z
UID:16507-1675526400-1675540800@864foodtrucks.com
SUMMARY:Rad Dad's BBQ @ WineXpress Anderson
DESCRIPTION:We at Rad Dad’s are determined to bring the best BBQ and friendliest service possible. If there is one thing we love more than slow cooked BBQ it’s people! We want to bring family and friends together because that’s what BBQ truly represents.
URL:https://864foodtrucks.com/event/rad-dads-bbq-winexpress-anderson/2023-02-04/
LOCATION:WineXpress Anderson Location\, 109 E Greenville St\, Anderson\, SC\, United States
CATEGORIES:Anderson,Food Truck Schedules
ATTACH;FMTTYPE=image/jpeg:https://864foodtrucks.com/wp-content/uploads/2021/05/Rad-Dads-BBQ-and-Catering-Truck.jpg
ORGANIZER;CN="Rad Dad's BBQ and Catering":MAILTO:info@raddadsbbq.com
GEO:34.5098541;-82.6509805
X-APPLE-STRUCTURED-LOCATION;VALUE=URI;X-ADDRESS=WineXpress Anderson Location 109 E Greenville St Anderson SC United States;X-APPLE-RADIUS=500;X-TITLE=109 E Greenville St:geo:-82.6509805,34.5098541
END:VEVENT
BEGIN:VEVENT
DTSTART;TZID=America/New_York:20230203T170000
DTEND;TZID=America/New_York:20230203T210000
DTSTAMP:20260424T035848
CREATED:20230131T195540Z
LAST-MODIFIED:20230131T195540Z
UID:16505-1675443600-1675458000@864foodtrucks.com
SUMMARY:Rad Dad's BBQ @ The Gypsy Wine Bar
DESCRIPTION:We at Rad Dad’s are determined to bring the best BBQ and friendliest service possible. If there is one thing we love more than slow cooked BBQ it’s people! We want to bring family and friends together because that’s what BBQ truly represents.
URL:https://864foodtrucks.com/event/rad-dads-bbq-the-gypsy-wine-bar/
LOCATION:The Gypsy Wine Bar\, 168 Exchange St\, Pendleton\, South Carolina
CATEGORIES:Food Truck Schedules,Pendleton
ATTACH;FMTTYPE=image/jpeg:https://864foodtrucks.com/wp-content/uploads/2021/05/Rad-Dads-BBQ-and-Catering-Truck.jpg
ORGANIZER;CN="Rad Dad's BBQ and Catering":MAILTO:info@raddadsbbq.com
GEO:34.6513941;-82.7830173
X-APPLE-STRUCTURED-LOCATION;VALUE=URI;X-ADDRESS=The Gypsy Wine Bar 168 Exchange St Pendleton South Carolina;X-APPLE-RADIUS=500;X-TITLE=168 Exchange St:geo:-82.7830173,34.6513941
END:VEVENT
BEGIN:VEVENT
DTSTART;TZID=America/New_York:20230128T120000
DTEND;TZID=America/New_York:20230128T170000
DTSTAMP:20260424T035848
CREATED:20230127T203336Z
LAST-MODIFIED:20230127T203336Z
UID:16367-1674907200-1674925200@864foodtrucks.com
SUMMARY:Rad Dad's BBQ @ Toasty Farmer
DESCRIPTION:We at Rad Dad’s are determined to bring the best BBQ and friendliest service possible. If there is one thing we love more than slow cooked BBQ it’s people! We want to bring family and friends together because that’s what BBQ truly represents.
URL:https://864foodtrucks.com/event/rad-dads-bbq-toasty-farmer/
LOCATION:Brewery 85\, 6 Whitlee Ct\, Greenville\, South Carolina
CATEGORIES:Food Truck Schedules,Greenville
ATTACH;FMTTYPE=image/jpeg:https://864foodtrucks.com/wp-content/uploads/2021/05/Rad-Dads-BBQ-and-Catering-Truck.jpg
ORGANIZER;CN="Rad Dad's BBQ and Catering":MAILTO:info@raddadsbbq.com
GEO:34.8028464;-82.3491308
X-APPLE-STRUCTURED-LOCATION;VALUE=URI;X-ADDRESS=Brewery 85 6 Whitlee Ct Greenville South Carolina;X-APPLE-RADIUS=500;X-TITLE=6 Whitlee Ct:geo:-82.3491308,34.8028464
END:VEVENT
BEGIN:VEVENT
DTSTART;TZID=America/New_York:20221211T170000
DTEND;TZID=America/New_York:20221211T170000
DTSTAMP:20260424T035848
CREATED:20221205T232827Z
LAST-MODIFIED:20221205T232827Z
UID:15468-1670778000-1670778000@864foodtrucks.com
SUMMARY:Rad Dad's BBQ @ 13 Stripes Brewery
DESCRIPTION:We at Rad Dad’s are determined to bring the best BBQ and friendliest service possible. If there is one thing we love more than slow cooked BBQ it’s people! We want to bring family and friends together because that’s what BBQ truly represents.
URL:https://864foodtrucks.com/event/rad-dads-bbq-13-stripes-brewery/
LOCATION:13 Stripes Brewery\, 250 Mill Street\, Ste PW3101 Dock Print Works No\, 3\, Taylors\, South Carolina
CATEGORIES:Food Truck Schedules,Taylors
ATTACH;FMTTYPE=image/jpeg:https://864foodtrucks.com/wp-content/uploads/2021/05/Rad-Dads-BBQ-and-Catering-Truck.jpg
ORGANIZER;CN="Rad Dad's BBQ and Catering":MAILTO:info@raddadsbbq.com
GEO:34.9197401;-82.2845935
X-APPLE-STRUCTURED-LOCATION;VALUE=URI;X-ADDRESS=13 Stripes Brewery 250 Mill Street Ste PW3101 Dock Print Works No 3 Taylors South Carolina;X-APPLE-RADIUS=500;X-TITLE=250 Mill Street\, Ste PW3101 Dock Print Works No\, 3:geo:-82.2845935,34.9197401
END:VEVENT
END:VCALENDAR