BEGIN:VCALENDAR
VERSION:2.0
PRODID:-//864 Food Trucks - ECPv6.15.20//NONSGML v1.0//EN
CALSCALE:GREGORIAN
METHOD:PUBLISH
X-ORIGINAL-URL:https://864foodtrucks.com
X-WR-CALDESC:Events for 864 Food Trucks
REFRESH-INTERVAL;VALUE=DURATION:PT1H
X-Robots-Tag:noindex
X-PUBLISHED-TTL:PT1H
BEGIN:VTIMEZONE
TZID:America/New_York
BEGIN:DAYLIGHT
TZOFFSETFROM:-0500
TZOFFSETTO:-0400
TZNAME:EDT
DTSTART:20220313T070000
END:DAYLIGHT
BEGIN:STANDARD
TZOFFSETFROM:-0400
TZOFFSETTO:-0500
TZNAME:EST
DTSTART:20221106T060000
END:STANDARD
BEGIN:DAYLIGHT
TZOFFSETFROM:-0500
TZOFFSETTO:-0400
TZNAME:EDT
DTSTART:20230312T070000
END:DAYLIGHT
BEGIN:STANDARD
TZOFFSETFROM:-0400
TZOFFSETTO:-0500
TZNAME:EST
DTSTART:20231105T060000
END:STANDARD
BEGIN:DAYLIGHT
TZOFFSETFROM:-0500
TZOFFSETTO:-0400
TZNAME:EDT
DTSTART:20240310T070000
END:DAYLIGHT
BEGIN:STANDARD
TZOFFSETFROM:-0400
TZOFFSETTO:-0500
TZNAME:EST
DTSTART:20241103T060000
END:STANDARD
BEGIN:DAYLIGHT
TZOFFSETFROM:-0500
TZOFFSETTO:-0400
TZNAME:EDT
DTSTART:20250309T070000
END:DAYLIGHT
BEGIN:STANDARD
TZOFFSETFROM:-0400
TZOFFSETTO:-0500
TZNAME:EST
DTSTART:20251102T060000
END:STANDARD
END:VTIMEZONE
BEGIN:VEVENT
DTSTART;TZID=America/New_York:20241207T100000
DTEND;TZID=America/New_York:20241207T130000
DTSTAMP:20260425T144947
CREATED:20241204T221229Z
LAST-MODIFIED:20241204T221229Z
UID:41024-1733565600-1733576400@864foodtrucks.com
SUMMARY:Roaming Ritual @ Christmas Market
DESCRIPTION:A mobile coffee trailer serving parts of Greenville County\, SC !
URL:https://864foodtrucks.com/event/roaming-ritual-christmas-market/
LOCATION:Renovation Church\, Richardson Street 611\, Simpsonville\, South Carolina\, 29680\, United States
CATEGORIES:Food Truck Schedules,Simpsonville
ATTACH;FMTTYPE=image/jpeg:https://864foodtrucks.com/wp-content/uploads/2022/10/Roaming-Ritual-Trailer-e1666182278753.jpg
ORGANIZER;CN="Roaming Ritual":MAILTO:Roamingritualcoffee@gmail.com
GEO:34.7294169;-82.2666286
X-APPLE-STRUCTURED-LOCATION;VALUE=URI;X-ADDRESS=Renovation Church Richardson Street 611 Simpsonville South Carolina 29680 United States;X-APPLE-RADIUS=500;X-TITLE=Richardson Street 611:geo:-82.2666286,34.7294169
END:VEVENT
BEGIN:VEVENT
DTSTART;TZID=America/New_York:20241116T080000
DTEND;TZID=America/New_York:20241116T130000
DTSTAMP:20260425T144947
CREATED:20241113T133855Z
LAST-MODIFIED:20241113T133855Z
UID:39916-1731744000-1731762000@864foodtrucks.com
SUMMARY:Roaming Ritual @ Rudolph Gordon Craft Fair
DESCRIPTION:A mobile coffee trailer serving parts of Greenville County\, SC !
URL:https://864foodtrucks.com/event/roaming-ritual-rudolph-gordon-craft-fair/
LOCATION:Rudolph Gordon Elementary School\, 1507 Scuffletown Road\, Simpsonville\, SC\, 29681\, United States
CATEGORIES:Food Truck Schedules,Simpsonville
ATTACH;FMTTYPE=image/jpeg:https://864foodtrucks.com/wp-content/uploads/2022/10/Roaming-Ritual-Trailer-e1666182278753.jpg
ORGANIZER;CN="Roaming Ritual":MAILTO:Roamingritualcoffee@gmail.com
GEO:34.7467854;-82.1926135
X-APPLE-STRUCTURED-LOCATION;VALUE=URI;X-ADDRESS=Rudolph Gordon Elementary School 1507 Scuffletown Road Simpsonville SC 29681 United States;X-APPLE-RADIUS=500;X-TITLE=1507 Scuffletown Road:geo:-82.1926135,34.7467854
END:VEVENT
BEGIN:VEVENT
DTSTART;TZID=America/New_York:20240606T070000
DTEND;TZID=America/New_York:20240606T130000
DTSTAMP:20260425T144947
CREATED:20240603T225102Z
LAST-MODIFIED:20250122T192651Z
UID:28686-1717657200-1717678800@864foodtrucks.com
SUMMARY:Roaming Ritual @ Sprouts
DESCRIPTION:A mobile coffee trailer serving parts of Greenville County\, SC !
URL:https://864foodtrucks.com/event/roaming-ritual-sprouts/2024-06-06/
LOCATION:Sprouts Woodruff\, 2200 Woodruff Rd\, Simpsonville\, SC\, United States
CATEGORIES:Food Truck Schedules,Greenville
ATTACH;FMTTYPE=image/jpeg:https://864foodtrucks.com/wp-content/uploads/2022/10/Roaming-Ritual-Trailer-e1666182278753.jpg
ORGANIZER;CN="Roaming Ritual":MAILTO:Roamingritualcoffee@gmail.com
END:VEVENT
BEGIN:VEVENT
DTSTART;TZID=America/New_York:20240605T070000
DTEND;TZID=America/New_York:20240605T130000
DTSTAMP:20260425T144947
CREATED:20240603T224950Z
LAST-MODIFIED:20240603T224950Z
UID:28682-1717570800-1717592400@864foodtrucks.com
SUMMARY:Roaming Ritual @ Pro-Fitness
DESCRIPTION:A mobile coffee trailer serving parts of Greenville County\, SC !
URL:https://864foodtrucks.com/event/roaming-ritual-pro-fitness/
LOCATION:Pro Fitness\, Woodruff Road 1912\, Greenville\, South Carolina\, 29607\, United States
CATEGORIES:Food Truck Schedules,Greenville
ATTACH;FMTTYPE=image/jpeg:https://864foodtrucks.com/wp-content/uploads/2022/10/Roaming-Ritual-Trailer-e1666182278753.jpg
ORGANIZER;CN="Roaming Ritual":MAILTO:Roamingritualcoffee@gmail.com
GEO:34.8196546;-82.2624461
X-APPLE-STRUCTURED-LOCATION;VALUE=URI;X-ADDRESS=Pro Fitness Woodruff Road 1912 Greenville South Carolina 29607 United States;X-APPLE-RADIUS=500;X-TITLE=Woodruff Road 1912:geo:-82.2624461,34.8196546
END:VEVENT
BEGIN:VEVENT
DTSTART;TZID=America/New_York:20240604T070000
DTEND;TZID=America/New_York:20240604T130000
DTSTAMP:20260425T144947
CREATED:20240603T225318Z
LAST-MODIFIED:20240603T225318Z
UID:28689-1717484400-1717506000@864foodtrucks.com
SUMMARY:Roaming Ritual @ Mauldin Cultural Center
DESCRIPTION:A mobile coffee trailer serving parts of Greenville County\, SC !
URL:https://864foodtrucks.com/event/roaming-ritual-mauldin-cultural-center-2/
LOCATION:Mauldin Cultural Center\, 101 E Butler Road\, Mauldin\, South Carolina
CATEGORIES:Food Truck Schedules,Mauldin
ATTACH;FMTTYPE=image/jpeg:https://864foodtrucks.com/wp-content/uploads/2022/10/Roaming-Ritual-Trailer-e1666182278753.jpg
ORGANIZER;CN="Roaming Ritual":MAILTO:Roamingritualcoffee@gmail.com
GEO:34.7796468;-82.3063956
X-APPLE-STRUCTURED-LOCATION;VALUE=URI;X-ADDRESS=Mauldin Cultural Center 101 E Butler Road Mauldin South Carolina;X-APPLE-RADIUS=500;X-TITLE=101 E Butler Road:geo:-82.3063956,34.7796468
END:VEVENT
BEGIN:VEVENT
DTSTART;TZID=America/New_York:20240330T083000
DTEND;TZID=America/New_York:20240330T140000
DTSTAMP:20260425T144947
CREATED:20240325T181302Z
LAST-MODIFIED:20241210T004529Z
UID:26938-1711787400-1711807200@864foodtrucks.com
SUMMARY:Roaming Ritual @ Lichtenfelt Nurseries
DESCRIPTION:A mobile coffee trailer serving parts of Greenville County\, SC !
URL:https://864foodtrucks.com/event/roaming-ritual-lichtenfelt-nurseries-2/2024-03-30/
LOCATION:Lichtenfelt Nurseries\, 947 Anderson Ridge Rd\, Greer\, SC\, United States
CATEGORIES:Food Truck Schedules,Greer
ATTACH;FMTTYPE=image/jpeg:https://864foodtrucks.com/wp-content/uploads/2022/10/Roaming-Ritual-Trailer.jpg
ORGANIZER;CN="Roaming Ritual":MAILTO:Roamingritualcoffee@gmail.com
END:VEVENT
BEGIN:VEVENT
DTSTART;TZID=America/New_York:20240203T080000
DTEND;TZID=America/New_York:20240203T140000
DTSTAMP:20260425T144947
CREATED:20240129T182219Z
LAST-MODIFIED:20240129T182219Z
UID:25341-1706947200-1706968800@864foodtrucks.com
SUMMARY:Roaming Ritual @ Greenville Little League
DESCRIPTION:A mobile coffee trailer serving parts of Greenville County\, SC !
URL:https://864foodtrucks.com/event/roaming-ritual-greenville-little-league/
LOCATION:Greenville Little League\, Haywood Road 220\, Greenville\, South Carolina\, 29607\, United States
CATEGORIES:Food Truck Schedules,Greenville
ATTACH;FMTTYPE=image/jpeg:https://864foodtrucks.com/wp-content/uploads/2022/10/Roaming-Ritual-Trailer-e1666182278753.jpg
ORGANIZER;CN="Roaming Ritual":MAILTO:Roamingritualcoffee@gmail.com
GEO:34.8377408;-82.3436081
X-APPLE-STRUCTURED-LOCATION;VALUE=URI;X-ADDRESS=Greenville Little League Haywood Road 220 Greenville South Carolina 29607 United States;X-APPLE-RADIUS=500;X-TITLE=Haywood Road 220:geo:-82.3436081,34.8377408
END:VEVENT
BEGIN:VEVENT
DTSTART;TZID=America/New_York:20240131T070000
DTEND;TZID=America/New_York:20240131T130000
DTSTAMP:20260425T144947
CREATED:20231024T172755Z
LAST-MODIFIED:20240129T181433Z
UID:24738-1706684400-1706706000@864foodtrucks.com
SUMMARY:Roaming Ritual @ Mauldin Cultural Center
DESCRIPTION:A mobile coffee trailer serving parts of Greenville County\, SC !
URL:https://864foodtrucks.com/event/roaming-ritual-mauldin-cultural-center-2024-01-30/
LOCATION:Mauldin Cultural Center\, 101 E Butler Road\, Mauldin\, South Carolina
CATEGORIES:Food Truck Schedules,Mauldin
ATTACH;FMTTYPE=image/jpeg:https://864foodtrucks.com/wp-content/uploads/2022/10/Roaming-Ritual-Trailer.jpg
ORGANIZER;CN="Roaming Ritual":MAILTO:Roamingritualcoffee@gmail.com
GEO:34.7796468;-82.3063956
X-APPLE-STRUCTURED-LOCATION;VALUE=URI;X-ADDRESS=Mauldin Cultural Center 101 E Butler Road Mauldin South Carolina;X-APPLE-RADIUS=500;X-TITLE=101 E Butler Road:geo:-82.3063956,34.7796468
END:VEVENT
BEGIN:VEVENT
DTSTART;TZID=America/New_York:20240127T080000
DTEND;TZID=America/New_York:20240127T133000
DTSTAMP:20260425T144947
CREATED:20240123T135007Z
LAST-MODIFIED:20240123T135007Z
UID:25300-1706342400-1706362200@864foodtrucks.com
SUMMARY:Roaming Ritual @ Sportsclub Express
DESCRIPTION:A mobile coffee trailer serving parts of Greenville County\, SC !
URL:https://864foodtrucks.com/event/roaming-ritual-sportsclub-express/
LOCATION:Sportsclub Express\, Southeast Main Street 667\, Simpsonville\, South Carolina\, 29681\, United States
CATEGORIES:Food Truck Schedules,Simpsonville
ATTACH;FMTTYPE=image/jpeg:https://864foodtrucks.com/wp-content/uploads/2022/10/Roaming-Ritual-Trailer.jpg
ORGANIZER;CN="Roaming Ritual":MAILTO:Roamingritualcoffee@gmail.com
GEO:34.7232932;-82.251412
X-APPLE-STRUCTURED-LOCATION;VALUE=URI;X-ADDRESS=Sportsclub Express Southeast Main Street 667 Simpsonville South Carolina 29681 United States;X-APPLE-RADIUS=500;X-TITLE=Southeast Main Street 667:geo:-82.251412,34.7232932
END:VEVENT
BEGIN:VEVENT
DTSTART;TZID=America/New_York:20240126T093000
DTEND;TZID=America/New_York:20240126T120000
DTSTAMP:20260425T144947
CREATED:20240123T134817Z
LAST-MODIFIED:20250122T192734Z
UID:25298-1706261400-1706270400@864foodtrucks.com
SUMMARY:Roaming Ritual @ Spectrum
DESCRIPTION:A mobile coffee trailer serving parts of Greenville County\, SC !
URL:https://864foodtrucks.com/event/roaming-ritual-spectrum/2024-01-26/
LOCATION:Spectrum\, 2 Digital Place\, Simpsonville\, SC\, United States
CATEGORIES:Food Truck Schedules,Simpsonville
ATTACH;FMTTYPE=image/jpeg:https://864foodtrucks.com/wp-content/uploads/2022/10/Roaming-Ritual-Trailer-e1666182278753.jpg
ORGANIZER;CN="Roaming Ritual":MAILTO:Roamingritualcoffee@gmail.com
GEO:34.7953548;-82.2788291
X-APPLE-STRUCTURED-LOCATION;VALUE=URI;X-ADDRESS=Spectrum 2 Digital Place Simpsonville SC United States;X-APPLE-RADIUS=500;X-TITLE=2 Digital Place:geo:-82.2788291,34.7953548
END:VEVENT
BEGIN:VEVENT
DTSTART;TZID=America/New_York:20240110T103000
DTEND;TZID=America/New_York:20240110T130000
DTSTAMP:20260425T144947
CREATED:20231024T172755Z
LAST-MODIFIED:20240108T195301Z
UID:24735-1704882600-1704891600@864foodtrucks.com
SUMMARY:Roaming Ritual @ Mauldin Cultural Center
DESCRIPTION:A mobile coffee trailer serving parts of Greenville County\, SC !
URL:https://864foodtrucks.com/event/roaming-ritual-mauldin-cultural-center-2024-01-09/
LOCATION:Mauldin Cultural Center\, 101 E Butler Road\, Mauldin\, South Carolina
CATEGORIES:Food Truck Schedules,Mauldin
ATTACH;FMTTYPE=image/jpeg:https://864foodtrucks.com/wp-content/uploads/2022/10/Roaming-Ritual-Trailer.jpg
ORGANIZER;CN="Roaming Ritual":MAILTO:Roamingritualcoffee@gmail.com
GEO:34.7796468;-82.3063956
X-APPLE-STRUCTURED-LOCATION;VALUE=URI;X-ADDRESS=Mauldin Cultural Center 101 E Butler Road Mauldin South Carolina;X-APPLE-RADIUS=500;X-TITLE=101 E Butler Road:geo:-82.3063956,34.7796468
END:VEVENT
BEGIN:VEVENT
DTSTART;TZID=America/New_York:20231215T070000
DTEND;TZID=America/New_York:20231215T090000
DTSTAMP:20260425T144947
CREATED:20231211T183152Z
LAST-MODIFIED:20240422T174505Z
UID:24552-1702623600-1702630800@864foodtrucks.com
SUMMARY:Roaming Ritual @ Bells Crossing Elementary
DESCRIPTION:A mobile coffee trailer serving parts of Greenville County\, SC !
URL:https://864foodtrucks.com/event/roaming-ritual-bells-crossing-elementary/2023-12-15/
LOCATION:Bells Crossing\, 804 Scuffletown Rd\, Simpsonville\, SC\, United States
CATEGORIES:Food Truck Schedules,Simpsonville
ATTACH;FMTTYPE=image/jpeg:https://864foodtrucks.com/wp-content/uploads/2022/10/Roaming-Ritual-Trailer.jpg
ORGANIZER;CN="Roaming Ritual":MAILTO:Roamingritualcoffee@gmail.com
END:VEVENT
BEGIN:VEVENT
DTSTART;TZID=America/New_York:20231208T070000
DTEND;TZID=America/New_York:20231208T110000
DTSTAMP:20260425T144947
CREATED:20231204T183308Z
LAST-MODIFIED:20231219T022744Z
UID:24479-1702018800-1702033200@864foodtrucks.com
SUMMARY:Roaming Ritual @ Pelham Medical Center
DESCRIPTION:A mobile coffee trailer serving parts of Greenville County\, SC !
URL:https://864foodtrucks.com/event/roaming-ritual-pelham-medical-center/2023-12-08/
LOCATION:Pelham Medical Center\, 250 Westmoreland Rd\, Greer\, South Carolina
CATEGORIES:Food Truck Schedules,Greer
ATTACH;FMTTYPE=image/jpeg:https://864foodtrucks.com/wp-content/uploads/2022/10/Roaming-Ritual-Trailer-e1666182278753.jpg
ORGANIZER;CN="Roaming Ritual":MAILTO:Roamingritualcoffee@gmail.com
GEO:34.8630526;-82.2188726
X-APPLE-STRUCTURED-LOCATION;VALUE=URI;X-ADDRESS=Pelham Medical Center 250 Westmoreland Rd Greer South Carolina;X-APPLE-RADIUS=500;X-TITLE=250 Westmoreland Rd:geo:-82.2188726,34.8630526
END:VEVENT
BEGIN:VEVENT
DTSTART;TZID=America/New_York:20231202T090000
DTEND;TZID=America/New_York:20231202T130000
DTSTAMP:20260425T144947
CREATED:20231127T181642Z
LAST-MODIFIED:20231127T181642Z
UID:24311-1701507600-1701522000@864foodtrucks.com
SUMMARY:Roaming Ritual @ Renovation Church Christmas Market
DESCRIPTION:A mobile coffee trailer serving parts of Greenville County\, SC !
URL:https://864foodtrucks.com/event/roaming-ritual-renovation-church-christmas-market/
LOCATION:Renovation Church\, Richardson Street 611\, Simpsonville\, South Carolina\, 29680\, United States
CATEGORIES:Food Truck Schedules,Simpsonville
ATTACH;FMTTYPE=image/jpeg:https://864foodtrucks.com/wp-content/uploads/2022/10/Roaming-Ritual-Trailer-e1666182278753.jpg
ORGANIZER;CN="Roaming Ritual":MAILTO:Roamingritualcoffee@gmail.com
GEO:34.7294169;-82.2666286
X-APPLE-STRUCTURED-LOCATION;VALUE=URI;X-ADDRESS=Renovation Church Richardson Street 611 Simpsonville South Carolina 29680 United States;X-APPLE-RADIUS=500;X-TITLE=Richardson Street 611:geo:-82.2666286,34.7294169
END:VEVENT
BEGIN:VEVENT
DTSTART;TZID=America/New_York:20231117T080000
DTEND;TZID=America/New_York:20231117T080000
DTSTAMP:20260425T144947
CREATED:20231113T144144Z
LAST-MODIFIED:20231113T144144Z
UID:24091-1700208000-1700208000@864foodtrucks.com
SUMMARY:Roaming Ritual @ Hillcrest High School Wrestling
DESCRIPTION:A mobile coffee trailer serving parts of Greenville County\, SC !
URL:https://864foodtrucks.com/event/roaming-ritual-hillcrest-high-school-wrestling/
LOCATION:Hillcrest High School\, South Industrial Drive 3665\, Simpsonville\, South Carolina\, 29681\, United States
CATEGORIES:Food Truck Schedules,Simpsonville
ATTACH;FMTTYPE=image/jpeg:https://864foodtrucks.com/wp-content/uploads/2022/10/Roaming-Ritual-Trailer-e1666182278753.jpg
ORGANIZER;CN="Roaming Ritual":MAILTO:Roamingritualcoffee@gmail.com
GEO:34.7146829;-82.2463294
X-APPLE-STRUCTURED-LOCATION;VALUE=URI;X-ADDRESS=Hillcrest High School South Industrial Drive 3665 Simpsonville South Carolina 29681 United States;X-APPLE-RADIUS=500;X-TITLE=South Industrial Drive 3665:geo:-82.2463294,34.7146829
END:VEVENT
BEGIN:VEVENT
DTSTART;TZID=America/New_York:20231117T080000
DTEND;TZID=America/New_York:20231117T080000
DTSTAMP:20260425T144947
CREATED:20231113T143954Z
LAST-MODIFIED:20231113T143954Z
UID:24088-1700208000-1700208000@864foodtrucks.com
SUMMARY:Roaming Ritual @ Mauldin Elementary Boosterthon
DESCRIPTION:A mobile coffee trailer serving parts of Greenville County\, SC !
URL:https://864foodtrucks.com/event/roaming-ritual-mauldin-elementary-boosterthon/
LOCATION:Mauldin Elementary\, Holland Road 1194\, Simpsonville\, South Carolina\, 29681\, United States
CATEGORIES:Food Truck Schedules,Simpsonville
ATTACH;FMTTYPE=image/jpeg:https://864foodtrucks.com/wp-content/uploads/2022/10/Roaming-Ritual-Trailer-e1666182278753.jpg
ORGANIZER;CN="Roaming Ritual":MAILTO:Roamingritualcoffee@gmail.com
GEO:34.8074786;-82.2738025
X-APPLE-STRUCTURED-LOCATION;VALUE=URI;X-ADDRESS=Mauldin Elementary Holland Road 1194 Simpsonville South Carolina 29681 United States;X-APPLE-RADIUS=500;X-TITLE=Holland Road 1194:geo:-82.2738025,34.8074786
END:VEVENT
BEGIN:VEVENT
DTSTART;TZID=America/New_York:20231028T130000
DTEND;TZID=America/New_York:20231028T160000
DTSTAMP:20260425T144947
CREATED:20231024T180056Z
LAST-MODIFIED:20231024T180056Z
UID:23783-1698498000-1698508800@864foodtrucks.com
SUMMARY:Roaming Ritual @ Woodruff Rd Chruch Fall Festival
DESCRIPTION:A mobile coffee trailer serving parts of Greenville County\, SC !
URL:https://864foodtrucks.com/event/roaming-ritual-woodruff-rd-chruch-fall-festival/
LOCATION:Woodruff Road Presbyterian Church\, Woodruff Road 2519\, Simpsonville\, South Carolina\, 29681\, United States
CATEGORIES:Food Truck Schedules,Simpsonville
ATTACH;FMTTYPE=image/jpeg:https://864foodtrucks.com/wp-content/uploads/2022/10/Roaming-Ritual-Trailer-e1666182278753.jpg
ORGANIZER;CN="Roaming Ritual":MAILTO:Roamingritualcoffee@gmail.com
GEO:34.8103697;-82.2361949
X-APPLE-STRUCTURED-LOCATION;VALUE=URI;X-ADDRESS=Woodruff Road Presbyterian Church Woodruff Road 2519 Simpsonville South Carolina 29681 United States;X-APPLE-RADIUS=500;X-TITLE=Woodruff Road 2519:geo:-82.2361949,34.8103697
END:VEVENT
BEGIN:VEVENT
DTSTART;TZID=America/New_York:20231028T080000
DTEND;TZID=America/New_York:20231028T120000
DTSTAMP:20260425T144947
CREATED:20231024T175835Z
LAST-MODIFIED:20231024T175835Z
UID:23781-1698480000-1698494400@864foodtrucks.com
SUMMARY:Roaming Ritual @ Align Life Trunk or Treat
DESCRIPTION:A mobile coffee trailer serving parts of Greenville County\, SC !
URL:https://864foodtrucks.com/event/roaming-ritual-align-life-trunk-or-treat/
LOCATION:AlignLife Chiropractor\, 996 Batesville Rd\, Greer\, South Carolina
CATEGORIES:Food Truck Schedules,Greenville
ATTACH;FMTTYPE=image/jpeg:https://864foodtrucks.com/wp-content/uploads/2022/10/Roaming-Ritual-Trailer-e1666182278753.jpg
ORGANIZER;CN="Roaming Ritual":MAILTO:Roamingritualcoffee@gmail.com
GEO:34.8513283;-82.2295085
X-APPLE-STRUCTURED-LOCATION;VALUE=URI;X-ADDRESS=AlignLife Chiropractor 996 Batesville Rd Greer South Carolina;X-APPLE-RADIUS=500;X-TITLE=996 Batesville Rd:geo:-82.2295085,34.8513283
END:VEVENT
BEGIN:VEVENT
DTSTART;TZID=America/New_York:20231026T070000
DTEND;TZID=America/New_York:20231026T140000
DTSTAMP:20260425T144947
CREATED:20231024T175447Z
LAST-MODIFIED:20231024T175447Z
UID:23779-1698303600-1698328800@864foodtrucks.com
SUMMARY:Roaming Ritual @ Lizard Thicket
DESCRIPTION:A mobile coffee trailer serving parts of Greenville County\, SC !
URL:https://864foodtrucks.com/event/roaming-ritual-lizard-thicket/
LOCATION:The Shops at Greenridge\, 1125 Woodruff Rd\, Greenville\, South Carolina\, 29607
CATEGORIES:Food Truck Schedules,Greenville
ATTACH;FMTTYPE=image/jpeg:https://864foodtrucks.com/wp-content/uploads/2022/10/Roaming-Ritual-Trailer-e1666182278753.jpg
ORGANIZER;CN="Roaming Ritual":MAILTO:Roamingritualcoffee@gmail.com
GEO:34.828492;-82.298295
X-APPLE-STRUCTURED-LOCATION;VALUE=URI;X-ADDRESS=The Shops at Greenridge 1125 Woodruff Rd Greenville South Carolina 29607;X-APPLE-RADIUS=500;X-TITLE=1125 Woodruff Rd:geo:-82.298295,34.828492
END:VEVENT
BEGIN:VEVENT
DTSTART;TZID=America/New_York:20231024T080000
DTEND;TZID=America/New_York:20231024T120000
DTSTAMP:20260425T144947
CREATED:20231024T172755Z
LAST-MODIFIED:20240416T211419Z
UID:23777-1698134400-1698148800@864foodtrucks.com
SUMMARY:Roaming Ritual @ Mauldin Cultural Center
DESCRIPTION:A mobile coffee trailer serving parts of Greenville County\, SC !
URL:https://864foodtrucks.com/event/roaming-ritual-mauldin-cultural-center/2023-10-24/
LOCATION:Mauldin Cultural Center\, 101 E Butler Road\, Mauldin\, South Carolina
CATEGORIES:Food Truck Schedules,Mauldin
ATTACH;FMTTYPE=image/jpeg:https://864foodtrucks.com/wp-content/uploads/2022/10/Roaming-Ritual-Trailer.jpg
ORGANIZER;CN="Roaming Ritual":MAILTO:Roamingritualcoffee@gmail.com
GEO:34.7796468;-82.3063956
X-APPLE-STRUCTURED-LOCATION;VALUE=URI;X-ADDRESS=Mauldin Cultural Center 101 E Butler Road Mauldin South Carolina;X-APPLE-RADIUS=500;X-TITLE=101 E Butler Road:geo:-82.3063956,34.7796468
END:VEVENT
BEGIN:VEVENT
DTSTART;TZID=America/New_York:20230822T080000
DTEND;TZID=America/New_York:20230822T080000
DTSTAMP:20260425T144947
CREATED:20230821T175024Z
LAST-MODIFIED:20230904T132321Z
UID:22283-1692691200-1692691200@864foodtrucks.com
SUMMARY:Roaming Ritual @ River Oak Vet
DESCRIPTION:A mobile coffee trailer serving parts of Greenville County\, SC !
URL:https://864foodtrucks.com/event/roaming-ritual-river-oak-vet/2023-08-22/
LOCATION:River Vet Oak\, Woodruff Road 2521\, Simpsonville\, SC\, 29681\, United States
CATEGORIES:Food Truck Schedules,Greenville
ATTACH;FMTTYPE=image/jpeg:https://864foodtrucks.com/wp-content/uploads/2022/10/Roaming-Ritual-Trailer-e1666182278753.jpg
ORGANIZER;CN="Roaming Ritual":MAILTO:Roamingritualcoffee@gmail.com
GEO:34.8092437;-82.2372971
X-APPLE-STRUCTURED-LOCATION;VALUE=URI;X-ADDRESS=River Vet Oak Woodruff Road 2521 Simpsonville SC 29681 United States;X-APPLE-RADIUS=500;X-TITLE=Woodruff Road 2521:geo:-82.2372971,34.8092437
END:VEVENT
BEGIN:VEVENT
DTSTART;TZID=America/New_York:20230714T080000
DTEND;TZID=America/New_York:20230714T080000
DTSTAMP:20260425T144947
CREATED:20230711T200310Z
LAST-MODIFIED:20230711T200310Z
UID:20764-1689321600-1689321600@864foodtrucks.com
SUMMARY:Roaming Ritual @ Eva Hurley State Farm
DESCRIPTION:A mobile coffee trailer serving parts of Greenville County\, SC !
URL:https://864foodtrucks.com/event/roaming-ritual-eva-hurley-state-farm-2/
LOCATION:Eva Hurley State Farm\, 3906 S Highway 14\, Greenville\, South Carolina
CATEGORIES:Food Truck Schedules,Greenville
ATTACH;FMTTYPE=image/jpeg:https://864foodtrucks.com/wp-content/uploads/2022/10/Roaming-Ritual-Trailer-e1666182278753.jpg
ORGANIZER;CN="Roaming Ritual":MAILTO:Roamingritualcoffee@gmail.com
GEO:34.8221327;-82.2569293
X-APPLE-STRUCTURED-LOCATION;VALUE=URI;X-ADDRESS=Eva Hurley State Farm 3906 S Highway 14 Greenville South Carolina;X-APPLE-RADIUS=500;X-TITLE=3906 S Highway 14:geo:-82.2569293,34.8221327
END:VEVENT
BEGIN:VEVENT
DTSTART;TZID=America/New_York:20230627T070000
DTEND;TZID=America/New_York:20230627T070000
DTSTAMP:20260425T144947
CREATED:20230626T232613Z
LAST-MODIFIED:20230718T003749Z
UID:20240-1687849200-1687849200@864foodtrucks.com
SUMMARY:Roaming Ritual @ Kiddie Academy
DESCRIPTION:A mobile coffee trailer serving parts of Greenville County\, SC !
URL:https://864foodtrucks.com/event/roaming-ritual-kiddie-academy/2023-06-27/
LOCATION:Kiddie Academy\, 321 Scuffletown Rd\, Simpsonville\, SC\, United States
CATEGORIES:Five Forks,Food Truck Schedules
ATTACH;FMTTYPE=image/jpeg:https://864foodtrucks.com/wp-content/uploads/2022/10/Roaming-Ritual-Trailer-e1666182278753.jpg
ORGANIZER;CN="Roaming Ritual":MAILTO:Roamingritualcoffee@gmail.com
END:VEVENT
BEGIN:VEVENT
DTSTART;TZID=America/New_York:20230612T080000
DTEND;TZID=America/New_York:20230612T113000
DTSTAMP:20260425T144947
CREATED:20230612T115251Z
LAST-MODIFIED:20230612T115251Z
UID:19633-1686556800-1686569400@864foodtrucks.com
SUMMARY:Roaming Ritual @ Spaulding Farm
DESCRIPTION:A mobile coffee trailer serving parts of Greenville County\, SC !
URL:https://864foodtrucks.com/event/roaming-ritual-spaulding-farm/
LOCATION:Spaulding Farm\, 100 Spaulding Farm Rd\, Greenville\, South Carolina
CATEGORIES:Food Truck Schedules,Greenville
ATTACH;FMTTYPE=image/jpeg:https://864foodtrucks.com/wp-content/uploads/2022/10/Roaming-Ritual-Trailer-e1666182278753.jpg
ORGANIZER;CN="Roaming Ritual":MAILTO:Roamingritualcoffee@gmail.com
GEO:34.8345228;-82.2523885
X-APPLE-STRUCTURED-LOCATION;VALUE=URI;X-ADDRESS=Spaulding Farm 100 Spaulding Farm Rd Greenville South Carolina;X-APPLE-RADIUS=500;X-TITLE=100 Spaulding Farm Rd:geo:-82.2523885,34.8345228
END:VEVENT
BEGIN:VEVENT
DTSTART;TZID=America/New_York:20230610T080000
DTEND;TZID=America/New_York:20230610T080000
DTSTAMP:20260425T144947
CREATED:20230606T125344Z
LAST-MODIFIED:20230606T125344Z
UID:19457-1686384000-1686384000@864foodtrucks.com
SUMMARY:Roaming Ritual @ Sugar Creek
DESCRIPTION:A mobile coffee trailer serving parts of Greenville County\, SC !
URL:https://864foodtrucks.com/event/roaming-ritual-sugar-creek/
LOCATION:Sugar Creek Pool\, 103 Sugar Creek Rd\, Greer
CATEGORIES:Food Truck Schedules,Greer
ATTACH;FMTTYPE=image/jpeg:https://864foodtrucks.com/wp-content/uploads/2022/10/Roaming-Ritual-Trailer-e1666182278753.jpg
ORGANIZER;CN="Roaming Ritual":MAILTO:Roamingritualcoffee@gmail.com
END:VEVENT
BEGIN:VEVENT
DTSTART;TZID=America/New_York:20230601T080000
DTEND;TZID=America/New_York:20230601T080000
DTSTAMP:20260425T144947
CREATED:20230530T215941Z
LAST-MODIFIED:20240507T011523Z
UID:19301-1685606400-1685606400@864foodtrucks.com
SUMMARY:Roaming Ritual @ Sprouts Woodruff
DESCRIPTION:A mobile coffee trailer serving parts of Greenville County\, SC !
URL:https://864foodtrucks.com/event/roaming-ritual-sprouts-woodruff-2/2023-06-01/
LOCATION:Sprouts Woodruff\, 2200 Woodruff Rd\, Simpsonville\, SC\, United States
CATEGORIES:Food Truck Schedules,Greenville
ATTACH;FMTTYPE=image/jpeg:https://864foodtrucks.com/wp-content/uploads/2022/10/Roaming-Ritual-Trailer-e1666182278753.jpg
ORGANIZER;CN="Roaming Ritual":MAILTO:Roamingritualcoffee@gmail.com
END:VEVENT
BEGIN:VEVENT
DTSTART;TZID=America/New_York:20230517T080000
DTEND;TZID=America/New_York:20230517T170000
DTSTAMP:20260425T144947
CREATED:20230517T152524Z
LAST-MODIFIED:20230517T152524Z
UID:19077-1684310400-1684342800@864foodtrucks.com
SUMMARY:Roaming Ritual @ Grove Station Farms
DESCRIPTION:A mobile coffee trailer serving parts of Greenville County\, SC !
URL:https://864foodtrucks.com/event/roaming-ritual-grove-station-farms/
LOCATION:Grove Station Farms\, 421 Piedmont Hwy\,\, Piedmont\, SC\, United States
CATEGORIES:Food Truck Schedules,Piedmont
ATTACH;FMTTYPE=image/jpeg:https://864foodtrucks.com/wp-content/uploads/2022/10/Roaming-Ritual-Trailer.jpg
ORGANIZER;CN="Roaming Ritual":MAILTO:Roamingritualcoffee@gmail.com
END:VEVENT
BEGIN:VEVENT
DTSTART;TZID=America/New_York:20230407T153000
DTEND;TZID=America/New_York:20230407T173000
DTSTAMP:20260425T144947
CREATED:20230403T192406Z
LAST-MODIFIED:20230403T192406Z
UID:17994-1680881400-1680888600@864foodtrucks.com
SUMMARY:Roaming Ritual @ Acrosmith
DESCRIPTION:A mobile coffee trailer serving parts of Greenville County\, SC !
URL:https://864foodtrucks.com/event/roaming-ritual-acrosmith/
LOCATION:Acrosmith\, 3130 N Industrial Dr\, Simpsonville\, SC\, United States
CATEGORIES:Food Truck Schedules,Simpsonville
ATTACH;FMTTYPE=image/jpeg:https://864foodtrucks.com/wp-content/uploads/2022/10/Roaming-Ritual-Trailer-e1666182278753.jpg
ORGANIZER;CN="Roaming Ritual":MAILTO:Roamingritualcoffee@gmail.com
END:VEVENT
BEGIN:VEVENT
DTSTART;TZID=America/New_York:20230210T073000
DTEND;TZID=America/New_York:20230210T073000
DTSTAMP:20260425T144947
CREATED:20230208T190557Z
LAST-MODIFIED:20230208T190557Z
UID:16654-1676014200-1676014200@864foodtrucks.com
SUMMARY:Roaming Ritual @ Mauldin Middle School
DESCRIPTION:
URL:https://864foodtrucks.com/event/roaming-ritual-mauldin-middle-school/
LOCATION:Mauldin High School\, 701 E Butler Rd\, Mauldin\, South Carolina
CATEGORIES:Food Truck Schedules,Mauldin
ATTACH;FMTTYPE=image/jpeg:https://864foodtrucks.com/wp-content/uploads/2022/10/Roaming-Ritual-Trailer-e1666182278753.jpg
ORGANIZER;CN="Roaming Ritual":MAILTO:Roamingritualcoffee@gmail.com
GEO:34.7943028;-82.2897799
X-APPLE-STRUCTURED-LOCATION;VALUE=URI;X-ADDRESS=Mauldin High School 701 E Butler Rd Mauldin South Carolina;X-APPLE-RADIUS=500;X-TITLE=701 E Butler Rd:geo:-82.2897799,34.7943028
END:VEVENT
BEGIN:VEVENT
DTSTART;TZID=America/New_York:20230208T070000
DTEND;TZID=America/New_York:20230208T093000
DTSTAMP:20260425T144947
CREATED:20230207T212033Z
LAST-MODIFIED:20241023T175430Z
UID:16652-1675839600-1675848600@864foodtrucks.com
SUMMARY:Roaming Ritual @ Abiding Peace
DESCRIPTION:A mobile coffee trailer serving parts of Greenville County\, SC !
URL:https://864foodtrucks.com/event/roaming-ritual-abiding-peace-2/2023-02-08/
LOCATION:Abiding Peace Church\, 401 Batesville Road\, Simpsonville\, South Carolina
CATEGORIES:Food Truck Schedules,Simpsonville
ATTACH;FMTTYPE=image/jpeg:https://864foodtrucks.com/wp-content/uploads/2022/10/Roaming-Ritual-Trailer-e1666182278753.jpg
ORGANIZER;CN="Roaming Ritual":MAILTO:Roamingritualcoffee@gmail.com
GEO:34.823337;-82.229466
X-APPLE-STRUCTURED-LOCATION;VALUE=URI;X-ADDRESS=Abiding Peace Church 401 Batesville Road Simpsonville South Carolina;X-APPLE-RADIUS=500;X-TITLE=401 Batesville Road:geo:-82.229466,34.823337
END:VEVENT
END:VCALENDAR