BEGIN:VCALENDAR
VERSION:2.0
PRODID:-//864 Food Trucks - ECPv6.15.20//NONSGML v1.0//EN
CALSCALE:GREGORIAN
METHOD:PUBLISH
X-WR-CALNAME:864 Food Trucks
X-ORIGINAL-URL:https://864foodtrucks.com
X-WR-CALDESC:Events for 864 Food Trucks
REFRESH-INTERVAL;VALUE=DURATION:PT1H
X-Robots-Tag:noindex
X-PUBLISHED-TTL:PT1H
BEGIN:VTIMEZONE
TZID:America/New_York
BEGIN:DAYLIGHT
TZOFFSETFROM:-0500
TZOFFSETTO:-0400
TZNAME:EDT
DTSTART:20250309T070000
END:DAYLIGHT
BEGIN:STANDARD
TZOFFSETFROM:-0400
TZOFFSETTO:-0500
TZNAME:EST
DTSTART:20251102T060000
END:STANDARD
BEGIN:DAYLIGHT
TZOFFSETFROM:-0500
TZOFFSETTO:-0400
TZNAME:EDT
DTSTART:20260308T070000
END:DAYLIGHT
BEGIN:STANDARD
TZOFFSETFROM:-0400
TZOFFSETTO:-0500
TZNAME:EST
DTSTART:20261101T060000
END:STANDARD
BEGIN:DAYLIGHT
TZOFFSETFROM:-0500
TZOFFSETTO:-0400
TZNAME:EDT
DTSTART:20270314T070000
END:DAYLIGHT
BEGIN:STANDARD
TZOFFSETFROM:-0400
TZOFFSETTO:-0500
TZNAME:EST
DTSTART:20271107T060000
END:STANDARD
END:VTIMEZONE
BEGIN:VEVENT
DTSTART;TZID=America/New_York:20260423T110000
DTEND;TZID=America/New_York:20260423T130000
DTSTAMP:20260423T173018
CREATED:20250921T193810Z
LAST-MODIFIED:20250921T193810Z
UID:62017-1776942000-1776949200@864foodtrucks.com
SUMMARY:Simpell Sammies @ BASF
DESCRIPTION:Simpell Sammies is open for business and ready to serve you flavorful and delicious sandwiches and hoagies.
URL:https://864foodtrucks.com/event/simpell-sammies-basf-3/2026-04-23/
LOCATION:BASF Catalysts LLC\, 554 Engelhard Drive\, Seneca\, South Carolina
CATEGORIES:Food Truck Schedules,Seneca
ATTACH;FMTTYPE=image/jpeg:https://864foodtrucks.com/wp-content/uploads/2023/06/Simpell-Sammies-Trailer.jpg
ORGANIZER;CN="Simpell Sammies":MAILTO:info@simpelltreats.com
GEO:34.6518557;-82.955869
X-APPLE-STRUCTURED-LOCATION;VALUE=URI;X-ADDRESS=BASF Catalysts LLC 554 Engelhard Drive Seneca South Carolina;X-APPLE-RADIUS=500;X-TITLE=554 Engelhard Drive:geo:-82.955869,34.6518557
END:VEVENT
BEGIN:VEVENT
DTSTART;TZID=America/New_York:20260422T110000
DTEND;TZID=America/New_York:20260422T130000
DTSTAMP:20260423T173018
CREATED:20251229T163638Z
LAST-MODIFIED:20251229T163638Z
UID:62013-1776855600-1776862800@864foodtrucks.com
SUMMARY:Simpell Sammies @ First Quality
DESCRIPTION:Simpell Sammies is open for business and ready to serve you flavorful and delicious sandwiches and hoagies.
URL:https://864foodtrucks.com/event/simpell-sammies-first-quality/2026-04-22/
LOCATION:First Quality\, 441 Masters Blvd\, Anderson\, South Carolina
CATEGORIES:Anderson,Food Truck Schedules
ATTACH;FMTTYPE=image/jpeg:https://864foodtrucks.com/wp-content/uploads/2023/06/Simpell-Sammies-Trailer.jpg
ORGANIZER;CN="Simpell Sammies":MAILTO:info@simpelltreats.com
GEO:34.455698;-82.6866798
X-APPLE-STRUCTURED-LOCATION;VALUE=URI;X-ADDRESS=First Quality 441 Masters Blvd Anderson South Carolina;X-APPLE-RADIUS=500;X-TITLE=441 Masters Blvd:geo:-82.6866798,34.455698
END:VEVENT
BEGIN:VEVENT
DTSTART;TZID=America/New_York:20260421T110000
DTEND;TZID=America/New_York:20260421T130000
DTSTAMP:20260423T173018
CREATED:20251116T235758Z
LAST-MODIFIED:20251116T235758Z
UID:62015-1776769200-1776776400@864foodtrucks.com
SUMMARY:Simpell Sammies @ Borgwarner
DESCRIPTION:Simpell Sammies is open for business and ready to serve you flavorful and delicious sandwiches and hoagies.
URL:https://864foodtrucks.com/event/simpell-sammies-borgwarner-4/2026-04-21/
LOCATION:BorgWarner\, 15545 Wells Hwy\, Seneca
CATEGORIES:Food Truck Schedules,Seneca
ATTACH;FMTTYPE=image/jpeg:https://864foodtrucks.com/wp-content/uploads/2023/06/Simpell-Sammies-Trailer.jpg
ORGANIZER;CN="Simpell Sammies":MAILTO:info@simpelltreats.com
END:VEVENT
BEGIN:VEVENT
DTSTART;TZID=America/New_York:20260419T120000
DTEND;TZID=America/New_York:20260419T183000
DTSTAMP:20260423T173018
CREATED:20260412T194623Z
LAST-MODIFIED:20260412T194623Z
UID:61793-1776600000-1776623400@864foodtrucks.com
SUMMARY:Simpell Sammies @ Central Roller Mill
DESCRIPTION:Simpell Sammies is open for business and ready to serve you flavorful and delicious sandwiches and hoagies.
URL:https://864foodtrucks.com/event/simpell-sammies-central-roller-mill/
LOCATION:Central Roller Mill\, 300 Maden Bridge Rd\, Central\, South Carolina
CATEGORIES:Central,Food Truck Schedules
ATTACH;FMTTYPE=image/jpeg:https://864foodtrucks.com/wp-content/uploads/2023/06/Simpell-Sammies-Trailer.jpg
ORGANIZER;CN="Simpell Sammies":MAILTO:info@simpelltreats.com
GEO:34.7247521;-82.7849077
X-APPLE-STRUCTURED-LOCATION;VALUE=URI;X-ADDRESS=Central Roller Mill 300 Maden Bridge Rd Central South Carolina;X-APPLE-RADIUS=500;X-TITLE=300 Maden Bridge Rd:geo:-82.7849077,34.7247521
END:VEVENT
BEGIN:VEVENT
DTSTART;TZID=America/New_York:20260416T110000
DTEND;TZID=America/New_York:20260416T130000
DTSTAMP:20260423T173018
CREATED:20250921T193810Z
LAST-MODIFIED:20260419T195310Z
UID:61789-1776337200-1776344400@864foodtrucks.com
SUMMARY:Simpell Sammies @ BASF
DESCRIPTION:Simpell Sammies is open for business and ready to serve you flavorful and delicious sandwiches and hoagies.
URL:https://864foodtrucks.com/event/simpell-sammies-basf-3/2026-04-16/
LOCATION:BASF Catalysts LLC\, 554 Engelhard Drive\, Seneca\, South Carolina
CATEGORIES:Food Truck Schedules,Seneca
ATTACH;FMTTYPE=image/jpeg:https://864foodtrucks.com/wp-content/uploads/2023/06/Simpell-Sammies-Trailer.jpg
ORGANIZER;CN="Simpell Sammies":MAILTO:info@simpelltreats.com
GEO:34.6518557;-82.955869
X-APPLE-STRUCTURED-LOCATION;VALUE=URI;X-ADDRESS=BASF Catalysts LLC 554 Engelhard Drive Seneca South Carolina;X-APPLE-RADIUS=500;X-TITLE=554 Engelhard Drive:geo:-82.955869,34.6518557
END:VEVENT
BEGIN:VEVENT
DTSTART;TZID=America/New_York:20260415T100000
DTEND;TZID=America/New_York:20260415T130000
DTSTAMP:20260423T173018
CREATED:20250929T005458Z
LAST-MODIFIED:20250929T005458Z
UID:61791-1776247200-1776258000@864foodtrucks.com
SUMMARY:Simpell Sammies @ Mt Lebanon Elementary Teacher Lunch
DESCRIPTION:Simpell Sammies is open for business and ready to serve you flavorful and delicious sandwiches and hoagies.
URL:https://864foodtrucks.com/event/simpell-sammies-mt-lebanon-elementary-teacher-lunch/2026-04-15/
LOCATION:Mt Lebanon Elemetary\, 2850 Lebanon Rd\, Pendleton\, South Carolina
CATEGORIES:Food Truck Schedules,Pendleton
ATTACH;FMTTYPE=image/jpeg:https://864foodtrucks.com/wp-content/uploads/2023/06/Simpell-Sammies-Trailer.jpg
ORGANIZER;CN="Simpell Sammies":MAILTO:info@simpelltreats.com
GEO:34.6033673;-82.698965
X-APPLE-STRUCTURED-LOCATION;VALUE=URI;X-ADDRESS=Mt Lebanon Elemetary 2850 Lebanon Rd Pendleton South Carolina;X-APPLE-RADIUS=500;X-TITLE=2850 Lebanon Rd:geo:-82.698965,34.6033673
END:VEVENT
BEGIN:VEVENT
DTSTART;TZID=America/New_York:20260411T083000
DTEND;TZID=America/New_York:20260411T160000
DTSTAMP:20260423T173018
CREATED:20260406T000508Z
LAST-MODIFIED:20260406T000508Z
UID:61456-1775896200-1775923200@864foodtrucks.com
SUMMARY:Simpell Sammies @ Sawmill Training Complex
DESCRIPTION:Simpell Sammies is open for business and ready to serve you flavorful and delicious sandwiches and hoagies.
URL:https://864foodtrucks.com/event/simpell-sammies-sawmill-training-complex/
LOCATION:Sawmill Training Complex\, 8524 Neely Ferry Rd\, Laurens\, South Carolina
CATEGORIES:Food Truck Schedules,Laurens
ATTACH;FMTTYPE=image/jpeg:https://864foodtrucks.com/wp-content/uploads/2023/06/Simpell-Sammies-Trailer.jpg
ORGANIZER;CN="Simpell Sammies":MAILTO:info@simpelltreats.com
GEO:34.415343;-82.132496
X-APPLE-STRUCTURED-LOCATION;VALUE=URI;X-ADDRESS=Sawmill Training Complex 8524 Neely Ferry Rd Laurens South Carolina;X-APPLE-RADIUS=500;X-TITLE=8524 Neely Ferry Rd:geo:-82.132496,34.415343
END:VEVENT
BEGIN:VEVENT
DTSTART;TZID=America/New_York:20260408T110000
DTEND;TZID=America/New_York:20260408T130000
DTSTAMP:20260423T173018
CREATED:20251229T163638Z
LAST-MODIFIED:20260419T195227Z
UID:61452-1775646000-1775653200@864foodtrucks.com
SUMMARY:Simpell Sammies @ First Quality
DESCRIPTION:Simpell Sammies is open for business and ready to serve you flavorful and delicious sandwiches and hoagies.
URL:https://864foodtrucks.com/event/simpell-sammies-first-quality/2026-04-08/
LOCATION:First Quality\, 441 Masters Blvd\, Anderson\, South Carolina
CATEGORIES:Anderson,Food Truck Schedules
ATTACH;FMTTYPE=image/jpeg:https://864foodtrucks.com/wp-content/uploads/2023/06/Simpell-Sammies-Trailer.jpg
ORGANIZER;CN="Simpell Sammies":MAILTO:info@simpelltreats.com
GEO:34.455698;-82.6866798
X-APPLE-STRUCTURED-LOCATION;VALUE=URI;X-ADDRESS=First Quality 441 Masters Blvd Anderson South Carolina;X-APPLE-RADIUS=500;X-TITLE=441 Masters Blvd:geo:-82.6866798,34.455698
END:VEVENT
BEGIN:VEVENT
DTSTART;TZID=America/New_York:20260407T110000
DTEND;TZID=America/New_York:20260407T130000
DTSTAMP:20260423T173018
CREATED:20251116T235758Z
LAST-MODIFIED:20260419T195248Z
UID:61454-1775559600-1775566800@864foodtrucks.com
SUMMARY:Simpell Sammies @ Borgwarner
DESCRIPTION:Simpell Sammies is open for business and ready to serve you flavorful and delicious sandwiches and hoagies.
URL:https://864foodtrucks.com/event/simpell-sammies-borgwarner-4/2026-04-07/
LOCATION:BorgWarner\, 15545 Wells Hwy\, Seneca
CATEGORIES:Food Truck Schedules,Seneca
ATTACH;FMTTYPE=image/jpeg:https://864foodtrucks.com/wp-content/uploads/2023/06/Simpell-Sammies-Trailer.jpg
ORGANIZER;CN="Simpell Sammies":MAILTO:info@simpelltreats.com
END:VEVENT
BEGIN:VEVENT
DTSTART;TZID=America/New_York:20260328T100000
DTEND;TZID=America/New_York:20260328T140000
DTSTAMP:20260423T173018
CREATED:20260323T190412Z
LAST-MODIFIED:20260323T190412Z
UID:60954-1774692000-1774706400@864foodtrucks.com
SUMMARY:Simpell Sammies @ Forrest Fest
DESCRIPTION:Simpell Sammies is open for business and ready to serve you flavorful and delicious sandwiches and hoagies.
URL:https://864foodtrucks.com/event/simpell-sammies-forrest-fest/
LOCATION:Issaqueena Trailhead\, E Dam Rd\, Central\, South Carolina
CATEGORIES:Food Truck Schedules,Greenville
ATTACH;FMTTYPE=image/jpeg:https://864foodtrucks.com/wp-content/uploads/2023/06/Simpell-Sammies-Trailer.jpg
ORGANIZER;CN="Simpell Sammies":MAILTO:info@simpelltreats.com
GEO:34.736314;-82.853156
X-APPLE-STRUCTURED-LOCATION;VALUE=URI;X-ADDRESS=Issaqueena Trailhead E Dam Rd Central South Carolina;X-APPLE-RADIUS=500;X-TITLE=E Dam Rd:geo:-82.853156,34.736314
END:VEVENT
BEGIN:VEVENT
DTSTART;TZID=America/New_York:20260326T110000
DTEND;TZID=America/New_York:20260326T130000
DTSTAMP:20260423T173019
CREATED:20250921T193810Z
LAST-MODIFIED:20260419T195310Z
UID:60952-1774522800-1774530000@864foodtrucks.com
SUMMARY:Simpell Sammies @ BASF
DESCRIPTION:Simpell Sammies is open for business and ready to serve you flavorful and delicious sandwiches and hoagies.
URL:https://864foodtrucks.com/event/simpell-sammies-basf-3/2026-03-26/
LOCATION:BASF Catalysts LLC\, 554 Engelhard Drive\, Seneca\, South Carolina
CATEGORIES:Food Truck Schedules,Seneca
ATTACH;FMTTYPE=image/jpeg:https://864foodtrucks.com/wp-content/uploads/2023/06/Simpell-Sammies-Trailer.jpg
ORGANIZER;CN="Simpell Sammies":MAILTO:info@simpelltreats.com
GEO:34.6518557;-82.955869
X-APPLE-STRUCTURED-LOCATION;VALUE=URI;X-ADDRESS=BASF Catalysts LLC 554 Engelhard Drive Seneca South Carolina;X-APPLE-RADIUS=500;X-TITLE=554 Engelhard Drive:geo:-82.955869,34.6518557
END:VEVENT
BEGIN:VEVENT
DTSTART;TZID=America/New_York:20260325T110000
DTEND;TZID=America/New_York:20260325T130000
DTSTAMP:20260423T173019
CREATED:20251229T163638Z
LAST-MODIFIED:20260419T195226Z
UID:60948-1774436400-1774443600@864foodtrucks.com
SUMMARY:Simpell Sammies @ First Quality
DESCRIPTION:Simpell Sammies is open for business and ready to serve you flavorful and delicious sandwiches and hoagies.
URL:https://864foodtrucks.com/event/simpell-sammies-first-quality/2026-03-25/
LOCATION:First Quality\, 441 Masters Blvd\, Anderson\, South Carolina
CATEGORIES:Anderson,Food Truck Schedules
ATTACH;FMTTYPE=image/jpeg:https://864foodtrucks.com/wp-content/uploads/2023/06/Simpell-Sammies-Trailer.jpg
ORGANIZER;CN="Simpell Sammies":MAILTO:info@simpelltreats.com
GEO:34.455698;-82.6866798
X-APPLE-STRUCTURED-LOCATION;VALUE=URI;X-ADDRESS=First Quality 441 Masters Blvd Anderson South Carolina;X-APPLE-RADIUS=500;X-TITLE=441 Masters Blvd:geo:-82.6866798,34.455698
END:VEVENT
BEGIN:VEVENT
DTSTART;TZID=America/New_York:20260324T110000
DTEND;TZID=America/New_York:20260324T130000
DTSTAMP:20260423T173019
CREATED:20251116T235758Z
LAST-MODIFIED:20260419T195248Z
UID:60950-1774350000-1774357200@864foodtrucks.com
SUMMARY:Simpell Sammies @ Borgwarner
DESCRIPTION:Simpell Sammies is open for business and ready to serve you flavorful and delicious sandwiches and hoagies.
URL:https://864foodtrucks.com/event/simpell-sammies-borgwarner-4/2026-03-24/
LOCATION:BorgWarner\, 15545 Wells Hwy\, Seneca
CATEGORIES:Food Truck Schedules,Seneca
ATTACH;FMTTYPE=image/jpeg:https://864foodtrucks.com/wp-content/uploads/2023/06/Simpell-Sammies-Trailer.jpg
ORGANIZER;CN="Simpell Sammies":MAILTO:info@simpelltreats.com
END:VEVENT
BEGIN:VEVENT
DTSTART;TZID=America/New_York:20260321T100000
DTEND;TZID=America/New_York:20260321T170000
DTSTAMP:20260423T173019
CREATED:20260315T233757Z
LAST-MODIFIED:20260315T233757Z
UID:60703-1774087200-1774112400@864foodtrucks.com
SUMMARY:Simpell Sammies @ Wafflefest
DESCRIPTION:Simpell Sammies is open for business and ready to serve you flavorful and delicious sandwiches and hoagies.
URL:https://864foodtrucks.com/event/simpell-sammies-wafflefest/
LOCATION:Downtown Liberty\, 28 S Commerce St\, Liberty
CATEGORIES:Anderson,Food Truck Schedules
ATTACH;FMTTYPE=image/jpeg:https://864foodtrucks.com/wp-content/uploads/2023/06/Simpell-Sammies-Trailer.jpg
ORGANIZER;CN="Simpell Sammies":MAILTO:info@simpelltreats.com
END:VEVENT
BEGIN:VEVENT
DTSTART;TZID=America/New_York:20260318T170000
DTEND;TZID=America/New_York:20260318T200000
DTSTAMP:20260423T173019
CREATED:20260315T233616Z
LAST-MODIFIED:20260315T233616Z
UID:60700-1773853200-1773864000@864foodtrucks.com
SUMMARY:Simpell Sammies @ Mccants Give Back Night
DESCRIPTION:Simpell Sammies is open for business and ready to serve you flavorful and delicious sandwiches and hoagies.
URL:https://864foodtrucks.com/event/simpell-sammies-mccants-give-back-night/
LOCATION:McCants Middle School\, 105 S Fant St\, Anderson\, South Carolina
CATEGORIES:Anderson,Food Truck Schedules
ATTACH;FMTTYPE=image/jpeg:https://864foodtrucks.com/wp-content/uploads/2023/06/Simpell-Sammies-Trailer.jpg
ORGANIZER;CN="Simpell Sammies":MAILTO:info@simpelltreats.com
GEO:34.5033429;-82.6447017
X-APPLE-STRUCTURED-LOCATION;VALUE=URI;X-ADDRESS=McCants Middle School 105 S Fant St Anderson South Carolina;X-APPLE-RADIUS=500;X-TITLE=105 S Fant St:geo:-82.6447017,34.5033429
END:VEVENT
BEGIN:VEVENT
DTSTART;TZID=America/New_York:20260312T110000
DTEND;TZID=America/New_York:20260312T130000
DTSTAMP:20260423T173019
CREATED:20250921T193810Z
LAST-MODIFIED:20260419T195309Z
UID:60428-1773313200-1773320400@864foodtrucks.com
SUMMARY:Simpell Sammies @ BASF
DESCRIPTION:Simpell Sammies is open for business and ready to serve you flavorful and delicious sandwiches and hoagies.
URL:https://864foodtrucks.com/event/simpell-sammies-basf-3/2026-03-12/
LOCATION:BASF Catalysts LLC\, 554 Engelhard Drive\, Seneca\, South Carolina
CATEGORIES:Food Truck Schedules,Seneca
ATTACH;FMTTYPE=image/jpeg:https://864foodtrucks.com/wp-content/uploads/2023/06/Simpell-Sammies-Trailer.jpg
ORGANIZER;CN="Simpell Sammies":MAILTO:info@simpelltreats.com
GEO:34.6518557;-82.955869
X-APPLE-STRUCTURED-LOCATION;VALUE=URI;X-ADDRESS=BASF Catalysts LLC 554 Engelhard Drive Seneca South Carolina;X-APPLE-RADIUS=500;X-TITLE=554 Engelhard Drive:geo:-82.955869,34.6518557
END:VEVENT
BEGIN:VEVENT
DTSTART;TZID=America/New_York:20260311T110000
DTEND;TZID=America/New_York:20260311T130000
DTSTAMP:20260423T173019
CREATED:20251229T163638Z
LAST-MODIFIED:20260419T195226Z
UID:60424-1773226800-1773234000@864foodtrucks.com
SUMMARY:Simpell Sammies @ First Quality
DESCRIPTION:Simpell Sammies is open for business and ready to serve you flavorful and delicious sandwiches and hoagies.
URL:https://864foodtrucks.com/event/simpell-sammies-first-quality/2026-03-11/
LOCATION:First Quality\, 441 Masters Blvd\, Anderson\, South Carolina
CATEGORIES:Anderson,Food Truck Schedules
ATTACH;FMTTYPE=image/jpeg:https://864foodtrucks.com/wp-content/uploads/2023/06/Simpell-Sammies-Trailer.jpg
ORGANIZER;CN="Simpell Sammies":MAILTO:info@simpelltreats.com
GEO:34.455698;-82.6866798
X-APPLE-STRUCTURED-LOCATION;VALUE=URI;X-ADDRESS=First Quality 441 Masters Blvd Anderson South Carolina;X-APPLE-RADIUS=500;X-TITLE=441 Masters Blvd:geo:-82.6866798,34.455698
END:VEVENT
BEGIN:VEVENT
DTSTART;TZID=America/New_York:20260310T110000
DTEND;TZID=America/New_York:20260310T130000
DTSTAMP:20260423T173019
CREATED:20251116T235758Z
LAST-MODIFIED:20260419T195248Z
UID:60426-1773140400-1773147600@864foodtrucks.com
SUMMARY:Simpell Sammies @ Borgwarner
DESCRIPTION:Simpell Sammies is open for business and ready to serve you flavorful and delicious sandwiches and hoagies.
URL:https://864foodtrucks.com/event/simpell-sammies-borgwarner-4/2026-03-10/
LOCATION:BorgWarner\, 15545 Wells Hwy\, Seneca
CATEGORIES:Food Truck Schedules,Seneca
ATTACH;FMTTYPE=image/jpeg:https://864foodtrucks.com/wp-content/uploads/2023/06/Simpell-Sammies-Trailer.jpg
ORGANIZER;CN="Simpell Sammies":MAILTO:info@simpelltreats.com
END:VEVENT
BEGIN:VEVENT
DTSTART;TZID=America/New_York:20260306T173000
DTEND;TZID=America/New_York:20260306T200000
DTSTAMP:20260423T173019
CREATED:20260302T002613Z
LAST-MODIFIED:20260302T002613Z
UID:60269-1772818200-1772827200@864foodtrucks.com
SUMMARY:Simpell Sammies @ Liberty High School
DESCRIPTION:Simpell Sammies is open for business and ready to serve you flavorful and delicious sandwiches and hoagies.
URL:https://864foodtrucks.com/event/simpell-sammies-liberty-high-school-2/
LOCATION:Liberty High School\, Red Devil Drive\, Hailey\, Idaho\, 83333\, United States
CATEGORIES:Food Truck Schedules
ATTACH;FMTTYPE=image/jpeg:https://864foodtrucks.com/wp-content/uploads/2023/06/Simpell-Sammies-Trailer.jpg
ORGANIZER;CN="Simpell Sammies":MAILTO:info@simpelltreats.com
GEO:43.5402128;-114.3177428
X-APPLE-STRUCTURED-LOCATION;VALUE=URI;X-ADDRESS=Liberty High School Red Devil Drive Hailey Idaho 83333 United States;X-APPLE-RADIUS=500;X-TITLE=Red Devil Drive:geo:-114.3177428,43.5402128
END:VEVENT
BEGIN:VEVENT
DTSTART;TZID=America/New_York:20260305T110000
DTEND;TZID=America/New_York:20260305T130000
DTSTAMP:20260423T173019
CREATED:20250413T140759Z
LAST-MODIFIED:20250413T140759Z
UID:60267-1772708400-1772715600@864foodtrucks.com
SUMMARY:Simpell Sammies @ Michelin
DESCRIPTION:Simpell Sammies is open for business and ready to serve you flavorful and delicious sandwiches and hoagies.
URL:https://864foodtrucks.com/event/simpell-sammies-michelin-2/2026-03-05/
LOCATION:Michelin\, 10 Bib Way\, Anderson\, South Carolina
CATEGORIES:Anderson,Food Truck Schedules
ATTACH;FMTTYPE=image/jpeg:https://864foodtrucks.com/wp-content/uploads/2023/06/Simpell-Sammies-Trailer.jpg
ORGANIZER;CN="Simpell Sammies":MAILTO:info@simpelltreats.com
GEO:34.7264362;-82.3658822
X-APPLE-STRUCTURED-LOCATION;VALUE=URI;X-ADDRESS=Michelin 10 Bib Way Anderson South Carolina;X-APPLE-RADIUS=500;X-TITLE=10 Bib Way:geo:-82.3658822,34.7264362
END:VEVENT
BEGIN:VEVENT
DTSTART;TZID=America/New_York:20260226T110000
DTEND;TZID=America/New_York:20260226T130000
DTSTAMP:20260423T173019
CREATED:20250921T193810Z
LAST-MODIFIED:20260419T195309Z
UID:60082-1772103600-1772110800@864foodtrucks.com
SUMMARY:Simpell Sammies @ BASF
DESCRIPTION:Simpell Sammies is open for business and ready to serve you flavorful and delicious sandwiches and hoagies.
URL:https://864foodtrucks.com/event/simpell-sammies-basf-3/2026-02-26/
LOCATION:BASF Catalysts LLC\, 554 Engelhard Drive\, Seneca\, South Carolina
CATEGORIES:Food Truck Schedules,Seneca
ATTACH;FMTTYPE=image/jpeg:https://864foodtrucks.com/wp-content/uploads/2023/06/Simpell-Sammies-Trailer.jpg
ORGANIZER;CN="Simpell Sammies":MAILTO:info@simpelltreats.com
GEO:34.6518557;-82.955869
X-APPLE-STRUCTURED-LOCATION;VALUE=URI;X-ADDRESS=BASF Catalysts LLC 554 Engelhard Drive Seneca South Carolina;X-APPLE-RADIUS=500;X-TITLE=554 Engelhard Drive:geo:-82.955869,34.6518557
END:VEVENT
BEGIN:VEVENT
DTSTART;TZID=America/New_York:20260225T110000
DTEND;TZID=America/New_York:20260225T130000
DTSTAMP:20260423T173019
CREATED:20251229T163638Z
LAST-MODIFIED:20260419T195226Z
UID:60080-1772017200-1772024400@864foodtrucks.com
SUMMARY:Simpell Sammies @ First Quality
DESCRIPTION:Simpell Sammies is open for business and ready to serve you flavorful and delicious sandwiches and hoagies.
URL:https://864foodtrucks.com/event/simpell-sammies-first-quality/2026-02-25/
LOCATION:First Quality\, 441 Masters Blvd\, Anderson\, South Carolina
CATEGORIES:Anderson,Food Truck Schedules
ATTACH;FMTTYPE=image/jpeg:https://864foodtrucks.com/wp-content/uploads/2023/06/Simpell-Sammies-Trailer.jpg
ORGANIZER;CN="Simpell Sammies":MAILTO:info@simpelltreats.com
GEO:34.455698;-82.6866798
X-APPLE-STRUCTURED-LOCATION;VALUE=URI;X-ADDRESS=First Quality 441 Masters Blvd Anderson South Carolina;X-APPLE-RADIUS=500;X-TITLE=441 Masters Blvd:geo:-82.6866798,34.455698
END:VEVENT
BEGIN:VEVENT
DTSTART;TZID=America/New_York:20260221T110000
DTEND;TZID=America/New_York:20260221T140000
DTSTAMP:20260423T173019
CREATED:20260216T003756Z
LAST-MODIFIED:20260216T003756Z
UID:59744-1771671600-1771682400@864foodtrucks.com
SUMMARY:Simpell Sammies @ Batters Box
DESCRIPTION:Simpell Sammies is open for business and ready to serve you flavorful and delicious sandwiches and hoagies.
URL:https://864foodtrucks.com/event/simpell-sammies-batters-box/
LOCATION:Batter’s Box\, 103 Metro Dr\, Anderson\, South Carolina
CATEGORIES:Anderson,Food Truck Schedules
ATTACH;FMTTYPE=image/jpeg:https://864foodtrucks.com/wp-content/uploads/2023/06/Simpell-Sammies-Trailer.jpg
ORGANIZER;CN="Simpell Sammies":MAILTO:info@simpelltreats.com
GEO:34.5465861;-82.6921923
X-APPLE-STRUCTURED-LOCATION;VALUE=URI;X-ADDRESS=Batter’s Box 103 Metro Dr Anderson South Carolina;X-APPLE-RADIUS=500;X-TITLE=103 Metro Dr:geo:-82.6921923,34.5465861
END:VEVENT
BEGIN:VEVENT
DTSTART;TZID=America/New_York:20260219T110000
DTEND;TZID=America/New_York:20260219T130000
DTSTAMP:20260423T173019
CREATED:20250921T193810Z
LAST-MODIFIED:20260419T195309Z
UID:59742-1771498800-1771506000@864foodtrucks.com
SUMMARY:Simpell Sammies @ BASF
DESCRIPTION:Simpell Sammies is open for business and ready to serve you flavorful and delicious sandwiches and hoagies.
URL:https://864foodtrucks.com/event/simpell-sammies-basf-3/2026-02-19/
LOCATION:BASF Catalysts LLC\, 554 Engelhard Drive\, Seneca\, South Carolina
CATEGORIES:Food Truck Schedules,Seneca
ATTACH;FMTTYPE=image/jpeg:https://864foodtrucks.com/wp-content/uploads/2023/06/Simpell-Sammies-Trailer.jpg
ORGANIZER;CN="Simpell Sammies":MAILTO:info@simpelltreats.com
GEO:34.6518557;-82.955869
X-APPLE-STRUCTURED-LOCATION;VALUE=URI;X-ADDRESS=BASF Catalysts LLC 554 Engelhard Drive Seneca South Carolina;X-APPLE-RADIUS=500;X-TITLE=554 Engelhard Drive:geo:-82.955869,34.6518557
END:VEVENT
BEGIN:VEVENT
DTSTART;TZID=America/New_York:20260213T110000
DTEND;TZID=America/New_York:20260213T150000
DTSTAMP:20260423T173019
CREATED:20260208T204232Z
LAST-MODIFIED:20260208T204232Z
UID:59538-1770980400-1770994800@864foodtrucks.com
SUMMARY:Simpell Sammies @ Mane Co - Galentines Event
DESCRIPTION:Simpell Sammies is open for business and ready to serve you flavorful and delicious sandwiches and hoagies.
URL:https://864foodtrucks.com/event/simpell-sammies-mane-co-galentines-event/
LOCATION:The MANE Co\, North Main Street 2303\, Anderson\, South Carolina\, 29621\, United States
CATEGORIES:Anderson,Food Truck Schedules
ATTACH;FMTTYPE=image/jpeg:https://864foodtrucks.com/wp-content/uploads/2023/06/Simpell-Sammies-Trailer.jpg
ORGANIZER;CN="Simpell Sammies":MAILTO:info@simpelltreats.com
GEO:34.5260013;-82.6586919
X-APPLE-STRUCTURED-LOCATION;VALUE=URI;X-ADDRESS=The MANE Co North Main Street 2303 Anderson South Carolina 29621 United States;X-APPLE-RADIUS=500;X-TITLE=North Main Street 2303:geo:-82.6586919,34.5260013
END:VEVENT
BEGIN:VEVENT
DTSTART;TZID=America/New_York:20260212T110000
DTEND;TZID=America/New_York:20260212T130000
DTSTAMP:20260423T173019
CREATED:20250921T193810Z
LAST-MODIFIED:20260419T195308Z
UID:59536-1770894000-1770901200@864foodtrucks.com
SUMMARY:Simpell Sammies @ BASF
DESCRIPTION:Simpell Sammies is open for business and ready to serve you flavorful and delicious sandwiches and hoagies.
URL:https://864foodtrucks.com/event/simpell-sammies-basf-3/2026-02-12/
LOCATION:BASF Catalysts LLC\, 554 Engelhard Drive\, Seneca\, South Carolina
CATEGORIES:Food Truck Schedules,Seneca
ATTACH;FMTTYPE=image/jpeg:https://864foodtrucks.com/wp-content/uploads/2023/06/Simpell-Sammies-Trailer.jpg
ORGANIZER;CN="Simpell Sammies":MAILTO:info@simpelltreats.com
GEO:34.6518557;-82.955869
X-APPLE-STRUCTURED-LOCATION;VALUE=URI;X-ADDRESS=BASF Catalysts LLC 554 Engelhard Drive Seneca South Carolina;X-APPLE-RADIUS=500;X-TITLE=554 Engelhard Drive:geo:-82.955869,34.6518557
END:VEVENT
BEGIN:VEVENT
DTSTART;TZID=America/New_York:20260211T110000
DTEND;TZID=America/New_York:20260211T130000
DTSTAMP:20260423T173019
CREATED:20251229T163638Z
LAST-MODIFIED:20260419T195226Z
UID:59534-1770807600-1770814800@864foodtrucks.com
SUMMARY:Simpell Sammies @ First Quality
DESCRIPTION:Simpell Sammies is open for business and ready to serve you flavorful and delicious sandwiches and hoagies.
URL:https://864foodtrucks.com/event/simpell-sammies-first-quality/2026-02-11/
LOCATION:First Quality\, 441 Masters Blvd\, Anderson\, South Carolina
CATEGORIES:Anderson,Food Truck Schedules
ATTACH;FMTTYPE=image/jpeg:https://864foodtrucks.com/wp-content/uploads/2023/06/Simpell-Sammies-Trailer.jpg
ORGANIZER;CN="Simpell Sammies":MAILTO:info@simpelltreats.com
GEO:34.455698;-82.6866798
X-APPLE-STRUCTURED-LOCATION;VALUE=URI;X-ADDRESS=First Quality 441 Masters Blvd Anderson South Carolina;X-APPLE-RADIUS=500;X-TITLE=441 Masters Blvd:geo:-82.6866798,34.455698
END:VEVENT
BEGIN:VEVENT
DTSTART;TZID=America/New_York:20260207T163000
DTEND;TZID=America/New_York:20260207T180000
DTSTAMP:20260423T173019
CREATED:20260118T205426Z
LAST-MODIFIED:20260118T205426Z
UID:59356-1770481800-1770487200@864foodtrucks.com
SUMMARY:Simpell Sammies @ Second Chance Church
DESCRIPTION:Simpell Sammies is open for business and ready to serve you flavorful and delicious sandwiches and hoagies.
URL:https://864foodtrucks.com/event/simpell-sammies-second-chance-church/2026-02-07/
LOCATION:Second Chance Church\, 3233 Martin Luther King Jr Blvd\, Anderson\, South Carolina
CATEGORIES:Anderson,Food Truck Schedules
ATTACH;FMTTYPE=image/jpeg:https://864foodtrucks.com/wp-content/uploads/2023/06/Simpell-Sammies-Trailer.jpg
ORGANIZER;CN="Simpell Sammies":MAILTO:info@simpelltreats.com
GEO:34.5437009;-82.6704621
X-APPLE-STRUCTURED-LOCATION;VALUE=URI;X-ADDRESS=Second Chance Church 3233 Martin Luther King Jr Blvd Anderson South Carolina;X-APPLE-RADIUS=500;X-TITLE=3233 Martin Luther King Jr Blvd:geo:-82.6704621,34.5437009
END:VEVENT
BEGIN:VEVENT
DTSTART;TZID=America/New_York:20260205T110000
DTEND;TZID=America/New_York:20260205T130000
DTSTAMP:20260423T173019
CREATED:20250921T193810Z
LAST-MODIFIED:20260419T195302Z
UID:59358-1770289200-1770296400@864foodtrucks.com
SUMMARY:Simpell Sammies @ BASF
DESCRIPTION:Simpell Sammies is open for business and ready to serve you flavorful and delicious sandwiches and hoagies.
URL:https://864foodtrucks.com/event/simpell-sammies-basf-3/2026-02-05/
LOCATION:BASF Catalysts LLC\, 554 Engelhard Drive\, Seneca\, South Carolina
CATEGORIES:Food Truck Schedules,Seneca
ATTACH;FMTTYPE=image/jpeg:https://864foodtrucks.com/wp-content/uploads/2023/06/Simpell-Sammies-Trailer.jpg
ORGANIZER;CN="Simpell Sammies":MAILTO:info@simpelltreats.com
GEO:34.6518557;-82.955869
X-APPLE-STRUCTURED-LOCATION;VALUE=URI;X-ADDRESS=BASF Catalysts LLC 554 Engelhard Drive Seneca South Carolina;X-APPLE-RADIUS=500;X-TITLE=554 Engelhard Drive:geo:-82.955869,34.6518557
END:VEVENT
BEGIN:VEVENT
DTSTART;TZID=America/New_York:20260203T110000
DTEND;TZID=America/New_York:20260203T133000
DTSTAMP:20260423T173019
CREATED:20231203T151828Z
LAST-MODIFIED:20231203T151828Z
UID:59360-1770116400-1770125400@864foodtrucks.com
SUMMARY:Simpell Sammies @ Milliken
DESCRIPTION:Simpell Sammies is open for business and ready to serve you flavorful and delicious sandwiches and hoagies.
URL:https://864foodtrucks.com/event/simpell-sammies-milliken/2026-02-03/
LOCATION:Milliken Pendleton\, 200 Excelsior Mill Rd\, Pendleton\, South Carolina
CATEGORIES:Clemsen,Food Truck Schedules
ATTACH;FMTTYPE=image/jpeg:https://864foodtrucks.com/wp-content/uploads/2023/06/Simpell-Sammies-Trailer.jpg
ORGANIZER;CN="Simpell Sammies":MAILTO:info@simpelltreats.com
GEO:34.659241;-82.803958
X-APPLE-STRUCTURED-LOCATION;VALUE=URI;X-ADDRESS=Milliken Pendleton 200 Excelsior Mill Rd Pendleton South Carolina;X-APPLE-RADIUS=500;X-TITLE=200 Excelsior Mill Rd:geo:-82.803958,34.659241
END:VEVENT
END:VCALENDAR