BEGIN:VCALENDAR
VERSION:2.0
PRODID:-//864 Food Trucks - ECPv6.15.20//NONSGML v1.0//EN
CALSCALE:GREGORIAN
METHOD:PUBLISH
X-ORIGINAL-URL:https://864foodtrucks.com
X-WR-CALDESC:Events for 864 Food Trucks
REFRESH-INTERVAL;VALUE=DURATION:PT1H
X-Robots-Tag:noindex
X-PUBLISHED-TTL:PT1H
BEGIN:VTIMEZONE
TZID:America/New_York
BEGIN:DAYLIGHT
TZOFFSETFROM:-0500
TZOFFSETTO:-0400
TZNAME:EDT
DTSTART:20220313T070000
END:DAYLIGHT
BEGIN:STANDARD
TZOFFSETFROM:-0400
TZOFFSETTO:-0500
TZNAME:EST
DTSTART:20221106T060000
END:STANDARD
BEGIN:DAYLIGHT
TZOFFSETFROM:-0500
TZOFFSETTO:-0400
TZNAME:EDT
DTSTART:20230312T070000
END:DAYLIGHT
BEGIN:STANDARD
TZOFFSETFROM:-0400
TZOFFSETTO:-0500
TZNAME:EST
DTSTART:20231105T060000
END:STANDARD
BEGIN:DAYLIGHT
TZOFFSETFROM:-0500
TZOFFSETTO:-0400
TZNAME:EDT
DTSTART:20240310T070000
END:DAYLIGHT
BEGIN:STANDARD
TZOFFSETFROM:-0400
TZOFFSETTO:-0500
TZNAME:EST
DTSTART:20241103T060000
END:STANDARD
BEGIN:DAYLIGHT
TZOFFSETFROM:-0500
TZOFFSETTO:-0400
TZNAME:EDT
DTSTART:20250309T070000
END:DAYLIGHT
BEGIN:STANDARD
TZOFFSETFROM:-0400
TZOFFSETTO:-0500
TZNAME:EST
DTSTART:20251102T060000
END:STANDARD
END:VTIMEZONE
BEGIN:VEVENT
DTSTART;TZID=America/New_York:20240221T120000
DTEND;TZID=America/New_York:20240221T180000
DTSTAMP:20260424T204812
CREATED:20240220T194923Z
LAST-MODIFIED:20240220T194923Z
UID:26263-1708516800-1708538400@864foodtrucks.com
SUMMARY:That Grill on the Wheel @ John Dodd Rd
DESCRIPTION:
URL:https://864foodtrucks.com/event/that-grill-on-the-wheel-john-dodd-rd/
LOCATION:120 John Dodd Rd\, John Dodd Road 120\, Spartanburg\, South Carolina\, 29303\, United States
CATEGORIES:Food Truck Schedules,Spartanburg
ATTACH;FMTTYPE=image/png:https://864foodtrucks.com/wp-content/uploads/2023/11/That-Grill-on-the-Wheel.png
GEO:35.0145637;-82.0239812
X-APPLE-STRUCTURED-LOCATION;VALUE=URI;X-ADDRESS=120 John Dodd Rd John Dodd Road 120 Spartanburg South Carolina 29303 United States;X-APPLE-RADIUS=500;X-TITLE=John Dodd Road 120:geo:-82.0239812,35.0145637
END:VEVENT
BEGIN:VEVENT
DTSTART;TZID=America/New_York:20240220T110000
DTEND;TZID=America/New_York:20240220T170000
DTSTAMP:20260424T204812
CREATED:20240220T194750Z
LAST-MODIFIED:20240304T192839Z
UID:26260-1708426800-1708448400@864foodtrucks.com
SUMMARY:That Grill on the Wheel @ E Greenville St
DESCRIPTION:
URL:https://864foodtrucks.com/event/that-grill-on-the-wheel-e-greenville-st/2024-02-20/
LOCATION:1705 E Greenville St\, East Greenville Street 1705\, Anderson\, South Carolina\, 29621\, United States
CATEGORIES:Anderson,Food Truck Schedules
ATTACH;FMTTYPE=image/png:https://864foodtrucks.com/wp-content/uploads/2023/11/That-Grill-on-the-Wheel.png
GEO:34.5364232;-82.6313534
X-APPLE-STRUCTURED-LOCATION;VALUE=URI;X-ADDRESS=1705 E Greenville St East Greenville Street 1705 Anderson South Carolina 29621 United States;X-APPLE-RADIUS=500;X-TITLE=East Greenville Street 1705:geo:-82.6313534,34.5364232
END:VEVENT
BEGIN:VEVENT
DTSTART;TZID=America/New_York:20240213T110000
DTEND;TZID=America/New_York:20240213T170000
DTSTAMP:20260424T204812
CREATED:20240213T171512Z
LAST-MODIFIED:20240213T171512Z
UID:25927-1707822000-1707843600@864foodtrucks.com
SUMMARY:That Grill on the Wheel @ 3423 Clemson Blvd
DESCRIPTION:
URL:https://864foodtrucks.com/event/that-grill-on-the-wheel-3423-clemson-blvd/
LOCATION:3423 Clemson Blvd\, Clemson Boulevard 3423\, Anderson\, South Carolina\, 29621\, United States
CATEGORIES:Anderson,Food Truck Schedules
ATTACH;FMTTYPE=image/png:https://864foodtrucks.com/wp-content/uploads/2023/11/That-Grill-on-the-Wheel.png
GEO:34.5472334;-82.6739599
X-APPLE-STRUCTURED-LOCATION;VALUE=URI;X-ADDRESS=3423 Clemson Blvd Clemson Boulevard 3423 Anderson South Carolina 29621 United States;X-APPLE-RADIUS=500;X-TITLE=Clemson Boulevard 3423:geo:-82.6739599,34.5472334
END:VEVENT
BEGIN:VEVENT
DTSTART;TZID=America/New_York:20231121T110000
DTEND;TZID=America/New_York:20231121T110000
DTSTAMP:20260424T204812
CREATED:20231119T153639Z
LAST-MODIFIED:20240226T182958Z
UID:24186-1700564400-1700564400@864foodtrucks.com
SUMMARY:That Grill on the Wheel @ Anderson Mall
DESCRIPTION:
URL:https://864foodtrucks.com/event/that-grill-on-the-wheel-anderson-mall/2023-11-21/
LOCATION:Anderson Mall\, Anderson\, South Carolina
CATEGORIES:Anderson,Food Truck Schedules
ATTACH;FMTTYPE=image/png:https://864foodtrucks.com/wp-content/uploads/2023/11/That-Grill-on-the-Wheel.png
GEO:34.5034394;-82.6501332
END:VEVENT
END:VCALENDAR