BEGIN:VCALENDAR
VERSION:2.0
PRODID:-//864 Food Trucks - ECPv6.15.20//NONSGML v1.0//EN
CALSCALE:GREGORIAN
METHOD:PUBLISH
X-WR-CALNAME:864 Food Trucks
X-ORIGINAL-URL:https://864foodtrucks.com
X-WR-CALDESC:Events for 864 Food Trucks
REFRESH-INTERVAL;VALUE=DURATION:PT1H
X-Robots-Tag:noindex
X-PUBLISHED-TTL:PT1H
BEGIN:VTIMEZONE
TZID:America/New_York
BEGIN:DAYLIGHT
TZOFFSETFROM:-0500
TZOFFSETTO:-0400
TZNAME:EDT
DTSTART:20210314T070000
END:DAYLIGHT
BEGIN:STANDARD
TZOFFSETFROM:-0400
TZOFFSETTO:-0500
TZNAME:EST
DTSTART:20211107T060000
END:STANDARD
BEGIN:DAYLIGHT
TZOFFSETFROM:-0500
TZOFFSETTO:-0400
TZNAME:EDT
DTSTART:20220313T070000
END:DAYLIGHT
BEGIN:STANDARD
TZOFFSETFROM:-0400
TZOFFSETTO:-0500
TZNAME:EST
DTSTART:20221106T060000
END:STANDARD
BEGIN:DAYLIGHT
TZOFFSETFROM:-0500
TZOFFSETTO:-0400
TZNAME:EDT
DTSTART:20230312T070000
END:DAYLIGHT
BEGIN:STANDARD
TZOFFSETFROM:-0400
TZOFFSETTO:-0500
TZNAME:EST
DTSTART:20231105T060000
END:STANDARD
BEGIN:DAYLIGHT
TZOFFSETFROM:-0500
TZOFFSETTO:-0400
TZNAME:EDT
DTSTART:20240310T070000
END:DAYLIGHT
BEGIN:STANDARD
TZOFFSETFROM:-0400
TZOFFSETTO:-0500
TZNAME:EST
DTSTART:20241103T060000
END:STANDARD
END:VTIMEZONE
BEGIN:VEVENT
DTSTART;TZID=America/New_York:20230607T070000
DTEND;TZID=America/New_York:20230607T130000
DTSTAMP:20260425T204045
CREATED:20230606T183438Z
LAST-MODIFIED:20230606T183438Z
UID:19492-1686121200-1686142800@864foodtrucks.com
SUMMARY:The Donut Wagon @ West Small Business Service
DESCRIPTION:We are a mobile business (food truck)\, and sell glazed donuts and hand crafted soft pretzels\, fresh\, made from scratch! We serve local towns once a week and also serve at festivals\, farmers markets\, etc.
URL:https://864foodtrucks.com/event/the-donut-wagon-west-small-business-service/
LOCATION:West Small Business Services\, 2123 N Hwy 81\, Anderson\, South Carolina
CATEGORIES:Anderson,Food Truck Schedules
ATTACH;FMTTYPE=image/jpeg:https://864foodtrucks.com/wp-content/uploads/2021/05/The-Donut-Wagon.jpg
GEO:34.5530319;-82.6303375
X-APPLE-STRUCTURED-LOCATION;VALUE=URI;X-ADDRESS=West Small Business Services 2123 N Hwy 81 Anderson South Carolina;X-APPLE-RADIUS=500;X-TITLE=2123 N Hwy 81:geo:-82.6303375,34.5530319
END:VEVENT
BEGIN:VEVENT
DTSTART;TZID=America/New_York:20230211T080000
DTEND;TZID=America/New_York:20230211T130000
DTSTAMP:20260425T204045
CREATED:20230207T014653Z
LAST-MODIFIED:20240729T195326Z
UID:16637-1676102400-1676120400@864foodtrucks.com
SUMMARY:The Donut Wagon @ Beside Exxon Station
DESCRIPTION:We are a mobile business (food truck)\, and sell glazed donuts and hand crafted soft pretzels\, fresh\, made from scratch! We serve local towns once a week and also serve at festivals\, farmers markets\, etc.
URL:https://864foodtrucks.com/event/the-donut-wagon-beside-exxon-station/2023-02-11/
LOCATION:Across from Exxon Station\, Walhalla\, South Carolina
CATEGORIES:Walhalla
ATTACH;FMTTYPE=image/jpeg:https://864foodtrucks.com/wp-content/uploads/2021/05/The-Donut-Wagon.jpg
GEO:34.7648176;-83.0640417
END:VEVENT
BEGIN:VEVENT
DTSTART;TZID=America/New_York:20230210T070000
DTEND;TZID=America/New_York:20230210T130000
DTSTAMP:20260425T204045
CREATED:20230207T014540Z
LAST-MODIFIED:20230207T014540Z
UID:16635-1676012400-1676034000@864foodtrucks.com
SUMMARY:The Donut Wagon @ Hochstetlers Country Store
DESCRIPTION:We are a mobile business (food truck)\, and sell glazed donuts and hand crafted soft pretzels\, fresh\, made from scratch! We serve local towns once a week and also serve at festivals\, farmers markets\, etc.
URL:https://864foodtrucks.com/event/the-donut-wagon-hochstetlers-country-store-3/
LOCATION:Hochstetlers Country Store\, 1470 S Walnut St\, Seneca\, SC\, 29678\, United States
CATEGORIES:Food Truck Schedules,Seneca
ATTACH;FMTTYPE=image/jpeg:https://864foodtrucks.com/wp-content/uploads/2021/05/The-Donut-Wagon.jpg
GEO:34.6591297;-82.9340848
X-APPLE-STRUCTURED-LOCATION;VALUE=URI;X-ADDRESS=Hochstetlers Country Store 1470 S Walnut St Seneca SC 29678 United States;X-APPLE-RADIUS=500;X-TITLE=1470 S Walnut St:geo:-82.9340848,34.6591297
END:VEVENT
BEGIN:VEVENT
DTSTART;TZID=America/New_York:20221221T173000
DTEND;TZID=America/New_York:20221221T210000
DTSTAMP:20260425T204045
CREATED:20221219T211131Z
LAST-MODIFIED:20221220T005333Z
UID:15722-1671643800-1671656400@864foodtrucks.com
SUMMARY:The Donut Wagon @ Downtown Seneca
DESCRIPTION:We are a mobile business (food truck)\, and sell glazed donuts and hand crafted soft pretzels\, fresh\, made from scratch! We serve local towns once a week and also serve at festivals\, farmers markets\, etc.
URL:https://864foodtrucks.com/event/the-donut-wagon-downtown-seneca/
LOCATION:Downtown Seneca\, Seneca\, SC\, United States
CATEGORIES:Food Truck Schedules,Seneca
ATTACH;FMTTYPE=image/jpeg:https://864foodtrucks.com/wp-content/uploads/2021/05/The-Donut-Wagon.jpg
END:VEVENT
BEGIN:VEVENT
DTSTART;TZID=America/New_York:20221119T080000
DTEND;TZID=America/New_York:20221119T130000
DTSTAMP:20260425T204045
CREATED:20221114T222619Z
LAST-MODIFIED:20221219T210102Z
UID:14658-1668844800-1668862800@864foodtrucks.com
SUMMARY:The Donut Wagon @ Exxon Station Walhalla
DESCRIPTION:We are a mobile business (food truck)\, and sell glazed donuts and hand crafted soft pretzels\, fresh\, made from scratch! We serve local towns once a week and also serve at festivals\, farmers markets\, etc.
URL:https://864foodtrucks.com/event/the-donut-wagon-exxon-station-walhalla/2022-11-19/
LOCATION:Across from Exxon Station\, Walhalla\, South Carolina
CATEGORIES:Food Truck Schedules,Walhalla
ATTACH;FMTTYPE=image/jpeg:https://864foodtrucks.com/wp-content/uploads/2021/05/The-Donut-Wagon.jpg
GEO:34.7648176;-83.0640417
END:VEVENT
BEGIN:VEVENT
DTSTART;TZID=America/New_York:20221118T080000
DTEND;TZID=America/New_York:20221118T130000
DTSTAMP:20260425T204045
CREATED:20221114T222502Z
LAST-MODIFIED:20231113T222222Z
UID:14656-1668758400-1668776400@864foodtrucks.com
SUMMARY:The Donut Wagon @ Fatz Cafe Seneca
DESCRIPTION:We are a mobile business (food truck)\, and sell glazed donuts and hand crafted soft pretzels\, fresh\, made from scratch! We serve local towns once a week and also serve at festivals\, farmers markets\, etc.
URL:https://864foodtrucks.com/event/the-donut-wagon-fatz-cafe-seneca/2022-11-18/
LOCATION:Fatz Cafe in Seneca\, 1615 Sandifer Blvd\, Seneca\, SC\, 29678\, United States
CATEGORIES:Food Truck Schedules,Seneca
ATTACH;FMTTYPE=image/jpeg:https://864foodtrucks.com/wp-content/uploads/2021/05/The-Donut-Wagon.jpg
GEO:34.6880647;-82.9955537
X-APPLE-STRUCTURED-LOCATION;VALUE=URI;X-ADDRESS=Fatz Cafe in Seneca 1615 Sandifer Blvd Seneca SC 29678 United States;X-APPLE-RADIUS=500;X-TITLE=1615 Sandifer Blvd:geo:-82.9955537,34.6880647
END:VEVENT
BEGIN:VEVENT
DTSTART;TZID=America/New_York:20221112T080000
DTEND;TZID=America/New_York:20221112T130000
DTSTAMP:20260425T204045
CREATED:20221107T201158Z
LAST-MODIFIED:20230315T000246Z
UID:14472-1668240000-1668258000@864foodtrucks.com
SUMMARY:Donut Wagon @ Crosspoint Church
DESCRIPTION:We are a mobile business (food truck)\, and sell glazed donuts and hand crafted soft pretzels\, fresh\, made from scratch! We serve local towns once a week and also serve at festivals\, farmers markets\, etc.
URL:https://864foodtrucks.com/event/donut-wagon-crosspoint-church/2022-11-12/
LOCATION:Crosspoint Church\, 1019 Tiger Blvd\, Clemson\, SC\, 29631\, United States
CATEGORIES:Clemsen,Food Truck Schedules
ATTACH;FMTTYPE=image/jpeg:https://864foodtrucks.com/wp-content/uploads/2021/05/The-Donut-Wagon.jpg
GEO:34.6928612;-82.8407543
X-APPLE-STRUCTURED-LOCATION;VALUE=URI;X-ADDRESS=Crosspoint Church 1019 Tiger Blvd Clemson SC 29631 United States;X-APPLE-RADIUS=500;X-TITLE=1019 Tiger Blvd:geo:-82.8407543,34.6928612
END:VEVENT
BEGIN:VEVENT
DTSTART;TZID=America/New_York:20221111T070000
DTEND;TZID=America/New_York:20221111T130000
DTSTAMP:20260425T204045
CREATED:20221107T201021Z
LAST-MODIFIED:20221206T011034Z
UID:14470-1668150000-1668171600@864foodtrucks.com
SUMMARY:The Donut Wagon @ Hochstetlers Country Store
DESCRIPTION:We are a mobile business (food truck)\, and sell glazed donuts and hand crafted soft pretzels\, fresh\, made from scratch! We serve local towns once a week and also serve at festivals\, farmers markets\, etc.
URL:https://864foodtrucks.com/event/the-donut-wagon-hochstetlers-country-store/2022-11-11/
LOCATION:Hochstetlers Country Store\, 1470 S Walnut St\, Seneca\, SC\, 29678\, United States
CATEGORIES:Food Truck Schedules,Seneca
ATTACH;FMTTYPE=image/jpeg:https://864foodtrucks.com/wp-content/uploads/2021/05/The-Donut-Wagon.jpg
GEO:34.6591297;-82.9340848
X-APPLE-STRUCTURED-LOCATION;VALUE=URI;X-ADDRESS=Hochstetlers Country Store 1470 S Walnut St Seneca SC 29678 United States;X-APPLE-RADIUS=500;X-TITLE=1470 S Walnut St:geo:-82.9340848,34.6591297
END:VEVENT
BEGIN:VEVENT
DTSTART;TZID=America/New_York:20221109T070000
DTEND;TZID=America/New_York:20221109T130000
DTSTAMP:20260425T204045
CREATED:20221107T200840Z
LAST-MODIFIED:20221213T130919Z
UID:14468-1667977200-1667998800@864foodtrucks.com
SUMMARY:The Donut Wagon @ State Farm Meg Boyles
DESCRIPTION:We are a mobile business (food truck)\, and sell glazed donuts and hand crafted soft pretzels\,fresh\, made from scratch! We serve local towns once a week and also serve at festivals\, farmers markets\, etc.
URL:https://864foodtrucks.com/event/the-donut-wagon-state-farm-meg-boyles/2022-11-09/
LOCATION:State Farm Easley\, 6404 Calhoun Memorial Hwy\, Easley\, South Carolina
CATEGORIES:Easley,Food Truck Schedules
ATTACH;FMTTYPE=image/jpeg:https://864foodtrucks.com/wp-content/uploads/2021/05/The-Donut-Wagon.jpg
GEO:34.8228719;-82.5836214
X-APPLE-STRUCTURED-LOCATION;VALUE=URI;X-ADDRESS=State Farm Easley 6404 Calhoun Memorial Hwy Easley South Carolina;X-APPLE-RADIUS=500;X-TITLE=6404 Calhoun Memorial Hwy:geo:-82.5836214,34.8228719
END:VEVENT
END:VCALENDAR