BEGIN:VCALENDAR
VERSION:2.0
PRODID:-//864 Food Trucks - ECPv6.15.20//NONSGML v1.0//EN
CALSCALE:GREGORIAN
METHOD:PUBLISH
X-ORIGINAL-URL:https://864foodtrucks.com
X-WR-CALDESC:Events for 864 Food Trucks
REFRESH-INTERVAL;VALUE=DURATION:PT1H
X-Robots-Tag:noindex
X-PUBLISHED-TTL:PT1H
BEGIN:VTIMEZONE
TZID:America/New_York
BEGIN:DAYLIGHT
TZOFFSETFROM:-0500
TZOFFSETTO:-0400
TZNAME:EDT
DTSTART:20220313T070000
END:DAYLIGHT
BEGIN:STANDARD
TZOFFSETFROM:-0400
TZOFFSETTO:-0500
TZNAME:EST
DTSTART:20221106T060000
END:STANDARD
BEGIN:DAYLIGHT
TZOFFSETFROM:-0500
TZOFFSETTO:-0400
TZNAME:EDT
DTSTART:20230312T070000
END:DAYLIGHT
BEGIN:STANDARD
TZOFFSETFROM:-0400
TZOFFSETTO:-0500
TZNAME:EST
DTSTART:20231105T060000
END:STANDARD
BEGIN:DAYLIGHT
TZOFFSETFROM:-0500
TZOFFSETTO:-0400
TZNAME:EDT
DTSTART:20240310T070000
END:DAYLIGHT
BEGIN:STANDARD
TZOFFSETFROM:-0400
TZOFFSETTO:-0500
TZNAME:EST
DTSTART:20241103T060000
END:STANDARD
BEGIN:DAYLIGHT
TZOFFSETFROM:-0500
TZOFFSETTO:-0400
TZNAME:EDT
DTSTART:20250309T070000
END:DAYLIGHT
BEGIN:STANDARD
TZOFFSETFROM:-0400
TZOFFSETTO:-0500
TZNAME:EST
DTSTART:20251102T060000
END:STANDARD
BEGIN:DAYLIGHT
TZOFFSETFROM:-0500
TZOFFSETTO:-0400
TZNAME:EDT
DTSTART:20260308T070000
END:DAYLIGHT
BEGIN:STANDARD
TZOFFSETFROM:-0400
TZOFFSETTO:-0500
TZNAME:EST
DTSTART:20261101T060000
END:STANDARD
END:VTIMEZONE
BEGIN:VEVENT
DTSTART;TZID=America/New_York:20250916T173000
DTEND;TZID=America/New_York:20250916T200000
DTSTAMP:20260425T173955
CREATED:20250217T193719Z
LAST-MODIFIED:20260420T151025Z
UID:53891-1758043800-1758052800@864foodtrucks.com
SUMMARY:Electric Food Truck @ Grateful Brew
DESCRIPTION:We are the world’s first all electric food truck\, serving Greenville\, SC.
URL:https://864foodtrucks.com/event/grateful-brew-electric-food-truck/2025-09-16/
LOCATION:Grateful Brew\, 501 S Pleasantburg Dr\, Greenville\, SC\, 29607\, United States
CATEGORIES:Food Truck Schedules,Greenville
ATTACH;FMTTYPE=image/jpeg:https://864foodtrucks.com/wp-content/uploads/2023/03/Electric-Food-Truck.jpg
ORGANIZER;CN="The Electric Food Truck":MAILTO:team@theelectricfoodtruck.com
GEO:34.8292844;-82.36962
X-APPLE-STRUCTURED-LOCATION;VALUE=URI;X-ADDRESS=Grateful Brew 501 S Pleasantburg Dr Greenville SC 29607 United States;X-APPLE-RADIUS=500;X-TITLE=501 S Pleasantburg Dr:geo:-82.36962,34.8292844
END:VEVENT
BEGIN:VEVENT
DTSTART;TZID=America/New_York:20250220T180000
DTEND;TZID=America/New_York:20250220T203000
DTSTAMP:20260425T173955
CREATED:20250217T183903Z
LAST-MODIFIED:20250602T224318Z
UID:42475-1740074400-1740083400@864foodtrucks.com
SUMMARY:Electric Food Truck @ Travelers Taproom
DESCRIPTION:We are the world’s first all electric food truck\, serving Greenville\, SC.
URL:https://864foodtrucks.com/event/electric-food-truck-travelers-taproom-2/2025-02-20/
LOCATION:Travelers Taproom\, 2624 Poinsett Hwy\, Greenville\, South Carolina
CATEGORIES:Food Truck Schedules,Greenville
ATTACH;FMTTYPE=image/jpeg:https://864foodtrucks.com/wp-content/uploads/2023/03/Electric-Food-Truck.jpg
ORGANIZER;CN="The Electric Food Truck":MAILTO:team@theelectricfoodtruck.com
GEO:34.9015748;-82.4159581
X-APPLE-STRUCTURED-LOCATION;VALUE=URI;X-ADDRESS=Travelers Taproom 2624 Poinsett Hwy Greenville South Carolina;X-APPLE-RADIUS=500;X-TITLE=2624 Poinsett Hwy:geo:-82.4159581,34.9015748
END:VEVENT
BEGIN:VEVENT
DTSTART;TZID=America/New_York:20250218T173000
DTEND;TZID=America/New_York:20250218T200000
DTSTAMP:20260425T173955
CREATED:20250217T193719Z
LAST-MODIFIED:20260420T151024Z
UID:42481-1739899800-1739908800@864foodtrucks.com
SUMMARY:Electric Food Truck @ Grateful Brew
DESCRIPTION:We are the world’s first all electric food truck\, serving Greenville\, SC.
URL:https://864foodtrucks.com/event/grateful-brew-electric-food-truck/2025-02-18/
LOCATION:Grateful Brew\, 501 S Pleasantburg Dr\, Greenville\, SC\, 29607\, United States
CATEGORIES:Food Truck Schedules,Greenville
ATTACH;FMTTYPE=image/jpeg:https://864foodtrucks.com/wp-content/uploads/2023/03/Electric-Food-Truck.jpg
ORGANIZER;CN="The Electric Food Truck":MAILTO:team@theelectricfoodtruck.com
GEO:34.8292844;-82.36962
X-APPLE-STRUCTURED-LOCATION;VALUE=URI;X-ADDRESS=Grateful Brew 501 S Pleasantburg Dr Greenville SC 29607 United States;X-APPLE-RADIUS=500;X-TITLE=501 S Pleasantburg Dr:geo:-82.36962,34.8292844
END:VEVENT
BEGIN:VEVENT
DTSTART;TZID=America/New_York:20240423T120000
DTEND;TZID=America/New_York:20240423T200000
DTSTAMP:20260425T173955
CREATED:20240420T185741Z
LAST-MODIFIED:20240420T185741Z
UID:27394-1713873600-1713902400@864foodtrucks.com
SUMMARY:The Electric Food Truck @ Scuffletown
DESCRIPTION:We are the world’s first all electric food truck\, serving Greenville\, SC.
URL:https://864foodtrucks.com/event/the-electric-food-truck-scuffletown/
LOCATION:Scuffletown Food Truck Park\, Ladean Court 206\, Simpsonville\, South Carolina\, 29680\, United States
CATEGORIES:Food Truck Schedules,Simpsonville
ATTACH;FMTTYPE=image/jpeg:https://864foodtrucks.com/wp-content/uploads/2023/03/Electric-Food-Truck.jpg
ORGANIZER;CN="The Electric Food Truck":MAILTO:team@theelectricfoodtruck.com
GEO:34.7127674;-82.2550282
X-APPLE-STRUCTURED-LOCATION;VALUE=URI;X-ADDRESS=Scuffletown Food Truck Park Ladean Court 206 Simpsonville South Carolina 29680 United States;X-APPLE-RADIUS=500;X-TITLE=Ladean Court 206:geo:-82.2550282,34.7127674
END:VEVENT
BEGIN:VEVENT
DTSTART;TZID=America/New_York:20240210T110000
DTEND;TZID=America/New_York:20240210T140000
DTSTAMP:20260425T173955
CREATED:20240204T233918Z
LAST-MODIFIED:20240225T153934Z
UID:25616-1707562800-1707573600@864foodtrucks.com
SUMMARY:The Electric Food Truck @ Game Kastle
DESCRIPTION:We are the world’s first all electric food truck\, serving Greenville\, SC.
URL:https://864foodtrucks.com/event/the-electric-food-truck-game-kastle/2024-02-10/
LOCATION:Game Kastle Greenville\, Wade Hampton Boulevard 2854a\, Taylors\, South Carolina\, 29687\, United States
CATEGORIES:Food Truck Schedules,Greenville
ATTACH;FMTTYPE=image/jpeg:https://864foodtrucks.com/wp-content/uploads/2023/03/Electric-Food-Truck.jpg
ORGANIZER;CN="The Electric Food Truck":MAILTO:team@theelectricfoodtruck.com
GEO:34.9030137;-82.3333113
X-APPLE-STRUCTURED-LOCATION;VALUE=URI;X-ADDRESS=Game Kastle Greenville Wade Hampton Boulevard 2854a Taylors South Carolina 29687 United States;X-APPLE-RADIUS=500;X-TITLE=Wade Hampton Boulevard 2854a:geo:-82.3333113,34.9030137
END:VEVENT
BEGIN:VEVENT
DTSTART;TZID=America/New_York:20240126T170000
DTEND;TZID=America/New_York:20240126T193000
DTSTAMP:20260425T173955
CREATED:20240114T190805Z
LAST-MODIFIED:20250616T183355Z
UID:25071-1706288400-1706297400@864foodtrucks.com
SUMMARY:Electric Food Truck @ Traveler's Taproom
DESCRIPTION:We are the world’s first all electric food truck\, serving Greenville\, SC.
URL:https://864foodtrucks.com/event/electric-food-truck-travelers-taproom/2024-01-26/
LOCATION:Travelers Taproom\, 2624 Poinsett Hwy\, Greenville\, South Carolina
CATEGORIES:Food Truck Schedules,Greenville
ATTACH;FMTTYPE=image/jpeg:https://864foodtrucks.com/wp-content/uploads/2023/02/Electric-Food-Truck.jpg
ORGANIZER;CN="The Electric Food Truck":MAILTO:team@theelectricfoodtruck.com
GEO:34.9015748;-82.4159581
X-APPLE-STRUCTURED-LOCATION;VALUE=URI;X-ADDRESS=Travelers Taproom 2624 Poinsett Hwy Greenville South Carolina;X-APPLE-RADIUS=500;X-TITLE=2624 Poinsett Hwy:geo:-82.4159581,34.9015748
END:VEVENT
BEGIN:VEVENT
DTSTART;TZID=America/New_York:20240119T103000
DTEND;TZID=America/New_York:20240119T123000
DTSTAMP:20260425T173955
CREATED:20240114T190645Z
LAST-MODIFIED:20240114T190645Z
UID:25068-1705660200-1705667400@864foodtrucks.com
SUMMARY:Electric Food Truck @ Children's Museum
DESCRIPTION:We are the world’s first all electric food truck\, serving Greenville\, SC.
URL:https://864foodtrucks.com/event/electric-food-truck-childrens-museum/
LOCATION:The Children’s Museum\, 300 College St\, Greenville\, South Carolina
CATEGORIES:Food Truck Schedules,Greenville
ATTACH;FMTTYPE=image/jpeg:https://864foodtrucks.com/wp-content/uploads/2023/03/Electric-Food-Truck.jpg
ORGANIZER;CN="The Electric Food Truck":MAILTO:team@theelectricfoodtruck.com
GEO:34.855854;-82.4004234
X-APPLE-STRUCTURED-LOCATION;VALUE=URI;X-ADDRESS=The Children’s Museum 300 College St Greenville South Carolina;X-APPLE-RADIUS=500;X-TITLE=300 College St:geo:-82.4004234,34.855854
END:VEVENT
BEGIN:VEVENT
DTSTART;TZID=America/New_York:20230813T000000
DTEND;TZID=America/New_York:20230813T000000
DTSTAMP:20260425T173955
CREATED:20230807T154402Z
LAST-MODIFIED:20230807T154402Z
UID:21856-1691884800-1691884800@864foodtrucks.com
SUMMARY:The Electric Food Truck @ Unity Park
DESCRIPTION:We are the world’s first all electric food truck\, serving Greenville\, SC.
URL:https://864foodtrucks.com/event/the-electric-food-truck-unity-park/
LOCATION:Unity Park\, 320 S Hudson St\, Greenville\, South Carolina
CATEGORIES:Food Truck Schedules,Greer
ATTACH;FMTTYPE=image/jpeg:https://864foodtrucks.com/wp-content/uploads/2023/03/Electric-Food-Truck.jpg
ORGANIZER;CN="The Electric Food Truck":MAILTO:team@theelectricfoodtruck.com
GEO:34.850656;-82.41013
X-APPLE-STRUCTURED-LOCATION;VALUE=URI;X-ADDRESS=Unity Park 320 S Hudson St Greenville South Carolina;X-APPLE-RADIUS=500;X-TITLE=320 S Hudson St:geo:-82.41013,34.850656
END:VEVENT
BEGIN:VEVENT
DTSTART;TZID=America/New_York:20230811T000000
DTEND;TZID=America/New_York:20230811T000000
DTSTAMP:20260425T173955
CREATED:20230807T150536Z
LAST-MODIFIED:20230807T150536Z
UID:21852-1691712000-1691712000@864foodtrucks.com
SUMMARY:The Electric Food Truck @ What Ales You
DESCRIPTION:We are the world’s first all electric food truck\, serving Greenville\, SC.
URL:https://864foodtrucks.com/event/the-electric-food-truck-what-ales-you/
LOCATION:What Ales You Pub\, 105 New Plaza Dr C\, Greenville\, SC\, 29617\, United States
CATEGORIES:Food Truck Schedules,Greenville
ATTACH;FMTTYPE=image/jpeg:https://864foodtrucks.com/wp-content/uploads/2023/03/Electric-Food-Truck.jpg
ORGANIZER;CN="The Electric Food Truck":MAILTO:team@theelectricfoodtruck.com
GEO:34.9124747;-82.4284012
X-APPLE-STRUCTURED-LOCATION;VALUE=URI;X-ADDRESS=What Ales You Pub 105 New Plaza Dr C Greenville SC 29617 United States;X-APPLE-RADIUS=500;X-TITLE=105 New Plaza Dr C:geo:-82.4284012,34.9124747
END:VEVENT
BEGIN:VEVENT
DTSTART;TZID=America/New_York:20230620T103000
DTEND;TZID=America/New_York:20230620T140000
DTSTAMP:20260425T173955
CREATED:20230618T194950Z
LAST-MODIFIED:20230618T194950Z
UID:19771-1687257000-1687269600@864foodtrucks.com
SUMMARY:Electric Food Truck @ Prisma Greer Memorial Hospital
DESCRIPTION:We are the world’s first all electric food truck\, serving Greenville\, SC.
URL:https://864foodtrucks.com/event/electric-food-truck-prisma-greer-memorial-hospital/
LOCATION:Prisma Health Greer\, 830 S Buncombe Rd\, Greer
CATEGORIES:Food Truck Schedules,Greer
ATTACH;FMTTYPE=image/jpeg:https://864foodtrucks.com/wp-content/uploads/2023/03/Electric-Food-Truck.jpg
ORGANIZER;CN="The Electric Food Truck":MAILTO:team@theelectricfoodtruck.com
END:VEVENT
BEGIN:VEVENT
DTSTART;TZID=America/New_York:20230617T090000
DTEND;TZID=America/New_York:20230617T170000
DTSTAMP:20260425T173955
CREATED:20230611T140615Z
LAST-MODIFIED:20230611T140615Z
UID:19522-1686992400-1687021200@864foodtrucks.com
SUMMARY:Electric Food Truck @ Westside Market Art Crawl
DESCRIPTION:We are the world’s first all electric food truck\, serving Greenville\, SC.
URL:https://864foodtrucks.com/event/electric-food-truck-westside-market-art-crawl/
LOCATION:Westside Market\, Wade Hampton Blvd\, Greenville\, SC\, United States
CATEGORIES:Food Truck Schedules,Greenville
ATTACH;FMTTYPE=image/jpeg:https://864foodtrucks.com/wp-content/uploads/2023/03/Electric-Food-Truck.jpg
ORGANIZER;CN="The Electric Food Truck":MAILTO:team@theelectricfoodtruck.com
END:VEVENT
BEGIN:VEVENT
DTSTART;TZID=America/New_York:20230615T100000
DTEND;TZID=America/New_York:20230615T130000
DTSTAMP:20260425T173955
CREATED:20230611T140421Z
LAST-MODIFIED:20230611T140421Z
UID:19520-1686823200-1686834000@864foodtrucks.com
SUMMARY:Electric Food Truck @ Fairway Ford
DESCRIPTION:We are the world’s first all electric food truck\, serving Greenville\, SC.
URL:https://864foodtrucks.com/event/electric-food-truck-fairway-ford/
LOCATION:Fairway Ford\, 2323 Laurens Rd\, Greenville
CATEGORIES:Food Truck Schedules,Greenville
ATTACH;FMTTYPE=image/jpeg:https://864foodtrucks.com/wp-content/uploads/2023/03/Electric-Food-Truck.jpg
ORGANIZER;CN="The Electric Food Truck":MAILTO:team@theelectricfoodtruck.com
END:VEVENT
BEGIN:VEVENT
DTSTART;TZID=America/New_York:20230610T150000
DTEND;TZID=America/New_York:20230610T190000
DTSTAMP:20260425T173955
CREATED:20230605T174713Z
LAST-MODIFIED:20230605T174713Z
UID:19399-1686409200-1686423600@864foodtrucks.com
SUMMARY:The Electric Food Truck @ Thomas Creek
DESCRIPTION:We are the world’s first all electric food truck\, serving Greenville\, SC.
URL:https://864foodtrucks.com/event/the-electric-food-truck-thomas-creek/
LOCATION:Thomas Creek\, 2054 Piedmont Hwy\, Greenville\, South Carolina
CATEGORIES:Food Truck Schedules,Greenville
ATTACH;FMTTYPE=image/jpeg:https://864foodtrucks.com/wp-content/uploads/2023/03/Electric-Food-Truck.jpg
ORGANIZER;CN="The Electric Food Truck":MAILTO:team@theelectricfoodtruck.com
GEO:34.7966066;-82.4234311
X-APPLE-STRUCTURED-LOCATION;VALUE=URI;X-ADDRESS=Thomas Creek 2054 Piedmont Hwy Greenville South Carolina;X-APPLE-RADIUS=500;X-TITLE=2054 Piedmont Hwy:geo:-82.4234311,34.7966066
END:VEVENT
BEGIN:VEVENT
DTSTART;TZID=America/New_York:20230514T120000
DTEND;TZID=America/New_York:20230514T160000
DTSTAMP:20260425T173955
CREATED:20230508T152416Z
LAST-MODIFIED:20230508T152416Z
UID:18782-1684065600-1684080000@864foodtrucks.com
SUMMARY:Electric Food Truck @ Kennington Family Winery
DESCRIPTION:We are the world’s first all electric food truck\, serving Greenville\, SC.
URL:https://864foodtrucks.com/event/electric-food-truck-kennington-family-winery/2023-05-14/
LOCATION:Kennington Family Winery\, 507 Beaver Dam Rd\, Marietta\, South Carolina
CATEGORIES:Food Truck Schedules,Marietta
ATTACH;FMTTYPE=image/jpeg:https://864foodtrucks.com/wp-content/uploads/2023/03/Electric-Food-Truck.jpg
ORGANIZER;CN="The Electric Food Truck":MAILTO:team@theelectricfoodtruck.com
GEO:33.836081;-81.1637245
X-APPLE-STRUCTURED-LOCATION;VALUE=URI;X-ADDRESS=Kennington Family Winery 507 Beaver Dam Rd Marietta South Carolina;X-APPLE-RADIUS=500;X-TITLE=507 Beaver Dam Rd:geo:-81.1637245,33.836081
END:VEVENT
BEGIN:VEVENT
DTSTART;TZID=America/New_York:20230506T060000
DTEND;TZID=America/New_York:20230506T110000
DTSTAMP:20260425T173955
CREATED:20230501T191436Z
LAST-MODIFIED:20230501T191436Z
UID:18590-1683352800-1683370800@864foodtrucks.com
SUMMARY:Electric Food Truck @ Tails and Trails 5K
DESCRIPTION:We are the world’s first all electric food truck\, serving Greenville\, SC.
URL:https://864foodtrucks.com/event/electric-food-truck-tails-and-trails-5k/
LOCATION:Conestee Park\, 601 Fork Shoals Road\, Conestee\, South Carolina
CATEGORIES:Food Truck Schedules,Greenville
ATTACH;FMTTYPE=image/jpeg:https://864foodtrucks.com/wp-content/uploads/2023/03/Electric-Food-Truck.jpg
ORGANIZER;CN="The Electric Food Truck":MAILTO:team@theelectricfoodtruck.com
GEO:34.7749338;-82.3646624
X-APPLE-STRUCTURED-LOCATION;VALUE=URI;X-ADDRESS=Conestee Park 601 Fork Shoals Road Conestee South Carolina;X-APPLE-RADIUS=500;X-TITLE=601 Fork Shoals Road:geo:-82.3646624,34.7749338
END:VEVENT
BEGIN:VEVENT
DTSTART;TZID=America/New_York:20230428T140000
DTEND;TZID=America/New_York:20230428T180000
DTSTAMP:20260425T173955
CREATED:20230423T190653Z
LAST-MODIFIED:20230423T190653Z
UID:18363-1682690400-1682704800@864foodtrucks.com
SUMMARY:Electric Food Truck @ Swamp Rabbit Cafe
DESCRIPTION:We are the world’s first all electric food truck\, serving Greenville\, SC.
URL:https://864foodtrucks.com/event/electric-food-truck-swamp-rabbit-cafe-2/
LOCATION:Swamp Rabbit Cafe\, 205 Cedar Lane Road\, Greenville\, South Carolina
CATEGORIES:Food Truck Schedules,Greenville
ATTACH;FMTTYPE=image/jpeg:https://864foodtrucks.com/wp-content/uploads/2023/03/Electric-Food-Truck.jpg
ORGANIZER;CN="The Electric Food Truck":MAILTO:team@theelectricfoodtruck.com
GEO:34.8694785;-82.4214201
X-APPLE-STRUCTURED-LOCATION;VALUE=URI;X-ADDRESS=Swamp Rabbit Cafe 205 Cedar Lane Road Greenville South Carolina;X-APPLE-RADIUS=500;X-TITLE=205 Cedar Lane Road:geo:-82.4214201,34.8694785
END:VEVENT
BEGIN:VEVENT
DTSTART;TZID=America/New_York:20230414T140000
DTEND;TZID=America/New_York:20230414T180000
DTSTAMP:20260425T173955
CREATED:20230409T184542Z
LAST-MODIFIED:20230409T184542Z
UID:18108-1681480800-1681495200@864foodtrucks.com
SUMMARY:Electric Food Truck @ Swamp Rabbit Cafe
DESCRIPTION:We are the world’s first all electric food truck\, serving Greenville\, SC.
URL:https://864foodtrucks.com/event/electric-food-truck-swamp-rabbit-cafe/
LOCATION:Swamp Rabbit Cafe\, 205 Cedar Lane Road\, Greenville\, South Carolina
CATEGORIES:Food Truck Schedules,Greenville
ATTACH;FMTTYPE=image/jpeg:https://864foodtrucks.com/wp-content/uploads/2023/03/Electric-Food-Truck.jpg
ORGANIZER;CN="The Electric Food Truck":MAILTO:team@theelectricfoodtruck.com
GEO:34.8694785;-82.4214201
X-APPLE-STRUCTURED-LOCATION;VALUE=URI;X-ADDRESS=Swamp Rabbit Cafe 205 Cedar Lane Road Greenville South Carolina;X-APPLE-RADIUS=500;X-TITLE=205 Cedar Lane Road:geo:-82.4214201,34.8694785
END:VEVENT
BEGIN:VEVENT
DTSTART;TZID=America/New_York:20230412T163000
DTEND;TZID=America/New_York:20230412T183000
DTSTAMP:20260425T173955
CREATED:20230409T184357Z
LAST-MODIFIED:20230409T184357Z
UID:18106-1681317000-1681324200@864foodtrucks.com
SUMMARY:Electric Food Truck @ Franklin Point
DESCRIPTION:We are the world’s first all electric food truck\, serving Greenville\, SC.
URL:https://864foodtrucks.com/event/electric-food-truck-franklin-point/
LOCATION:Franklin Pointe\, 422 Buckleberry Road\, Greer\, South Carolina
CATEGORIES:Food Truck Schedules,Greer
ATTACH;FMTTYPE=image/jpeg:https://864foodtrucks.com/wp-content/uploads/2023/03/Electric-Food-Truck.jpg
ORGANIZER;CN="The Electric Food Truck":MAILTO:team@theelectricfoodtruck.com
GEO:34.8594429;-82.1541314
X-APPLE-STRUCTURED-LOCATION;VALUE=URI;X-ADDRESS=Franklin Pointe 422 Buckleberry Road Greer South Carolina;X-APPLE-RADIUS=500;X-TITLE=422 Buckleberry Road:geo:-82.1541314,34.8594429
END:VEVENT
BEGIN:VEVENT
DTSTART;TZID=America/New_York:20230325T160000
DTEND;TZID=America/New_York:20230325T190000
DTSTAMP:20260425T173955
CREATED:20230319T195012Z
LAST-MODIFIED:20230717T152447Z
UID:17643-1679760000-1679770800@864foodtrucks.com
SUMMARY:The Electric Food Truck @ Piney Mountain Bike Lounge
DESCRIPTION:We are the world’s first all electric food truck\, serving Greenville\, SC.
URL:https://864foodtrucks.com/event/the-electric-food-truck-piney-mountain-bike-lounge/2023-03-25/
LOCATION:Piney Mountain Bike Lounge\, 20 Piney Mountain Rd\, Greenville\, South Carolina
CATEGORIES:Food Truck Schedules,Greenville
ATTACH;FMTTYPE=image/jpeg:https://864foodtrucks.com/wp-content/uploads/2023/03/Electric-Food-Truck.jpg
ORGANIZER;CN="The Electric Food Truck":MAILTO:team@theelectricfoodtruck.com
GEO:34.8913881;-82.373773
X-APPLE-STRUCTURED-LOCATION;VALUE=URI;X-ADDRESS=Piney Mountain Bike Lounge 20 Piney Mountain Rd Greenville South Carolina;X-APPLE-RADIUS=500;X-TITLE=20 Piney Mountain Rd:geo:-82.373773,34.8913881
END:VEVENT
BEGIN:VEVENT
DTSTART;TZID=America/New_York:20230318T173000
DTEND;TZID=America/New_York:20230318T200000
DTSTAMP:20260425T173955
CREATED:20230312T194827Z
LAST-MODIFIED:20250121T001855Z
UID:17411-1679160600-1679169600@864foodtrucks.com
SUMMARY:The Electric Food Truck @ Grateful Brew
DESCRIPTION:We are the world’s first all electric food truck\, serving Greenville\, SC.
URL:https://864foodtrucks.com/event/the-electric-food-truck-grateful-brew/2023-03-18/
LOCATION:Grateful Brew\, 501 S Pleasantburg Dr\, Greenville\, SC\, 29607\, United States
CATEGORIES:Food Truck Schedules,Greenville
ATTACH;FMTTYPE=image/jpeg:https://864foodtrucks.com/wp-content/uploads/2023/02/Electric-Food-Truck.jpg
ORGANIZER;CN="The Electric Food Truck":MAILTO:team@theelectricfoodtruck.com
GEO:34.8292844;-82.36962
X-APPLE-STRUCTURED-LOCATION;VALUE=URI;X-ADDRESS=Grateful Brew 501 S Pleasantburg Dr Greenville SC 29607 United States;X-APPLE-RADIUS=500;X-TITLE=501 S Pleasantburg Dr:geo:-82.36962,34.8292844
END:VEVENT
BEGIN:VEVENT
DTSTART;TZID=America/New_York:20230317T120000
DTEND;TZID=America/New_York:20230317T140000
DTSTAMP:20260425T173955
CREATED:20230312T194630Z
LAST-MODIFIED:20230312T194630Z
UID:17408-1679054400-1679061600@864foodtrucks.com
SUMMARY:The Electric Food Truck @ Fairway Ford
DESCRIPTION:We are the world’s first all electric food truck\, serving Greenville\, SC.
URL:https://864foodtrucks.com/event/the-electric-food-truck-fairway-ford/
LOCATION:Fairway Ford\, 2323 Laurens Rd\, Greenville
CATEGORIES:Food Truck Schedules,Greenville
ATTACH;FMTTYPE=image/jpeg:https://864foodtrucks.com/wp-content/uploads/2023/02/The-Electric-Food-Truck.jpg
ORGANIZER;CN="The Electric Food Truck":MAILTO:team@theelectricfoodtruck.com
END:VEVENT
BEGIN:VEVENT
DTSTART;TZID=America/New_York:20230226T130000
DTEND;TZID=America/New_York:20230226T180000
DTSTAMP:20260425T173955
CREATED:20230224T200947Z
LAST-MODIFIED:20230709T203629Z
UID:17080-1677416400-1677434400@864foodtrucks.com
SUMMARY:The Electric Food Truck @ The Community Tap
DESCRIPTION:We are the world’s first all electric food truck\, serving Greenville\, SC.
URL:https://864foodtrucks.com/event/the-electric-food-truck-the-community-tap/2023-02-26/
LOCATION:The Community Tap\, 217 Wade Hampton Blvd\, Greenville\, South Carolina
CATEGORIES:Food Truck Schedules,Greenville
ATTACH;FMTTYPE=image/jpeg:https://864foodtrucks.com/wp-content/uploads/2023/03/Electric-Food-Truck.jpg
ORGANIZER;CN="The Electric Food Truck":MAILTO:team@theelectricfoodtruck.com
GEO:34.8625763;-82.3857613
X-APPLE-STRUCTURED-LOCATION;VALUE=URI;X-ADDRESS=The Community Tap 217 Wade Hampton Blvd Greenville South Carolina;X-APPLE-RADIUS=500;X-TITLE=217 Wade Hampton Blvd:geo:-82.3857613,34.8625763
END:VEVENT
BEGIN:VEVENT
DTSTART;TZID=America/New_York:20230221T180000
DTEND;TZID=America/New_York:20230221T200000
DTSTAMP:20260425T173955
CREATED:20230220T182543Z
LAST-MODIFIED:20230625T204926Z
UID:16975-1677002400-1677009600@864foodtrucks.com
SUMMARY:Electric Food Truck @ Tetrad
DESCRIPTION:We are the world’s first all electric food truck\, serving Greenville\, SC.
URL:https://864foodtrucks.com/event/electric-food-truck-tetrad/2023-02-21/
LOCATION:Tetrad Brewing\, 603 E Stone Ave\, Greenville\, SC\, 29601\, United States
CATEGORIES:Food Truck Schedules,Greenville
ATTACH;FMTTYPE=image/jpeg:https://864foodtrucks.com/wp-content/uploads/2023/02/Electric-Food-Truck.jpg
ORGANIZER;CN="The Electric Food Truck":MAILTO:team@theelectricfoodtruck.com
GEO:34.8585948;-82.3848082
X-APPLE-STRUCTURED-LOCATION;VALUE=URI;X-ADDRESS=Tetrad Brewing 603 E Stone Ave Greenville SC 29601 United States;X-APPLE-RADIUS=500;X-TITLE=603 E Stone Ave:geo:-82.3848082,34.8585948
END:VEVENT
BEGIN:VEVENT
DTSTART;TZID=America/New_York:20230217T170000
DTEND;TZID=America/New_York:20230217T210000
DTSTAMP:20260425T173955
CREATED:20230213T215318Z
LAST-MODIFIED:20240624T155753Z
UID:16845-1676653200-1676667600@864foodtrucks.com
SUMMARY:The Electric Food Truck @ Traveler's Taproom
DESCRIPTION:We are the world’s first all electric food truck\, serving Greenville\, SC.
URL:https://864foodtrucks.com/event/the-electric-food-truck-travelers-taproom-2/2023-02-17/
LOCATION:Travelers Taproom\, 2624 Poinsett Hwy\, Greenville\, South Carolina
CATEGORIES:Food Truck Schedules,Greenville
ATTACH;FMTTYPE=image/jpeg:https://864foodtrucks.com/wp-content/uploads/2023/02/The-Electric-Food-Truck.jpg
ORGANIZER;CN="The Electric Food Truck":MAILTO:team@theelectricfoodtruck.com
GEO:34.9015748;-82.4159581
X-APPLE-STRUCTURED-LOCATION;VALUE=URI;X-ADDRESS=Travelers Taproom 2624 Poinsett Hwy Greenville South Carolina;X-APPLE-RADIUS=500;X-TITLE=2624 Poinsett Hwy:geo:-82.4159581,34.9015748
END:VEVENT
END:VCALENDAR