BEGIN:VCALENDAR
VERSION:2.0
PRODID:-//864 Food Trucks - ECPv6.15.20//NONSGML v1.0//EN
CALSCALE:GREGORIAN
METHOD:PUBLISH
X-ORIGINAL-URL:https://864foodtrucks.com
X-WR-CALDESC:Events for 864 Food Trucks
REFRESH-INTERVAL;VALUE=DURATION:PT1H
X-Robots-Tag:noindex
X-PUBLISHED-TTL:PT1H
BEGIN:VTIMEZONE
TZID:America/New_York
BEGIN:DAYLIGHT
TZOFFSETFROM:-0500
TZOFFSETTO:-0400
TZNAME:EDT
DTSTART:20240310T070000
END:DAYLIGHT
BEGIN:STANDARD
TZOFFSETFROM:-0400
TZOFFSETTO:-0500
TZNAME:EST
DTSTART:20241103T060000
END:STANDARD
BEGIN:DAYLIGHT
TZOFFSETFROM:-0500
TZOFFSETTO:-0400
TZNAME:EDT
DTSTART:20250309T070000
END:DAYLIGHT
BEGIN:STANDARD
TZOFFSETFROM:-0400
TZOFFSETTO:-0500
TZNAME:EST
DTSTART:20251102T060000
END:STANDARD
BEGIN:DAYLIGHT
TZOFFSETFROM:-0500
TZOFFSETTO:-0400
TZNAME:EDT
DTSTART:20260308T070000
END:DAYLIGHT
BEGIN:STANDARD
TZOFFSETFROM:-0400
TZOFFSETTO:-0500
TZNAME:EST
DTSTART:20261101T060000
END:STANDARD
BEGIN:DAYLIGHT
TZOFFSETFROM:-0500
TZOFFSETTO:-0400
TZNAME:EDT
DTSTART:20270314T070000
END:DAYLIGHT
BEGIN:STANDARD
TZOFFSETFROM:-0400
TZOFFSETTO:-0500
TZNAME:EST
DTSTART:20271107T060000
END:STANDARD
END:VTIMEZONE
BEGIN:VEVENT
DTSTART;TZID=America/New_York:20260110T120000
DTEND;TZID=America/New_York:20260110T150000
DTSTAMP:20260424T185026
CREATED:20260107T183229Z
LAST-MODIFIED:20260107T183229Z
UID:58588-1768046400-1768057200@864foodtrucks.com
SUMMARY:The Salted Fry @ TR Winter Pop Up Market
DESCRIPTION:100% Gluten Free Food Trailer! Crispy Belgian style pommes frites loaded with your choice of savory toppings. Choose from multiple house made sauces and unique ketchup flavors!
URL:https://864foodtrucks.com/event/the-salted-fry-tr-winter-pop-up-market/
LOCATION:Trailblazer Park\, 235 Trailblazer Dr\, Travelers Rest\, SC\, 29690\, United States
CATEGORIES:Food Truck Schedules,Travelers Rest
ATTACH;FMTTYPE=image/jpeg:https://864foodtrucks.com/wp-content/uploads/2025/05/The-Salted-Fry-1.jpg
ORGANIZER;CN="The Salted Fry":MAILTO:thesaltedfry@gmail.com
GEO:34.95593;-82.4419747
X-APPLE-STRUCTURED-LOCATION;VALUE=URI;X-ADDRESS=Trailblazer Park 235 Trailblazer Dr Travelers Rest SC 29690 United States;X-APPLE-RADIUS=500;X-TITLE=235 Trailblazer Dr:geo:-82.4419747,34.95593
END:VEVENT
BEGIN:VEVENT
DTSTART;TZID=America/New_York:20260109T173000
DTEND;TZID=America/New_York:20260109T173000
DTSTAMP:20260424T185026
CREATED:20250520T132955Z
LAST-MODIFIED:20260223T200344Z
UID:58489-1767979800-1767979800@864foodtrucks.com
SUMMARY:The Salted Fry @ Wild Yarrow Brewing
DESCRIPTION:100% Gluten Free Food Trailer! Crispy Belgian style pommes frites loaded with your choice of savory toppings. Choose from multiple house made sauces and unique ketchup flavors!
URL:https://864foodtrucks.com/event/the-salted-fry-wild-yarrow-brewing/2026-01-09/
LOCATION:Wild Yarrow Brewery\, 603 E Stone Ave Ste 4\, Greenville\, South Carolina
CATEGORIES:Food Truck Schedules,Greenville
ATTACH;FMTTYPE=image/jpeg:https://864foodtrucks.com/wp-content/uploads/2025/05/The-Salted-Fry-1.jpg
ORGANIZER;CN="The Salted Fry":MAILTO:thesaltedfry@gmail.com
GEO:34.8585597;-82.3848471
X-APPLE-STRUCTURED-LOCATION;VALUE=URI;X-ADDRESS=Wild Yarrow Brewery 603 E Stone Ave Ste 4 Greenville South Carolina;X-APPLE-RADIUS=500;X-TITLE=603 E Stone Ave Ste 4:geo:-82.3848471,34.8585597
END:VEVENT
BEGIN:VEVENT
DTSTART;TZID=America/New_York:20260108T173000
DTEND;TZID=America/New_York:20260108T173000
DTSTAMP:20260424T185026
CREATED:20250616T235910Z
LAST-MODIFIED:20260223T193854Z
UID:58487-1767893400-1767893400@864foodtrucks.com
SUMMARY:The Salted Fry @ Community Tap
DESCRIPTION:100% Gluten Free Food Trailer! Crispy Belgian style pommes frites loaded with your choice of savory toppings. Choose from multiple house made sauces and unique ketchup flavors!
URL:https://864foodtrucks.com/event/the-salted-fry-community-tap/2026-01-08/
LOCATION:The Community Tap\, 217 Wade Hampton Blvd\, Greenville\, South Carolina
CATEGORIES:Food Truck Schedules,Greenville
ATTACH;FMTTYPE=image/jpeg:https://864foodtrucks.com/wp-content/uploads/2025/05/The-Salted-Fry-1.jpg
ORGANIZER;CN="The Salted Fry":MAILTO:thesaltedfry@gmail.com
GEO:34.8625763;-82.3857613
X-APPLE-STRUCTURED-LOCATION;VALUE=URI;X-ADDRESS=The Community Tap 217 Wade Hampton Blvd Greenville South Carolina;X-APPLE-RADIUS=500;X-TITLE=217 Wade Hampton Blvd:geo:-82.3857613,34.8625763
END:VEVENT
BEGIN:VEVENT
DTSTART;TZID=America/New_York:20251205T170000
DTEND;TZID=America/New_York:20251205T200000
DTSTAMP:20260424T185026
CREATED:20251202T005736Z
LAST-MODIFIED:20251202T005736Z
UID:57014-1764954000-1764964800@864foodtrucks.com
SUMMARY:The Salted Fry @ City of Greer Tree Lighting Ceremony
DESCRIPTION:100% Gluten Free Food Trailer! Crispy Belgian style pommes frites loaded with your choice of savory toppings. Choose from multiple house made sauces and unique ketchup flavors!
URL:https://864foodtrucks.com/event/the-salted-fry-city-of-greer-tree-lighting-ceremony/
LOCATION:Greer City Park\, 301 E Poinsett St\, Greer\, South Carolina
CATEGORIES:Food Truck Schedules,Greer
ATTACH;FMTTYPE=image/jpeg:https://864foodtrucks.com/wp-content/uploads/2025/05/The-Salted-Fry.jpg
ORGANIZER;CN="The Salted Fry":MAILTO:thesaltedfry@gmail.com
GEO:34.9377066;-82.2230614
X-APPLE-STRUCTURED-LOCATION;VALUE=URI;X-ADDRESS=Greer City Park 301 E Poinsett St Greer South Carolina;X-APPLE-RADIUS=500;X-TITLE=301 E Poinsett St:geo:-82.2230614,34.9377066
END:VEVENT
BEGIN:VEVENT
DTSTART;TZID=America/New_York:20251122T103000
DTEND;TZID=America/New_York:20251122T103000
DTSTAMP:20260424T185026
CREATED:20251117T001751Z
LAST-MODIFIED:20251117T001751Z
UID:56348-1763807400-1763807400@864foodtrucks.com
SUMMARY:The Salted Fry @ Aladdin Jr. & Kids
DESCRIPTION:100% Gluten Free Food Trailer! Crispy Belgian style pommes frites loaded with your choice of savory toppings. Choose from multiple house made sauces and unique ketchup flavors!
URL:https://864foodtrucks.com/event/the-salted-fry-aladdin-jr-kids/
LOCATION:Simpsonville Arts Center\, 110 Academy St\, Simpsonville\, South Carolina
CATEGORIES:Food Truck Schedules,Simpsonville
ATTACH;FMTTYPE=image/jpeg:https://864foodtrucks.com/wp-content/uploads/2025/05/The-Salted-Fry-1.jpg
ORGANIZER;CN="The Salted Fry":MAILTO:thesaltedfry@gmail.com
GEO:34.7398305;-82.2519012
X-APPLE-STRUCTURED-LOCATION;VALUE=URI;X-ADDRESS=Simpsonville Arts Center 110 Academy St Simpsonville South Carolina;X-APPLE-RADIUS=500;X-TITLE=110 Academy St:geo:-82.2519012,34.7398305
END:VEVENT
BEGIN:VEVENT
DTSTART;TZID=America/New_York:20251115T110000
DTEND;TZID=America/New_York:20251115T143000
DTSTAMP:20260424T185026
CREATED:20251110T210821Z
LAST-MODIFIED:20251110T210821Z
UID:56175-1763204400-1763217000@864foodtrucks.com
SUMMARY:The Salted Fry @ Simpsonville Arts Center
DESCRIPTION:100% Gluten Free Food Trailer! Crispy Belgian style pommes frites loaded with your choice of savory toppings. Choose from multiple house made sauces and unique ketchup flavors!
URL:https://864foodtrucks.com/event/the-salted-fry-simpsonville-arts-center/
LOCATION:Simpsonville Arts Center\, 110 Academy St\, Simpsonville\, South Carolina
CATEGORIES:Food Truck Schedules,Greenville
ATTACH;FMTTYPE=image/jpeg:https://864foodtrucks.com/wp-content/uploads/2025/05/The-Salted-Fry-1.jpg
ORGANIZER;CN="The Salted Fry":MAILTO:thesaltedfry@gmail.com
GEO:34.7398305;-82.2519012
X-APPLE-STRUCTURED-LOCATION;VALUE=URI;X-ADDRESS=Simpsonville Arts Center 110 Academy St Simpsonville South Carolina;X-APPLE-RADIUS=500;X-TITLE=110 Academy St:geo:-82.2519012,34.7398305
END:VEVENT
BEGIN:VEVENT
DTSTART;TZID=America/New_York:20251114T163000
DTEND;TZID=America/New_York:20251114T163000
DTSTAMP:20260424T185026
CREATED:20250818T184826Z
LAST-MODIFIED:20250818T184826Z
UID:56174-1763137800-1763137800@864foodtrucks.com
SUMMARY:The Salted Fry @ Greer Alive
DESCRIPTION:100% Gluten Free Food Trailer! Crispy Belgian style pommes frites loaded with your choice of savory toppings. Choose from multiple house made sauces and unique ketchup flavors!
URL:https://864foodtrucks.com/event/the-salted-fry-greer-alive/2025-11-14/
LOCATION:Greer City Park\, 301 E Poinsett St\, Greer\, South Carolina
CATEGORIES:Food Truck Schedules,Greer
ATTACH;FMTTYPE=image/jpeg:https://864foodtrucks.com/wp-content/uploads/2025/05/The-Salted-Fry-1.jpg
ORGANIZER;CN="The Salted Fry":MAILTO:thesaltedfry@gmail.com
GEO:34.9377066;-82.2230614
X-APPLE-STRUCTURED-LOCATION;VALUE=URI;X-ADDRESS=Greer City Park 301 E Poinsett St Greer South Carolina;X-APPLE-RADIUS=500;X-TITLE=301 E Poinsett St:geo:-82.2230614,34.9377066
END:VEVENT
BEGIN:VEVENT
DTSTART;TZID=America/New_York:20251030T173000
DTEND;TZID=America/New_York:20251030T173000
DTSTAMP:20260424T185026
CREATED:20251026T235255Z
LAST-MODIFIED:20251026T235255Z
UID:55592-1761845400-1761845400@864foodtrucks.com
SUMMARY:The Salted Fry @ Travelers Rest Farmer's Market
DESCRIPTION:100% Gluten Free Food Trailer! Crispy Belgian style pommes frites loaded with your choice of savory toppings. Choose from multiple house made sauces and unique ketchup flavors!
URL:https://864foodtrucks.com/event/the-salted-fry-travelers-rest-farmers-market/
LOCATION:Trailblazer Park\, 235 Trailblazer Dr\, Travelers Rest\, SC\, 29690\, United States
CATEGORIES:Food Truck Schedules,Travelers Rest
ATTACH;FMTTYPE=image/jpeg:https://864foodtrucks.com/wp-content/uploads/2025/05/The-Salted-Fry-1.jpg
ORGANIZER;CN="The Salted Fry":MAILTO:thesaltedfry@gmail.com
GEO:34.95593;-82.4419747
X-APPLE-STRUCTURED-LOCATION;VALUE=URI;X-ADDRESS=Trailblazer Park 235 Trailblazer Dr Travelers Rest SC 29690 United States;X-APPLE-RADIUS=500;X-TITLE=235 Trailblazer Dr:geo:-82.4419747,34.95593
END:VEVENT
BEGIN:VEVENT
DTSTART;TZID=America/New_York:20251025T110000
DTEND;TZID=America/New_York:20251025T180000
DTSTAMP:20260424T185026
CREATED:20251020T203254Z
LAST-MODIFIED:20251020T203254Z
UID:55338-1761390000-1761415200@864foodtrucks.com
SUMMARY:The Salted Fry @ 3rd Annual Pickens Appalachian Folk Festival
DESCRIPTION:100% Gluten Free Food Trailer! Crispy Belgian style pommes frites loaded with your choice of savory toppings. Choose from multiple house made sauces and unique ketchup flavors!
URL:https://864foodtrucks.com/event/the-salted-fry-3rd-annual-pickens-appalachian-folk-festival/
LOCATION:Hagood Mill\, Hagood Mill Road 138\, Pickens\, South Carolina\, 29671\, United States
CATEGORIES:Food Truck Schedules,Pickens
ATTACH;FMTTYPE=image/jpeg:https://864foodtrucks.com/wp-content/uploads/2025/05/The-Salted-Fry-1.jpg
ORGANIZER;CN="The Salted Fry":MAILTO:thesaltedfry@gmail.com
GEO:34.9399425;-82.7389943
X-APPLE-STRUCTURED-LOCATION;VALUE=URI;X-ADDRESS=Hagood Mill Hagood Mill Road 138 Pickens South Carolina 29671 United States;X-APPLE-RADIUS=500;X-TITLE=Hagood Mill Road 138:geo:-82.7389943,34.9399425
END:VEVENT
BEGIN:VEVENT
DTSTART;TZID=America/New_York:20251024T163000
DTEND;TZID=America/New_York:20251024T200000
DTSTAMP:20260424T185026
CREATED:20251020T203039Z
LAST-MODIFIED:20260309T221756Z
UID:55333-1761323400-1761336000@864foodtrucks.com
SUMMARY:The Salted Fry @ Greer Alive
DESCRIPTION:100% Gluten Free Food Trailer! Crispy Belgian style pommes frites loaded with your choice of savory toppings. Choose from multiple house made sauces and unique ketchup flavors!
URL:https://864foodtrucks.com/event/greer-alive-the-salted-fry/2025-10-24/
LOCATION:Greer City Park\, 301 E Poinsett St\, Greer\, South Carolina
CATEGORIES:Food Truck Schedules,Greer
ATTACH;FMTTYPE=image/jpeg:https://864foodtrucks.com/wp-content/uploads/2025/05/The-Salted-Fry-1.jpg
ORGANIZER;CN="The Salted Fry":MAILTO:thesaltedfry@gmail.com
GEO:34.9377066;-82.2230614
X-APPLE-STRUCTURED-LOCATION;VALUE=URI;X-ADDRESS=Greer City Park 301 E Poinsett St Greer South Carolina;X-APPLE-RADIUS=500;X-TITLE=301 E Poinsett St:geo:-82.2230614,34.9377066
END:VEVENT
BEGIN:VEVENT
DTSTART;TZID=America/New_York:20251018T170000
DTEND;TZID=America/New_York:20251018T170000
DTSTAMP:20260424T185026
CREATED:20251013T193939Z
LAST-MODIFIED:20251013T193939Z
UID:55064-1760806800-1760806800@864foodtrucks.com
SUMMARY:The Salted Fry @ Bottles
DESCRIPTION:100% Gluten Free Food Trailer! Crispy Belgian style pommes frites loaded with your choice of savory toppings. Choose from multiple house made sauces and unique ketchup flavors!
URL:https://864foodtrucks.com/event/the-salted-fry-bottles/
LOCATION:Bottles Beverage Superstore\, 7 Milestone Plz\, Greenville\, South Carolina\, 29615
CATEGORIES:Food Truck Schedules,Greenville
ATTACH;FMTTYPE=image/jpeg:https://864foodtrucks.com/wp-content/uploads/2025/05/The-Salted-Fry.jpg
ORGANIZER;CN="The Salted Fry":MAILTO:thesaltedfry@gmail.com
GEO:34.8623675;-82.2700255
X-APPLE-STRUCTURED-LOCATION;VALUE=URI;X-ADDRESS=Bottles Beverage Superstore 7 Milestone Plz Greenville South Carolina 29615;X-APPLE-RADIUS=500;X-TITLE=7 Milestone Plz:geo:-82.2700255,34.8623675
END:VEVENT
BEGIN:VEVENT
DTSTART;TZID=America/New_York:20251015T173000
DTEND;TZID=America/New_York:20251015T200000
DTSTAMP:20260424T185026
CREATED:20250602T181556Z
LAST-MODIFIED:20250602T181556Z
UID:55043-1760549400-1760558400@864foodtrucks.com
SUMMARY:The Salted Fry @ Grateful Brew
DESCRIPTION:100% Gluten Free Food Trailer! Crispy Belgian style pommes frites loaded with your choice of savory toppings. Choose from multiple house made sauces and unique ketchup flavors!
URL:https://864foodtrucks.com/event/the-salted-fry-grateful-brew/2025-10-15/
LOCATION:Grateful Brew\, 501 S Pleasantburg Dr\, Greenville\, SC\, 29607\, United States
CATEGORIES:Food Truck Schedules,Greenville
ATTACH;FMTTYPE=image/jpeg:https://864foodtrucks.com/wp-content/uploads/2025/05/The-Salted-Fry-1.jpg
ORGANIZER;CN="The Salted Fry":MAILTO:thesaltedfry@gmail.com
GEO:34.8292844;-82.36962
X-APPLE-STRUCTURED-LOCATION;VALUE=URI;X-ADDRESS=Grateful Brew 501 S Pleasantburg Dr Greenville SC 29607 United States;X-APPLE-RADIUS=500;X-TITLE=501 S Pleasantburg Dr:geo:-82.36962,34.8292844
END:VEVENT
BEGIN:VEVENT
DTSTART;TZID=America/New_York:20251008T173000
DTEND;TZID=America/New_York:20251008T200000
DTSTAMP:20260424T185026
CREATED:20250616T235910Z
LAST-MODIFIED:20260223T193854Z
UID:55037-1759944600-1759953600@864foodtrucks.com
SUMMARY:The Salted Fry @ Community Tap
DESCRIPTION:100% Gluten Free Food Trailer! Crispy Belgian style pommes frites loaded with your choice of savory toppings. Choose from multiple house made sauces and unique ketchup flavors!
URL:https://864foodtrucks.com/event/the-salted-fry-community-tap/2025-10-08/
LOCATION:The Community Tap\, 217 Wade Hampton Blvd\, Greenville\, South Carolina
CATEGORIES:Food Truck Schedules,Greenville
ATTACH;FMTTYPE=image/jpeg:https://864foodtrucks.com/wp-content/uploads/2025/05/The-Salted-Fry-1.jpg
ORGANIZER;CN="The Salted Fry":MAILTO:thesaltedfry@gmail.com
GEO:34.8625763;-82.3857613
X-APPLE-STRUCTURED-LOCATION;VALUE=URI;X-ADDRESS=The Community Tap 217 Wade Hampton Blvd Greenville South Carolina;X-APPLE-RADIUS=500;X-TITLE=217 Wade Hampton Blvd:geo:-82.3857613,34.8625763
END:VEVENT
BEGIN:VEVENT
DTSTART;TZID=America/New_York:20250929T173000
DTEND;TZID=America/New_York:20250929T200000
DTSTAMP:20260424T185026
CREATED:20250602T181556Z
LAST-MODIFIED:20251013T190441Z
UID:54653-1759167000-1759176000@864foodtrucks.com
SUMMARY:The Salted Fry @ Grateful Brew
DESCRIPTION:100% Gluten Free Food Trailer! Crispy Belgian style pommes frites loaded with your choice of savory toppings. Choose from multiple house made sauces and unique ketchup flavors!
URL:https://864foodtrucks.com/event/the-salted-fry-grateful-brew/2025-09-29/
LOCATION:Grateful Brew\, 501 S Pleasantburg Dr\, Greenville\, SC\, 29607\, United States
CATEGORIES:Food Truck Schedules,Greenville
ATTACH;FMTTYPE=image/jpeg:https://864foodtrucks.com/wp-content/uploads/2025/05/The-Salted-Fry-1.jpg
ORGANIZER;CN="The Salted Fry":MAILTO:thesaltedfry@gmail.com
GEO:34.8292844;-82.36962
X-APPLE-STRUCTURED-LOCATION;VALUE=URI;X-ADDRESS=Grateful Brew 501 S Pleasantburg Dr Greenville SC 29607 United States;X-APPLE-RADIUS=500;X-TITLE=501 S Pleasantburg Dr:geo:-82.36962,34.8292844
END:VEVENT
BEGIN:VEVENT
DTSTART;TZID=America/New_York:20250919T173000
DTEND;TZID=America/New_York:20250919T213000
DTSTAMP:20260424T185026
CREATED:20250818T185134Z
LAST-MODIFIED:20260412T194847Z
UID:52236-1758303000-1758317400@864foodtrucks.com
SUMMARY:The Salted Fry @ Main Street Fridays
DESCRIPTION:100% Gluten Free Food Trailer! Crispy Belgian style pommes frites loaded with your choice of savory toppings. Choose from multiple house made sauces and unique ketchup flavors!
URL:https://864foodtrucks.com/event/the-salted-fry-main-street-fridays/2025-09-19/
LOCATION:NOMA Square\, 220 N Main St\, Greenville\, South Carolina
CATEGORIES:Food Truck Schedules,Greenville
ATTACH;FMTTYPE=image/jpeg:https://864foodtrucks.com/wp-content/uploads/2025/05/The-Salted-Fry-1.jpg
ORGANIZER;CN="The Salted Fry":MAILTO:thesaltedfry@gmail.com
GEO:34.8529645;-82.3968802
X-APPLE-STRUCTURED-LOCATION;VALUE=URI;X-ADDRESS=NOMA Square 220 N Main St Greenville South Carolina;X-APPLE-RADIUS=500;X-TITLE=220 N Main St:geo:-82.3968802,34.8529645
END:VEVENT
BEGIN:VEVENT
DTSTART;TZID=America/New_York:20250916T160000
DTEND;TZID=America/New_York:20250916T193000
DTSTAMP:20260424T185026
CREATED:20250915T175300Z
LAST-MODIFIED:20250915T175300Z
UID:53904-1758038400-1758051000@864foodtrucks.com
SUMMARY:The Salted Fry @ Whitey's Auto Auction
DESCRIPTION:100% Gluten Free Food Trailer! Crispy Belgian style pommes frites loaded with your choice of savory toppings. Choose from multiple house made sauces and unique ketchup flavors!
URL:https://864foodtrucks.com/event/the-salted-fry-whiteys-auto-auction/
LOCATION:Whitey’s Auto Auction\, 1515 Locust Hill Rd\, Greer\, South Carolina
CATEGORIES:Food Truck Schedules,Greer
ORGANIZER;CN="The Salted Fry":MAILTO:thesaltedfry@gmail.com
GEO:34.9490173;-82.2763211
X-APPLE-STRUCTURED-LOCATION;VALUE=URI;X-ADDRESS=Whitey’s Auto Auction 1515 Locust Hill Rd Greer South Carolina;X-APPLE-RADIUS=500;X-TITLE=1515 Locust Hill Rd:geo:-82.2763211,34.9490173
END:VEVENT
BEGIN:VEVENT
DTSTART;TZID=America/New_York:20250829T173000
DTEND;TZID=America/New_York:20250829T213000
DTSTAMP:20260424T185026
CREATED:20250818T185134Z
LAST-MODIFIED:20260412T194846Z
UID:52235-1756488600-1756503000@864foodtrucks.com
SUMMARY:The Salted Fry @ Main Street Fridays
DESCRIPTION:100% Gluten Free Food Trailer! Crispy Belgian style pommes frites loaded with your choice of savory toppings. Choose from multiple house made sauces and unique ketchup flavors!
URL:https://864foodtrucks.com/event/the-salted-fry-main-street-fridays/2025-08-29/
LOCATION:NOMA Square\, 220 N Main St\, Greenville\, South Carolina
CATEGORIES:Food Truck Schedules,Greenville
ATTACH;FMTTYPE=image/jpeg:https://864foodtrucks.com/wp-content/uploads/2025/05/The-Salted-Fry-1.jpg
ORGANIZER;CN="The Salted Fry":MAILTO:thesaltedfry@gmail.com
GEO:34.8529645;-82.3968802
X-APPLE-STRUCTURED-LOCATION;VALUE=URI;X-ADDRESS=NOMA Square 220 N Main St Greenville South Carolina;X-APPLE-RADIUS=500;X-TITLE=220 N Main St:geo:-82.3968802,34.8529645
END:VEVENT
BEGIN:VEVENT
DTSTART;TZID=America/New_York:20250826T163000
DTEND;TZID=America/New_York:20250826T163000
DTSTAMP:20260424T185026
CREATED:20250818T184826Z
LAST-MODIFIED:20251110T210608Z
UID:52233-1756225800-1756225800@864foodtrucks.com
SUMMARY:The Salted Fry @ Greer Alive
DESCRIPTION:100% Gluten Free Food Trailer! Crispy Belgian style pommes frites loaded with your choice of savory toppings. Choose from multiple house made sauces and unique ketchup flavors!
URL:https://864foodtrucks.com/event/the-salted-fry-greer-alive/2025-08-26/
LOCATION:Greer City Park\, 301 E Poinsett St\, Greer\, South Carolina
CATEGORIES:Food Truck Schedules,Greer
ATTACH;FMTTYPE=image/jpeg:https://864foodtrucks.com/wp-content/uploads/2025/05/The-Salted-Fry-1.jpg
ORGANIZER;CN="The Salted Fry":MAILTO:thesaltedfry@gmail.com
GEO:34.9377066;-82.2230614
X-APPLE-STRUCTURED-LOCATION;VALUE=URI;X-ADDRESS=Greer City Park 301 E Poinsett St Greer South Carolina;X-APPLE-RADIUS=500;X-TITLE=301 E Poinsett St:geo:-82.2230614,34.9377066
END:VEVENT
BEGIN:VEVENT
DTSTART;TZID=America/New_York:20250619T173000
DTEND;TZID=America/New_York:20250619T173000
DTSTAMP:20260424T185026
CREATED:20250616T235910Z
LAST-MODIFIED:20260223T193854Z
UID:48308-1750354200-1750354200@864foodtrucks.com
SUMMARY:The Salted Fry @ Community Tap
DESCRIPTION:100% Gluten Free Food Trailer! Crispy Belgian style pommes frites loaded with your choice of savory toppings. Choose from multiple house made sauces and unique ketchup flavors!
URL:https://864foodtrucks.com/event/the-salted-fry-community-tap/2025-06-19/
LOCATION:The Community Tap\, 217 Wade Hampton Blvd\, Greenville\, South Carolina
CATEGORIES:Food Truck Schedules,Greenville
ATTACH;FMTTYPE=image/jpeg:https://864foodtrucks.com/wp-content/uploads/2025/05/The-Salted-Fry-1.jpg
ORGANIZER;CN="The Salted Fry":MAILTO:thesaltedfry@gmail.com
GEO:34.8625763;-82.3857613
X-APPLE-STRUCTURED-LOCATION;VALUE=URI;X-ADDRESS=The Community Tap 217 Wade Hampton Blvd Greenville South Carolina;X-APPLE-RADIUS=500;X-TITLE=217 Wade Hampton Blvd:geo:-82.3857613,34.8625763
END:VEVENT
BEGIN:VEVENT
DTSTART;TZID=America/New_York:20250614T170000
DTEND;TZID=America/New_York:20250614T203000
DTSTAMP:20260424T185026
CREATED:20250610T151205Z
LAST-MODIFIED:20250610T151205Z
UID:47750-1749920400-1749933000@864foodtrucks.com
SUMMARY:The Salted Fry @ Swamp Rabbit Brewery
DESCRIPTION:100% Gluten Free Food Trailer! Crispy Belgian style pommes frites loaded with your choice of savory toppings. Choose from multiple house made sauces and unique ketchup flavors!
URL:https://864foodtrucks.com/event/the-salted-fry-swamp-rabbit-brewery/
LOCATION:Swamp Rabbit Brewery\, 26 S Main St\, Travelers Rest\, South Carolina
CATEGORIES:Food Truck Schedules,Travelers Rest
ATTACH;FMTTYPE=image/jpeg:https://864foodtrucks.com/wp-content/uploads/2025/05/The-Salted-Fry-1.jpg
ORGANIZER;CN="The Salted Fry":MAILTO:thesaltedfry@gmail.com
GEO:34.9670847;-82.4425017
X-APPLE-STRUCTURED-LOCATION;VALUE=URI;X-ADDRESS=Swamp Rabbit Brewery 26 S Main St Travelers Rest South Carolina;X-APPLE-RADIUS=500;X-TITLE=26 S Main St:geo:-82.4425017,34.9670847
END:VEVENT
BEGIN:VEVENT
DTSTART;TZID=America/New_York:20250607T113000
DTEND;TZID=America/New_York:20250607T140000
DTSTAMP:20260424T185026
CREATED:20250602T181556Z
LAST-MODIFIED:20251013T190438Z
UID:47111-1749295800-1749304800@864foodtrucks.com
SUMMARY:The Salted Fry @ Grateful Brew
DESCRIPTION:100% Gluten Free Food Trailer! Crispy Belgian style pommes frites loaded with your choice of savory toppings. Choose from multiple house made sauces and unique ketchup flavors!
URL:https://864foodtrucks.com/event/the-salted-fry-grateful-brew/2025-06-07/
LOCATION:Grateful Brew\, 501 S Pleasantburg Dr\, Greenville\, SC\, 29607\, United States
CATEGORIES:Food Truck Schedules,Greenville
ATTACH;FMTTYPE=image/jpeg:https://864foodtrucks.com/wp-content/uploads/2025/05/The-Salted-Fry-1.jpg
ORGANIZER;CN="The Salted Fry":MAILTO:thesaltedfry@gmail.com
GEO:34.8292844;-82.36962
X-APPLE-STRUCTURED-LOCATION;VALUE=URI;X-ADDRESS=Grateful Brew 501 S Pleasantburg Dr Greenville SC 29607 United States;X-APPLE-RADIUS=500;X-TITLE=501 S Pleasantburg Dr:geo:-82.36962,34.8292844
END:VEVENT
BEGIN:VEVENT
DTSTART;TZID=America/New_York:20250530T173000
DTEND;TZID=America/New_York:20250530T173000
DTSTAMP:20260424T185026
CREATED:20250520T132955Z
LAST-MODIFIED:20260223T200344Z
UID:45941-1748626200-1748626200@864foodtrucks.com
SUMMARY:The Salted Fry @ Wild Yarrow Brewing
DESCRIPTION:100% Gluten Free Food Trailer! Crispy Belgian style pommes frites loaded with your choice of savory toppings. Choose from multiple house made sauces and unique ketchup flavors!
URL:https://864foodtrucks.com/event/the-salted-fry-wild-yarrow-brewing/2025-05-30/
LOCATION:Wild Yarrow Brewery\, 603 E Stone Ave Ste 4\, Greenville\, South Carolina
CATEGORIES:Food Truck Schedules,Greenville
ATTACH;FMTTYPE=image/jpeg:https://864foodtrucks.com/wp-content/uploads/2025/05/The-Salted-Fry-1.jpg
ORGANIZER;CN="The Salted Fry":MAILTO:thesaltedfry@gmail.com
GEO:34.8585597;-82.3848471
X-APPLE-STRUCTURED-LOCATION;VALUE=URI;X-ADDRESS=Wild Yarrow Brewery 603 E Stone Ave Ste 4 Greenville South Carolina;X-APPLE-RADIUS=500;X-TITLE=603 E Stone Ave Ste 4:geo:-82.3848471,34.8585597
END:VEVENT
BEGIN:VEVENT
DTSTART;TZID=America/New_York:20250529T173000
DTEND;TZID=America/New_York:20250529T173000
DTSTAMP:20260424T185026
CREATED:20250520T133108Z
LAST-MODIFIED:20250528T151550Z
UID:45943-1748539800-1748539800@864foodtrucks.com
SUMMARY:The Salted Fry @ The Community Tap
DESCRIPTION:100% Gluten Free Food Trailer! Crispy Belgian style pommes frites loaded with your choice of savory toppings. Choose from multiple house made sauces and unique ketchup flavors!
URL:https://864foodtrucks.com/event/the-salted-fry-the-community-tap/
LOCATION:The Community Tap\, 217 Wade Hampton Blvd\, Greenville\, South Carolina
CATEGORIES:Food Truck Schedules,Greenville
ATTACH;FMTTYPE=image/jpeg:https://864foodtrucks.com/wp-content/uploads/2025/05/The-Salted-Fry-1.jpg
ORGANIZER;CN="The Salted Fry":MAILTO:thesaltedfry@gmail.com
GEO:34.8625763;-82.3857613
X-APPLE-STRUCTURED-LOCATION;VALUE=URI;X-ADDRESS=The Community Tap 217 Wade Hampton Blvd Greenville South Carolina;X-APPLE-RADIUS=500;X-TITLE=217 Wade Hampton Blvd:geo:-82.3857613,34.8625763
END:VEVENT
BEGIN:VEVENT
DTSTART;TZID=America/New_York:20250523T110000
DTEND;TZID=America/New_York:20250523T190000
DTSTAMP:20260424T185026
CREATED:20250520T132815Z
LAST-MODIFIED:20250520T132835Z
UID:45937-1747998000-1748026800@864foodtrucks.com
SUMMARY:The Salted Fry @ O'Darby's Liquor Barn
DESCRIPTION:100% Gluten Free Food Trailer! Crispy Belgian style pommes frites loaded with your choice of savory toppings. Choose from multiple house made sauces and unique ketchup flavors!
URL:https://864foodtrucks.com/event/the-salted-fry-odarbys-liquor-barn-2/2025-05-23/
LOCATION:O’Darby’s Liquor Barn\, 5115 Wade Hampton Blvd\, Taylors\, South Carolina
CATEGORIES:Food Truck Schedules,Taylors
ATTACH;FMTTYPE=image/jpeg:https://864foodtrucks.com/wp-content/uploads/2025/05/The-Salted-Fry-1.jpg
ORGANIZER;CN="The Salted Fry":MAILTO:thesaltedfry@gmail.com
GEO:34.9329994;-82.2864096
X-APPLE-STRUCTURED-LOCATION;VALUE=URI;X-ADDRESS=O’Darby’s Liquor Barn 5115 Wade Hampton Blvd Taylors South Carolina;X-APPLE-RADIUS=500;X-TITLE=5115 Wade Hampton Blvd:geo:-82.2864096,34.9329994
END:VEVENT
BEGIN:VEVENT
DTSTART;TZID=America/New_York:20250523T110000
DTEND;TZID=America/New_York:20250523T190000
DTSTAMP:20260424T185026
CREATED:20250505T164857Z
LAST-MODIFIED:20250505T164912Z
UID:44361-1747998000-1748026800@864foodtrucks.com
SUMMARY:The Salted Fry @ O'Darby's Liquor Barn
DESCRIPTION:A 100% gluten free eatery\, delicious pommes frites\, smash burgers\, vegan burgers\, sandwiches\, paninis\, hard ciders\, beer\, wine and more!
URL:https://864foodtrucks.com/event/the-salted-fry-odarbys-liquor-barn/2025-05-23/
LOCATION:O’Darby’s Liquor Barn\, 5115 Wade Hampton Blvd\, Taylors\, South Carolina
CATEGORIES:Food Truck Schedules,Taylors
ATTACH;FMTTYPE=image/jpeg:https://864foodtrucks.com/wp-content/uploads/2025/05/The-Salted-Fry-1.jpg
ORGANIZER;CN="The Salted Fry":MAILTO:thesaltedfry@gmail.com
GEO:34.9329994;-82.2864096
X-APPLE-STRUCTURED-LOCATION;VALUE=URI;X-ADDRESS=O’Darby’s Liquor Barn 5115 Wade Hampton Blvd Taylors South Carolina;X-APPLE-RADIUS=500;X-TITLE=5115 Wade Hampton Blvd:geo:-82.2864096,34.9329994
END:VEVENT
END:VCALENDAR