BEGIN:VCALENDAR
VERSION:2.0
PRODID:-//864 Food Trucks - ECPv6.15.20//NONSGML v1.0//EN
CALSCALE:GREGORIAN
METHOD:PUBLISH
X-WR-CALNAME:864 Food Trucks
X-ORIGINAL-URL:https://864foodtrucks.com
X-WR-CALDESC:Events for 864 Food Trucks
REFRESH-INTERVAL;VALUE=DURATION:PT1H
X-Robots-Tag:noindex
X-PUBLISHED-TTL:PT1H
BEGIN:VTIMEZONE
TZID:America/New_York
BEGIN:DAYLIGHT
TZOFFSETFROM:-0500
TZOFFSETTO:-0400
TZNAME:EDT
DTSTART:20240310T070000
END:DAYLIGHT
BEGIN:STANDARD
TZOFFSETFROM:-0400
TZOFFSETTO:-0500
TZNAME:EST
DTSTART:20241103T060000
END:STANDARD
BEGIN:DAYLIGHT
TZOFFSETFROM:-0500
TZOFFSETTO:-0400
TZNAME:EDT
DTSTART:20250309T070000
END:DAYLIGHT
BEGIN:STANDARD
TZOFFSETFROM:-0400
TZOFFSETTO:-0500
TZNAME:EST
DTSTART:20251102T060000
END:STANDARD
BEGIN:DAYLIGHT
TZOFFSETFROM:-0500
TZOFFSETTO:-0400
TZNAME:EDT
DTSTART:20260308T070000
END:DAYLIGHT
BEGIN:STANDARD
TZOFFSETFROM:-0400
TZOFFSETTO:-0500
TZNAME:EST
DTSTART:20261101T060000
END:STANDARD
END:VTIMEZONE
BEGIN:VEVENT
DTSTART;TZID=America/New_York:20250523T110000
DTEND;TZID=America/New_York:20250523T190000
DTSTAMP:20260425T101211
CREATED:20250505T164857Z
LAST-MODIFIED:20250505T164912Z
UID:44361-1747998000-1748026800@864foodtrucks.com
SUMMARY:The Salted Fry @ O'Darby's Liquor Barn
DESCRIPTION:A 100% gluten free eatery\, delicious pommes frites\, smash burgers\, vegan burgers\, sandwiches\, paninis\, hard ciders\, beer\, wine and more!
URL:https://864foodtrucks.com/event/the-salted-fry-odarbys-liquor-barn/2025-05-23/
LOCATION:O’Darby’s Liquor Barn\, 5115 Wade Hampton Blvd\, Taylors\, South Carolina
CATEGORIES:Food Truck Schedules,Taylors
ATTACH;FMTTYPE=image/jpeg:https://864foodtrucks.com/wp-content/uploads/2025/05/The-Salted-Fry-1.jpg
ORGANIZER;CN="The Salted Fry":MAILTO:thesaltedfry@gmail.com
GEO:34.9329994;-82.2864096
X-APPLE-STRUCTURED-LOCATION;VALUE=URI;X-ADDRESS=O’Darby’s Liquor Barn 5115 Wade Hampton Blvd Taylors South Carolina;X-APPLE-RADIUS=500;X-TITLE=5115 Wade Hampton Blvd:geo:-82.2864096,34.9329994
END:VEVENT
END:VCALENDAR