BEGIN:VCALENDAR
VERSION:2.0
PRODID:-//864 Food Trucks - ECPv6.15.20//NONSGML v1.0//EN
CALSCALE:GREGORIAN
METHOD:PUBLISH
X-WR-CALNAME:864 Food Trucks
X-ORIGINAL-URL:https://864foodtrucks.com
X-WR-CALDESC:Events for 864 Food Trucks
REFRESH-INTERVAL;VALUE=DURATION:PT1H
X-Robots-Tag:noindex
X-PUBLISHED-TTL:PT1H
BEGIN:VTIMEZONE
TZID:America/New_York
BEGIN:DAYLIGHT
TZOFFSETFROM:-0500
TZOFFSETTO:-0400
TZNAME:EDT
DTSTART:20210314T070000
END:DAYLIGHT
BEGIN:STANDARD
TZOFFSETFROM:-0400
TZOFFSETTO:-0500
TZNAME:EST
DTSTART:20211107T060000
END:STANDARD
BEGIN:DAYLIGHT
TZOFFSETFROM:-0500
TZOFFSETTO:-0400
TZNAME:EDT
DTSTART:20220313T070000
END:DAYLIGHT
BEGIN:STANDARD
TZOFFSETFROM:-0400
TZOFFSETTO:-0500
TZNAME:EST
DTSTART:20221106T060000
END:STANDARD
BEGIN:DAYLIGHT
TZOFFSETFROM:-0500
TZOFFSETTO:-0400
TZNAME:EDT
DTSTART:20230312T070000
END:DAYLIGHT
BEGIN:STANDARD
TZOFFSETFROM:-0400
TZOFFSETTO:-0500
TZNAME:EST
DTSTART:20231105T060000
END:STANDARD
BEGIN:DAYLIGHT
TZOFFSETFROM:-0500
TZOFFSETTO:-0400
TZNAME:EDT
DTSTART:20240310T070000
END:DAYLIGHT
BEGIN:STANDARD
TZOFFSETFROM:-0400
TZOFFSETTO:-0500
TZNAME:EST
DTSTART:20241103T060000
END:STANDARD
END:VTIMEZONE
BEGIN:VEVENT
DTSTART;TZID=America/New_York:20230204T110000
DTEND;TZID=America/New_York:20230204T110000
DTSTAMP:20260425T220435
CREATED:20230130T200359Z
LAST-MODIFIED:20230130T200359Z
UID:16463-1675508400-1675508400@864foodtrucks.com
SUMMARY:Vita Nova Coffee & Tea @ ReCraft Greenville
DESCRIPTION:The vision of Vita Nova is to bring communities together around good coffee\, delicacies and various entertainment!
URL:https://864foodtrucks.com/event/vita-nova-coffee-tea-recraft-greenville/
LOCATION:ReCraft Greenville\, 525 Haywood Rd\, Greevnille\, SC\, United States
CATEGORIES:Food Truck Schedules,Greenville
ATTACH;FMTTYPE=image/jpeg:https://864foodtrucks.com/wp-content/uploads/2021/12/Vita-Nova.jpg
ORGANIZER;CN="Vita Nova Coffee And Tea":MAILTO:Vitanova3710@gmail.com
END:VEVENT
BEGIN:VEVENT
DTSTART;TZID=America/New_York:20221214T070000
DTEND;TZID=America/New_York:20221214T070000
DTSTAMP:20260425T220435
CREATED:20221211T225248Z
LAST-MODIFIED:20221211T225248Z
UID:15574-1671001200-1671001200@864foodtrucks.com
SUMMARY:Vita Nova @ Paris Elementary
DESCRIPTION:The vision of Vita Nova is to bring communities together around good coffee\, delicacies and various entertainment!
URL:https://864foodtrucks.com/event/vita-nova-paris-elementary/
LOCATION:Paris Elementary\, 32 E Belvue Rd\, Taylors\, South Carolina
CATEGORIES:Food Truck Schedules,Taylors
ATTACH;FMTTYPE=image/jpeg:https://864foodtrucks.com/wp-content/uploads/2021/12/Vita-Nova.jpg
ORGANIZER;CN="Vita Nova Coffee And Tea":MAILTO:Vitanova3710@gmail.com
GEO:34.9060558;-82.3620564
X-APPLE-STRUCTURED-LOCATION;VALUE=URI;X-ADDRESS=Paris Elementary 32 E Belvue Rd Taylors South Carolina;X-APPLE-RADIUS=500;X-TITLE=32 E Belvue Rd:geo:-82.3620564,34.9060558
END:VEVENT
BEGIN:VEVENT
DTSTART;TZID=America/New_York:20221104T070000
DTEND;TZID=America/New_York:20221104T100000
DTSTAMP:20260425T220435
CREATED:20221031T164600Z
LAST-MODIFIED:20250203T000630Z
UID:13937-1667545200-1667556000@864foodtrucks.com
SUMMARY:Vita Nova Coffee & Tea @ Neely Farms
DESCRIPTION:The vision of Vita Nova is to bring communities together around good coffee\, delicacies and various entertainment!
URL:https://864foodtrucks.com/event/vita-nova-coffee-tea-neely-farms/2022-11-04/
LOCATION:Neely Farms\, 105 Farm Club Dr\,\, Simpsonville\, SC\, 29680\, United States
CATEGORIES:Food Truck Schedules,Simpsonville
ATTACH;FMTTYPE=image/jpeg:https://864foodtrucks.com/wp-content/uploads/2021/12/Vita-Nova.jpg
ORGANIZER;CN="Vita Nova Coffee And Tea":MAILTO:Vitanova3710@gmail.com
GEO:34.7021818;-82.2815731
X-APPLE-STRUCTURED-LOCATION;VALUE=URI;X-ADDRESS=Neely Farms 105 Farm Club Dr Simpsonville SC 29680 United States;X-APPLE-RADIUS=500;X-TITLE=105 Farm Club Dr\,:geo:-82.2815731,34.7021818
END:VEVENT
BEGIN:VEVENT
DTSTART;TZID=America/New_York:20221103T070000
DTEND;TZID=America/New_York:20221103T090000
DTSTAMP:20260425T220435
CREATED:20221031T164104Z
LAST-MODIFIED:20230130T195950Z
UID:13933-1667458800-1667466000@864foodtrucks.com
SUMMARY:Vita Nova Coffee & Tea @ Woodmont Middle
DESCRIPTION:The vision of Vita Nova is to bring communities together around good coffee\, delicacies and various entertainment!
URL:https://864foodtrucks.com/event/vita-nova-coffee-tea-woodmont-middle/2022-11-03/
LOCATION:Woodmont Middle School\, 325 N Flat Rock Rd\, Piedmont\, South Carolina
CATEGORIES:Food Truck Schedules,Piedmont
ATTACH;FMTTYPE=image/jpeg:https://864foodtrucks.com/wp-content/uploads/2021/12/Vita-Nova.jpg
ORGANIZER;CN="Vita Nova Coffee And Tea":MAILTO:Vitanova3710@gmail.com
END:VEVENT
END:VCALENDAR