BEGIN:VCALENDAR
VERSION:2.0
PRODID:-//864 Food Trucks - ECPv6.15.20//NONSGML v1.0//EN
CALSCALE:GREGORIAN
METHOD:PUBLISH
X-WR-CALNAME:864 Food Trucks
X-ORIGINAL-URL:https://864foodtrucks.com
X-WR-CALDESC:Events for 864 Food Trucks
REFRESH-INTERVAL;VALUE=DURATION:PT1H
X-Robots-Tag:noindex
X-PUBLISHED-TTL:PT1H
BEGIN:VTIMEZONE
TZID:America/New_York
BEGIN:DAYLIGHT
TZOFFSETFROM:-0500
TZOFFSETTO:-0400
TZNAME:EDT
DTSTART:20230312T070000
END:DAYLIGHT
BEGIN:STANDARD
TZOFFSETFROM:-0400
TZOFFSETTO:-0500
TZNAME:EST
DTSTART:20231105T060000
END:STANDARD
BEGIN:DAYLIGHT
TZOFFSETFROM:-0500
TZOFFSETTO:-0400
TZNAME:EDT
DTSTART:20240310T070000
END:DAYLIGHT
BEGIN:STANDARD
TZOFFSETFROM:-0400
TZOFFSETTO:-0500
TZNAME:EST
DTSTART:20241103T060000
END:STANDARD
BEGIN:DAYLIGHT
TZOFFSETFROM:-0500
TZOFFSETTO:-0400
TZNAME:EDT
DTSTART:20250309T070000
END:DAYLIGHT
BEGIN:STANDARD
TZOFFSETFROM:-0400
TZOFFSETTO:-0500
TZNAME:EST
DTSTART:20251102T060000
END:STANDARD
BEGIN:DAYLIGHT
TZOFFSETFROM:-0500
TZOFFSETTO:-0400
TZNAME:EDT
DTSTART:20260308T070000
END:DAYLIGHT
BEGIN:STANDARD
TZOFFSETFROM:-0400
TZOFFSETTO:-0500
TZNAME:EST
DTSTART:20261101T060000
END:STANDARD
BEGIN:DAYLIGHT
TZOFFSETFROM:-0500
TZOFFSETTO:-0400
TZNAME:EDT
DTSTART:20270314T070000
END:DAYLIGHT
BEGIN:STANDARD
TZOFFSETFROM:-0400
TZOFFSETTO:-0500
TZNAME:EST
DTSTART:20271107T060000
END:STANDARD
END:VTIMEZONE
BEGIN:VEVENT
DTSTART;TZID=America/New_York:20260304T173000
DTEND;TZID=America/New_York:20260304T200000
DTSTAMP:20260423T224221
CREATED:20250922T174243Z
LAST-MODIFIED:20260420T150936Z
UID:60335-1772645400-1772654400@864foodtrucks.com
SUMMARY:We Got the Beets @ Grateful Brew
DESCRIPTION:FOOD FOR ALL!\nPowered by love…and plants 🌱🌈\n📍 Greenville\, SC
URL:https://864foodtrucks.com/event/we-got-the-beets-grateful-brew-2/2026-03-04/
LOCATION:Grateful Brew\, 501 S Pleasantburg Dr\, Greenville\, SC\, 29607\, United States
CATEGORIES:Food Truck Schedules,Greenville
ATTACH;FMTTYPE=image/jpeg:https://864foodtrucks.com/wp-content/uploads/2023/10/We-Got-the-Beets.jpg
GEO:34.8292844;-82.36962
X-APPLE-STRUCTURED-LOCATION;VALUE=URI;X-ADDRESS=Grateful Brew 501 S Pleasantburg Dr Greenville SC 29607 United States;X-APPLE-RADIUS=500;X-TITLE=501 S Pleasantburg Dr:geo:-82.36962,34.8292844
END:VEVENT
BEGIN:VEVENT
DTSTART;TZID=America/New_York:20260301T110000
DTEND;TZID=America/New_York:20260301T140000
DTSTAMP:20260423T224221
CREATED:20260210T183042Z
LAST-MODIFIED:20260210T183042Z
UID:59637-1772362800-1772373600@864foodtrucks.com
SUMMARY:We Got the Beets @ Swamp Rabbit Cafe
DESCRIPTION:FOOD FOR ALL!\nPowered by love…and plants 🌱🌈\n📍 Greenville\, SC
URL:https://864foodtrucks.com/event/we-got-the-beets-swamp-rabbit-cafe/2026-03-01/
LOCATION:Swamp Rabbit Cafe\, 205 Cedar Lane Road\, Greenville\, South Carolina
CATEGORIES:Food Truck Schedules,Greenville
ATTACH;FMTTYPE=image/jpeg:https://864foodtrucks.com/wp-content/uploads/2023/10/We-Got-the-Beets.jpg
GEO:34.8694785;-82.4214201
X-APPLE-STRUCTURED-LOCATION;VALUE=URI;X-ADDRESS=Swamp Rabbit Cafe 205 Cedar Lane Road Greenville South Carolina;X-APPLE-RADIUS=500;X-TITLE=205 Cedar Lane Road:geo:-82.4214201,34.8694785
END:VEVENT
BEGIN:VEVENT
DTSTART;TZID=America/New_York:20260225T173000
DTEND;TZID=America/New_York:20260225T200000
DTSTAMP:20260423T224221
CREATED:20250922T174243Z
LAST-MODIFIED:20260420T150936Z
UID:60118-1772040600-1772049600@864foodtrucks.com
SUMMARY:We Got the Beets @ Grateful Brew
DESCRIPTION:FOOD FOR ALL!\nPowered by love…and plants 🌱🌈\n📍 Greenville\, SC
URL:https://864foodtrucks.com/event/we-got-the-beets-grateful-brew-2/2026-02-25/
LOCATION:Grateful Brew\, 501 S Pleasantburg Dr\, Greenville\, SC\, 29607\, United States
CATEGORIES:Food Truck Schedules,Greenville
ATTACH;FMTTYPE=image/jpeg:https://864foodtrucks.com/wp-content/uploads/2023/10/We-Got-the-Beets.jpg
GEO:34.8292844;-82.36962
X-APPLE-STRUCTURED-LOCATION;VALUE=URI;X-ADDRESS=Grateful Brew 501 S Pleasantburg Dr Greenville SC 29607 United States;X-APPLE-RADIUS=500;X-TITLE=501 S Pleasantburg Dr:geo:-82.36962,34.8292844
END:VEVENT
BEGIN:VEVENT
DTSTART;TZID=America/New_York:20260222T110000
DTEND;TZID=America/New_York:20260222T140000
DTSTAMP:20260423T224221
CREATED:20260210T183042Z
LAST-MODIFIED:20260210T183042Z
UID:59636-1771758000-1771768800@864foodtrucks.com
SUMMARY:We Got the Beets @ Swamp Rabbit Cafe
DESCRIPTION:FOOD FOR ALL!\nPowered by love…and plants 🌱🌈\n📍 Greenville\, SC
URL:https://864foodtrucks.com/event/we-got-the-beets-swamp-rabbit-cafe/2026-02-22/
LOCATION:Swamp Rabbit Cafe\, 205 Cedar Lane Road\, Greenville\, South Carolina
CATEGORIES:Food Truck Schedules,Greenville
ATTACH;FMTTYPE=image/jpeg:https://864foodtrucks.com/wp-content/uploads/2023/10/We-Got-the-Beets.jpg
GEO:34.8694785;-82.4214201
X-APPLE-STRUCTURED-LOCATION;VALUE=URI;X-ADDRESS=Swamp Rabbit Cafe 205 Cedar Lane Road Greenville South Carolina;X-APPLE-RADIUS=500;X-TITLE=205 Cedar Lane Road:geo:-82.4214201,34.8694785
END:VEVENT
BEGIN:VEVENT
DTSTART;TZID=America/New_York:20260215T110000
DTEND;TZID=America/New_York:20260215T140000
DTSTAMP:20260423T224222
CREATED:20260210T183042Z
LAST-MODIFIED:20260210T183042Z
UID:59635-1771153200-1771164000@864foodtrucks.com
SUMMARY:We Got the Beets @ Swamp Rabbit Cafe
DESCRIPTION:FOOD FOR ALL!\nPowered by love…and plants 🌱🌈\n📍 Greenville\, SC
URL:https://864foodtrucks.com/event/we-got-the-beets-swamp-rabbit-cafe/2026-02-15/
LOCATION:Swamp Rabbit Cafe\, 205 Cedar Lane Road\, Greenville\, South Carolina
CATEGORIES:Food Truck Schedules,Greenville
ATTACH;FMTTYPE=image/jpeg:https://864foodtrucks.com/wp-content/uploads/2023/10/We-Got-the-Beets.jpg
GEO:34.8694785;-82.4214201
X-APPLE-STRUCTURED-LOCATION;VALUE=URI;X-ADDRESS=Swamp Rabbit Cafe 205 Cedar Lane Road Greenville South Carolina;X-APPLE-RADIUS=500;X-TITLE=205 Cedar Lane Road:geo:-82.4214201,34.8694785
END:VEVENT
BEGIN:VEVENT
DTSTART;TZID=America/New_York:20260208T110000
DTEND;TZID=America/New_York:20260208T140000
DTSTAMP:20260423T224222
CREATED:20240423T145501Z
LAST-MODIFIED:20240423T145501Z
UID:59396-1770548400-1770559200@864foodtrucks.com
SUMMARY:We Got the Beets @ Swamp Rabbit Cafe
DESCRIPTION:YUMMY EATS WITHOUT THE MEATS!\nPowered by love…and plants 🌱🌈\n📍 Greenville\, SC
URL:https://864foodtrucks.com/event/we-got-the-beets-swamp-rabbit-cafe-4/2026-02-08/
LOCATION:Swamp Rabbit Cafe\, 205 Cedar Lane Road\, Greenville\, South Carolina
CATEGORIES:Food Truck Schedules,Greenville
ATTACH;FMTTYPE=image/jpeg:https://864foodtrucks.com/wp-content/uploads/2023/10/We-Got-the-Beets.jpg
GEO:34.8694785;-82.4214201
X-APPLE-STRUCTURED-LOCATION;VALUE=URI;X-ADDRESS=Swamp Rabbit Cafe 205 Cedar Lane Road Greenville South Carolina;X-APPLE-RADIUS=500;X-TITLE=205 Cedar Lane Road:geo:-82.4214201,34.8694785
END:VEVENT
BEGIN:VEVENT
DTSTART;TZID=America/New_York:20260204T173000
DTEND;TZID=America/New_York:20260204T200000
DTSTAMP:20260423T224222
CREATED:20250922T174243Z
LAST-MODIFIED:20260420T150936Z
UID:59394-1770226200-1770235200@864foodtrucks.com
SUMMARY:We Got the Beets @ Grateful Brew
DESCRIPTION:FOOD FOR ALL!\nPowered by love…and plants 🌱🌈\n📍 Greenville\, SC
URL:https://864foodtrucks.com/event/we-got-the-beets-grateful-brew-2/2026-02-04/
LOCATION:Grateful Brew\, 501 S Pleasantburg Dr\, Greenville\, SC\, 29607\, United States
CATEGORIES:Food Truck Schedules,Greenville
ATTACH;FMTTYPE=image/jpeg:https://864foodtrucks.com/wp-content/uploads/2023/10/We-Got-the-Beets.jpg
GEO:34.8292844;-82.36962
X-APPLE-STRUCTURED-LOCATION;VALUE=URI;X-ADDRESS=Grateful Brew 501 S Pleasantburg Dr Greenville SC 29607 United States;X-APPLE-RADIUS=500;X-TITLE=501 S Pleasantburg Dr:geo:-82.36962,34.8292844
END:VEVENT
BEGIN:VEVENT
DTSTART;TZID=America/New_York:20260111T110000
DTEND;TZID=America/New_York:20260111T140000
DTSTAMP:20260423T224222
CREATED:20240423T145501Z
LAST-MODIFIED:20260202T230713Z
UID:58586-1768129200-1768140000@864foodtrucks.com
SUMMARY:We Got the Beets @ Swamp Rabbit Cafe
DESCRIPTION:YUMMY EATS WITHOUT THE MEATS!\nPowered by love…and plants 🌱🌈\n📍 Greenville\, SC
URL:https://864foodtrucks.com/event/we-got-the-beets-swamp-rabbit-cafe-4/2026-01-11/
LOCATION:Swamp Rabbit Cafe\, 205 Cedar Lane Road\, Greenville\, South Carolina
CATEGORIES:Food Truck Schedules,Greenville
ATTACH;FMTTYPE=image/jpeg:https://864foodtrucks.com/wp-content/uploads/2023/10/We-Got-the-Beets.jpg
GEO:34.8694785;-82.4214201
X-APPLE-STRUCTURED-LOCATION;VALUE=URI;X-ADDRESS=Swamp Rabbit Cafe 205 Cedar Lane Road Greenville South Carolina;X-APPLE-RADIUS=500;X-TITLE=205 Cedar Lane Road:geo:-82.4214201,34.8694785
END:VEVENT
BEGIN:VEVENT
DTSTART;TZID=America/New_York:20251206T110000
DTEND;TZID=America/New_York:20251206T143000
DTSTAMP:20260423T224222
CREATED:20240423T145501Z
LAST-MODIFIED:20260202T230713Z
UID:57061-1765018800-1765031400@864foodtrucks.com
SUMMARY:We Got the Beets @ Swamp Rabbit Cafe
DESCRIPTION:YUMMY EATS WITHOUT THE MEATS!\nPowered by love…and plants 🌱🌈\n📍 Greenville\, SC
URL:https://864foodtrucks.com/event/we-got-the-beets-swamp-rabbit-cafe-4/2025-12-06/
LOCATION:Swamp Rabbit Cafe\, 205 Cedar Lane Road\, Greenville\, South Carolina
CATEGORIES:Food Truck Schedules,Greenville
ATTACH;FMTTYPE=image/jpeg:https://864foodtrucks.com/wp-content/uploads/2023/10/We-Got-the-Beets.jpg
GEO:34.8694785;-82.4214201
X-APPLE-STRUCTURED-LOCATION;VALUE=URI;X-ADDRESS=Swamp Rabbit Cafe 205 Cedar Lane Road Greenville South Carolina;X-APPLE-RADIUS=500;X-TITLE=205 Cedar Lane Road:geo:-82.4214201,34.8694785
END:VEVENT
BEGIN:VEVENT
DTSTART;TZID=America/New_York:20251203T173000
DTEND;TZID=America/New_York:20251203T200000
DTSTAMP:20260423T224222
CREATED:20250922T174243Z
LAST-MODIFIED:20260420T150936Z
UID:56980-1764783000-1764792000@864foodtrucks.com
SUMMARY:We Got the Beets @ Grateful Brew
DESCRIPTION:FOOD FOR ALL!\nPowered by love…and plants 🌱🌈\n📍 Greenville\, SC
URL:https://864foodtrucks.com/event/we-got-the-beets-grateful-brew-2/2025-12-03/
LOCATION:Grateful Brew\, 501 S Pleasantburg Dr\, Greenville\, SC\, 29607\, United States
CATEGORIES:Food Truck Schedules,Greenville
ATTACH;FMTTYPE=image/jpeg:https://864foodtrucks.com/wp-content/uploads/2023/10/We-Got-the-Beets.jpg
GEO:34.8292844;-82.36962
X-APPLE-STRUCTURED-LOCATION;VALUE=URI;X-ADDRESS=Grateful Brew 501 S Pleasantburg Dr Greenville SC 29607 United States;X-APPLE-RADIUS=500;X-TITLE=501 S Pleasantburg Dr:geo:-82.36962,34.8292844
END:VEVENT
BEGIN:VEVENT
DTSTART;TZID=America/New_York:20251126T173000
DTEND;TZID=America/New_York:20251126T200000
DTSTAMP:20260423T224222
CREATED:20250922T174243Z
LAST-MODIFIED:20260420T150936Z
UID:56619-1764178200-1764187200@864foodtrucks.com
SUMMARY:We Got the Beets @ Grateful Brew
DESCRIPTION:FOOD FOR ALL!\nPowered by love…and plants 🌱🌈\n📍 Greenville\, SC
URL:https://864foodtrucks.com/event/we-got-the-beets-grateful-brew-2/2025-11-26/
LOCATION:Grateful Brew\, 501 S Pleasantburg Dr\, Greenville\, SC\, 29607\, United States
CATEGORIES:Food Truck Schedules,Greenville
ATTACH;FMTTYPE=image/jpeg:https://864foodtrucks.com/wp-content/uploads/2023/10/We-Got-the-Beets.jpg
GEO:34.8292844;-82.36962
X-APPLE-STRUCTURED-LOCATION;VALUE=URI;X-ADDRESS=Grateful Brew 501 S Pleasantburg Dr Greenville SC 29607 United States;X-APPLE-RADIUS=500;X-TITLE=501 S Pleasantburg Dr:geo:-82.36962,34.8292844
END:VEVENT
BEGIN:VEVENT
DTSTART;TZID=America/New_York:20251123T110000
DTEND;TZID=America/New_York:20251123T140000
DTSTAMP:20260423T224222
CREATED:20240423T145501Z
LAST-MODIFIED:20260202T230713Z
UID:56415-1763895600-1763906400@864foodtrucks.com
SUMMARY:We Got the Beets @ Swamp Rabbit Cafe
DESCRIPTION:YUMMY EATS WITHOUT THE MEATS!\nPowered by love…and plants 🌱🌈\n📍 Greenville\, SC
URL:https://864foodtrucks.com/event/we-got-the-beets-swamp-rabbit-cafe-4/2025-11-23/
LOCATION:Swamp Rabbit Cafe\, 205 Cedar Lane Road\, Greenville\, South Carolina
CATEGORIES:Food Truck Schedules,Greenville
ATTACH;FMTTYPE=image/jpeg:https://864foodtrucks.com/wp-content/uploads/2023/10/We-Got-the-Beets.jpg
GEO:34.8694785;-82.4214201
X-APPLE-STRUCTURED-LOCATION;VALUE=URI;X-ADDRESS=Swamp Rabbit Cafe 205 Cedar Lane Road Greenville South Carolina;X-APPLE-RADIUS=500;X-TITLE=205 Cedar Lane Road:geo:-82.4214201,34.8694785
END:VEVENT
BEGIN:VEVENT
DTSTART;TZID=America/New_York:20251105T173000
DTEND;TZID=America/New_York:20251105T200000
DTSTAMP:20260423T224222
CREATED:20250922T174243Z
LAST-MODIFIED:20260420T150936Z
UID:55938-1762363800-1762372800@864foodtrucks.com
SUMMARY:We Got the Beets @ Grateful Brew
DESCRIPTION:FOOD FOR ALL!\nPowered by love…and plants 🌱🌈\n📍 Greenville\, SC
URL:https://864foodtrucks.com/event/we-got-the-beets-grateful-brew-2/2025-11-05/
LOCATION:Grateful Brew\, 501 S Pleasantburg Dr\, Greenville\, SC\, 29607\, United States
CATEGORIES:Food Truck Schedules,Greenville
ATTACH;FMTTYPE=image/jpeg:https://864foodtrucks.com/wp-content/uploads/2023/10/We-Got-the-Beets.jpg
GEO:34.8292844;-82.36962
X-APPLE-STRUCTURED-LOCATION;VALUE=URI;X-ADDRESS=Grateful Brew 501 S Pleasantburg Dr Greenville SC 29607 United States;X-APPLE-RADIUS=500;X-TITLE=501 S Pleasantburg Dr:geo:-82.36962,34.8292844
END:VEVENT
BEGIN:VEVENT
DTSTART;TZID=America/New_York:20251023T173000
DTEND;TZID=America/New_York:20251023T200000
DTSTAMP:20260423T224222
CREATED:20251020T192642Z
LAST-MODIFIED:20251020T192642Z
UID:55331-1761240600-1761249600@864foodtrucks.com
SUMMARY:We Got the Beets @ Traveler's Rest Farmer's Market
DESCRIPTION:FOOD FOR ALL!\nPowered by love…and plants 🌱🌈\n📍 Greenville\, SC
URL:https://864foodtrucks.com/event/we-got-the-beets-travelers-rest-farmers-market/
LOCATION:Trailblazer Park\, 235 Trailblazer Dr\, Travelers Rest\, SC\, 29690\, United States
CATEGORIES:Food Truck Schedules,Travelers Rest
ATTACH;FMTTYPE=image/jpeg:https://864foodtrucks.com/wp-content/uploads/2023/10/We-Got-the-Beets.jpg
GEO:34.95593;-82.4419747
X-APPLE-STRUCTURED-LOCATION;VALUE=URI;X-ADDRESS=Trailblazer Park 235 Trailblazer Dr Travelers Rest SC 29690 United States;X-APPLE-RADIUS=500;X-TITLE=235 Trailblazer Dr:geo:-82.4419747,34.95593
END:VEVENT
BEGIN:VEVENT
DTSTART;TZID=America/New_York:20251022T173000
DTEND;TZID=America/New_York:20251022T200000
DTSTAMP:20260423T224222
CREATED:20250922T174243Z
LAST-MODIFIED:20260420T150936Z
UID:55325-1761154200-1761163200@864foodtrucks.com
SUMMARY:We Got the Beets @ Grateful Brew
DESCRIPTION:FOOD FOR ALL!\nPowered by love…and plants 🌱🌈\n📍 Greenville\, SC
URL:https://864foodtrucks.com/event/we-got-the-beets-grateful-brew-2/2025-10-22/
LOCATION:Grateful Brew\, 501 S Pleasantburg Dr\, Greenville\, SC\, 29607\, United States
CATEGORIES:Food Truck Schedules,Greenville
ATTACH;FMTTYPE=image/jpeg:https://864foodtrucks.com/wp-content/uploads/2023/10/We-Got-the-Beets.jpg
GEO:34.8292844;-82.36962
X-APPLE-STRUCTURED-LOCATION;VALUE=URI;X-ADDRESS=Grateful Brew 501 S Pleasantburg Dr Greenville SC 29607 United States;X-APPLE-RADIUS=500;X-TITLE=501 S Pleasantburg Dr:geo:-82.36962,34.8292844
END:VEVENT
BEGIN:VEVENT
DTSTART;TZID=America/New_York:20251019T130000
DTEND;TZID=America/New_York:20251019T180000
DTSTAMP:20260423T224222
CREATED:20231016T170328Z
LAST-MODIFIED:20231016T170328Z
UID:55051-1760878800-1760896800@864foodtrucks.com
SUMMARY:We Got the Beets @ Hampton Pinckney Porchfest
DESCRIPTION:
URL:https://864foodtrucks.com/event/we-got-the-beets-hampton-pinckney-porchfest/2025-10-19/
LOCATION:Downtown Greenville\, Greenville\, South Carolina
CATEGORIES:Food Truck Schedules,Greenville
ATTACH;FMTTYPE=image/jpeg:https://864foodtrucks.com/wp-content/uploads/2023/10/We-Got-the-Beets.jpg
GEO:34.8526176;-82.3940104
END:VEVENT
BEGIN:VEVENT
DTSTART;TZID=America/New_York:20251001T173000
DTEND;TZID=America/New_York:20251001T200000
DTSTAMP:20260423T224222
CREATED:20250922T174243Z
LAST-MODIFIED:20260420T150935Z
UID:54655-1759339800-1759348800@864foodtrucks.com
SUMMARY:We Got the Beets @ Grateful Brew
DESCRIPTION:FOOD FOR ALL!\nPowered by love…and plants 🌱🌈\n📍 Greenville\, SC
URL:https://864foodtrucks.com/event/we-got-the-beets-grateful-brew-2/2025-10-01/
LOCATION:Grateful Brew\, 501 S Pleasantburg Dr\, Greenville\, SC\, 29607\, United States
CATEGORIES:Food Truck Schedules,Greenville
ATTACH;FMTTYPE=image/jpeg:https://864foodtrucks.com/wp-content/uploads/2023/10/We-Got-the-Beets.jpg
GEO:34.8292844;-82.36962
X-APPLE-STRUCTURED-LOCATION;VALUE=URI;X-ADDRESS=Grateful Brew 501 S Pleasantburg Dr Greenville SC 29607 United States;X-APPLE-RADIUS=500;X-TITLE=501 S Pleasantburg Dr:geo:-82.36962,34.8292844
END:VEVENT
BEGIN:VEVENT
DTSTART;TZID=America/New_York:20250924T173000
DTEND;TZID=America/New_York:20250924T200000
DTSTAMP:20260423T224222
CREATED:20250922T174243Z
LAST-MODIFIED:20260420T150935Z
UID:54423-1758735000-1758744000@864foodtrucks.com
SUMMARY:We Got the Beets @ Grateful Brew
DESCRIPTION:FOOD FOR ALL!\nPowered by love…and plants 🌱🌈\n📍 Greenville\, SC
URL:https://864foodtrucks.com/event/we-got-the-beets-grateful-brew-2/2025-09-24/
LOCATION:Grateful Brew\, 501 S Pleasantburg Dr\, Greenville\, SC\, 29607\, United States
CATEGORIES:Food Truck Schedules,Greenville
ATTACH;FMTTYPE=image/jpeg:https://864foodtrucks.com/wp-content/uploads/2023/10/We-Got-the-Beets.jpg
GEO:34.8292844;-82.36962
X-APPLE-STRUCTURED-LOCATION;VALUE=URI;X-ADDRESS=Grateful Brew 501 S Pleasantburg Dr Greenville SC 29607 United States;X-APPLE-RADIUS=500;X-TITLE=501 S Pleasantburg Dr:geo:-82.36962,34.8292844
END:VEVENT
BEGIN:VEVENT
DTSTART;TZID=America/New_York:20250827T173000
DTEND;TZID=America/New_York:20250827T200000
DTSTAMP:20260423T224222
CREATED:20240521T213115Z
LAST-MODIFIED:20240521T213115Z
UID:52793-1756315800-1756324800@864foodtrucks.com
SUMMARY:We Got the Beets @ Grateful Brew
DESCRIPTION:YUMMY EATS WITHOUT THE MEATS!\nPowered by love…and plants 🌱🌈\n📍 Greenville\, SC
URL:https://864foodtrucks.com/event/we-got-the-beets-grateful-brew-5/2025-08-27/
LOCATION:Grateful Brew\, 501 S Pleasantburg Dr\, Greenville\, SC\, 29607\, United States
CATEGORIES:Food Truck Schedules,Greenville
ATTACH;FMTTYPE=image/jpeg:https://864foodtrucks.com/wp-content/uploads/2023/10/We-Got-the-Beets.jpg
GEO:34.8292844;-82.36962
X-APPLE-STRUCTURED-LOCATION;VALUE=URI;X-ADDRESS=Grateful Brew 501 S Pleasantburg Dr Greenville SC 29607 United States;X-APPLE-RADIUS=500;X-TITLE=501 S Pleasantburg Dr:geo:-82.36962,34.8292844
END:VEVENT
BEGIN:VEVENT
DTSTART;TZID=America/New_York:20250824T110000
DTEND;TZID=America/New_York:20250824T140000
DTSTAMP:20260423T224222
CREATED:20240423T145501Z
LAST-MODIFIED:20260202T230713Z
UID:52231-1756033200-1756044000@864foodtrucks.com
SUMMARY:We Got the Beets @ Swamp Rabbit Cafe
DESCRIPTION:YUMMY EATS WITHOUT THE MEATS!\nPowered by love…and plants 🌱🌈\n📍 Greenville\, SC
URL:https://864foodtrucks.com/event/we-got-the-beets-swamp-rabbit-cafe-4/2025-08-24/
LOCATION:Swamp Rabbit Cafe\, 205 Cedar Lane Road\, Greenville\, South Carolina
CATEGORIES:Food Truck Schedules,Greenville
ATTACH;FMTTYPE=image/jpeg:https://864foodtrucks.com/wp-content/uploads/2023/10/We-Got-the-Beets.jpg
GEO:34.8694785;-82.4214201
X-APPLE-STRUCTURED-LOCATION;VALUE=URI;X-ADDRESS=Swamp Rabbit Cafe 205 Cedar Lane Road Greenville South Carolina;X-APPLE-RADIUS=500;X-TITLE=205 Cedar Lane Road:geo:-82.4214201,34.8694785
END:VEVENT
BEGIN:VEVENT
DTSTART;TZID=America/New_York:20250802T120000
DTEND;TZID=America/New_York:20250802T150000
DTSTAMP:20260423T224222
CREATED:20250730T210950Z
LAST-MODIFIED:20250730T210950Z
UID:51457-1754136000-1754146800@864foodtrucks.com
SUMMARY:We Got the Beets @ Art Bash
DESCRIPTION:FOOD FOR ALL!\nPowered by love…and plants 🌱🌈\n📍 Greenville\, SC
URL:https://864foodtrucks.com/event/we-got-the-beets-art-bash/
LOCATION:Art Center Greenville\, 101 Abney St\, Greenville\, South Carolina
CATEGORIES:Food Truck Schedules,Greenville
ATTACH;FMTTYPE=image/jpeg:https://864foodtrucks.com/wp-content/uploads/2023/10/We-Got-the-Beets.jpg
GEO:34.8454439;-82.4331473
X-APPLE-STRUCTURED-LOCATION;VALUE=URI;X-ADDRESS=Art Center Greenville 101 Abney St Greenville South Carolina;X-APPLE-RADIUS=500;X-TITLE=101 Abney St:geo:-82.4331473,34.8454439
END:VEVENT
BEGIN:VEVENT
DTSTART;TZID=America/New_York:20250531T170000
DTEND;TZID=America/New_York:20250531T210000
DTSTAMP:20260423T224222
CREATED:20250527T133144Z
LAST-MODIFIED:20250528T152503Z
UID:46671-1748710800-1748725200@864foodtrucks.com
SUMMARY:We Got the Beets @ Historic Hampton House
DESCRIPTION:FOOD FOR ALL!\nPowered by love…and plants 🌱🌈\n📍 Greenville\, SC
URL:https://864foodtrucks.com/event/we-got-the-beets-historic-hampton-house/
LOCATION:Hampton House\, 307 Hampton Ave\, Pickens\, South Carolina
CATEGORIES:Food Truck Schedules,Pickens
ATTACH;FMTTYPE=image/jpeg:https://864foodtrucks.com/wp-content/uploads/2023/10/We-Got-the-Beets.jpg
GEO:34.8817965;-82.7022469
X-APPLE-STRUCTURED-LOCATION;VALUE=URI;X-ADDRESS=Hampton House 307 Hampton Ave Pickens South Carolina;X-APPLE-RADIUS=500;X-TITLE=307 Hampton Ave:geo:-82.7022469,34.8817965
END:VEVENT
BEGIN:VEVENT
DTSTART;TZID=America/New_York:20250524T120000
DTEND;TZID=America/New_York:20250524T160000
DTSTAMP:20260423T224222
CREATED:20250521T190503Z
LAST-MODIFIED:20250521T190503Z
UID:46050-1748088000-1748102400@864foodtrucks.com
SUMMARY:We Got the Beets @ Carolina Bauernhaus
DESCRIPTION:YUMMY EATS WITHOUT THE MEATS!\nPowered by love…and plants 🌱🌈\n📍 Greenville\, SC
URL:https://864foodtrucks.com/event/we-got-the-beets-carolina-bauernhaus/
LOCATION:Carolina Bauernhaus\, 115 Federal Street\, Anderson\, South Carolina
CATEGORIES:Anderson,Food Truck Schedules
ATTACH;FMTTYPE=image/jpeg:https://864foodtrucks.com/wp-content/uploads/2023/10/We-Got-the-Beets.jpg
GEO:34.505618;-82.651961
X-APPLE-STRUCTURED-LOCATION;VALUE=URI;X-ADDRESS=Carolina Bauernhaus 115 Federal Street Anderson South Carolina;X-APPLE-RADIUS=500;X-TITLE=115 Federal Street:geo:-82.651961,34.505618
END:VEVENT
BEGIN:VEVENT
DTSTART;TZID=America/New_York:20250412T143000
DTEND;TZID=America/New_York:20250412T203000
DTSTAMP:20260423T224222
CREATED:20250408T203009Z
LAST-MODIFIED:20250408T203009Z
UID:43643-1744468200-1744489800@864foodtrucks.com
SUMMARY:We Got the Beets @ Ville To Ville
DESCRIPTION:Fuel Foods – Food Truck & Catering\nClean\, Unique & Delicious!\nLocated in Clemson & Upstate\, SC 📍\nBook Us for Events! Contact for More Info!
URL:https://864foodtrucks.com/event/we-got-the-beets-ville-to-ville/
LOCATION:Hampton Station\, 1320 Hampton Ave\, Greenville\, South Carolina
CATEGORIES:Food Truck Schedules,Greenville
ATTACH;FMTTYPE=image/jpeg:https://864foodtrucks.com/wp-content/uploads/2023/10/We-Got-the-Beets.jpg
GEO:34.8657932;-82.4159572
X-APPLE-STRUCTURED-LOCATION;VALUE=URI;X-ADDRESS=Hampton Station 1320 Hampton Ave Greenville South Carolina;X-APPLE-RADIUS=500;X-TITLE=1320 Hampton Ave:geo:-82.4159572,34.8657932
END:VEVENT
BEGIN:VEVENT
DTSTART;TZID=America/New_York:20250214T173000
DTEND;TZID=America/New_York:20250214T200000
DTSTAMP:20260423T224222
CREATED:20250211T173216Z
LAST-MODIFIED:20250728T225352Z
UID:42332-1739554200-1739563200@864foodtrucks.com
SUMMARY:We Got the Beets @ The Community Tap
DESCRIPTION:YUMMY EATS WITHOUT THE MEATS!\nPowered by love…and plants 🌱🌈\n📍 Greenville\, SC
URL:https://864foodtrucks.com/event/we-got-the-beets-the-community-tap-4/2025-02-14/
LOCATION:The Community Tap\, 217 Wade Hampton Blvd\, Greenville\, South Carolina
CATEGORIES:Food Truck Schedules,Greenville
ATTACH;FMTTYPE=image/jpeg:https://864foodtrucks.com/wp-content/uploads/2023/10/We-Got-the-Beets.jpg
GEO:34.8625763;-82.3857613
X-APPLE-STRUCTURED-LOCATION;VALUE=URI;X-ADDRESS=The Community Tap 217 Wade Hampton Blvd Greenville South Carolina;X-APPLE-RADIUS=500;X-TITLE=217 Wade Hampton Blvd:geo:-82.3857613,34.8625763
END:VEVENT
BEGIN:VEVENT
DTSTART;TZID=America/New_York:20250201T090000
DTEND;TZID=America/New_York:20250201T130000
DTSTAMP:20260423T224222
CREATED:20250127T195948Z
LAST-MODIFIED:20250127T195948Z
UID:42017-1738400400-1738414800@864foodtrucks.com
SUMMARY:We Got the Beets @ Frosty Farmer
DESCRIPTION:YUMMY EATS WITHOUT THE MEATS!\nPowered by love…and plants 🌱🌈\n📍 Greenville\, SC
URL:https://864foodtrucks.com/event/we-got-the-beets-frosty-farmer/
LOCATION:McAlister Square\, South Pleasantburg Drive\, Greenville\, South Carolina\, 29607\, United States
CATEGORIES:Food Truck Schedules,Greenville
ATTACH;FMTTYPE=image/jpeg:https://864foodtrucks.com/wp-content/uploads/2023/10/We-Got-the-Beets.jpg
GEO:34.8382595;-82.3632184
X-APPLE-STRUCTURED-LOCATION;VALUE=URI;X-ADDRESS=McAlister Square South Pleasantburg Drive Greenville South Carolina 29607 United States;X-APPLE-RADIUS=500;X-TITLE=South Pleasantburg Drive:geo:-82.3632184,34.8382595
END:VEVENT
BEGIN:VEVENT
DTSTART;TZID=America/New_York:20250111T090000
DTEND;TZID=America/New_York:20250111T130000
DTSTAMP:20260423T224222
CREATED:20250106T213151Z
LAST-MODIFIED:20250106T213151Z
UID:41630-1736586000-1736600400@864foodtrucks.com
SUMMARY:We Got the Beets @ McAlister Square
DESCRIPTION:YUMMY EATS WITHOUT THE MEATS!\nPowered by love…and plants 🌱🌈\n📍 Greenville\, SC
URL:https://864foodtrucks.com/event/we-got-the-beets-mcalister-square/
LOCATION:McAlister Square\, South Pleasantburg Drive\, Greenville\, South Carolina\, 29607\, United States
CATEGORIES:Food Truck Schedules,Greenville
ATTACH;FMTTYPE=image/jpeg:https://864foodtrucks.com/wp-content/uploads/2023/10/We-Got-the-Beets.jpg
GEO:34.8382595;-82.3632184
X-APPLE-STRUCTURED-LOCATION;VALUE=URI;X-ADDRESS=McAlister Square South Pleasantburg Drive Greenville South Carolina 29607 United States;X-APPLE-RADIUS=500;X-TITLE=South Pleasantburg Drive:geo:-82.3632184,34.8382595
END:VEVENT
BEGIN:VEVENT
DTSTART;TZID=America/New_York:20241215T120000
DTEND;TZID=America/New_York:20241215T150000
DTSTAMP:20260423T224222
CREATED:20241209T211449Z
LAST-MODIFIED:20241209T211449Z
UID:41079-1734264000-1734274800@864foodtrucks.com
SUMMARY:We Got the Beets @ The Village Christmas Market
DESCRIPTION:YUMMY EATS WITHOUT THE MEATS!\nPowered by love…and plants 🌱🌈\n📍 Greenville\, SC
URL:https://864foodtrucks.com/event/we-got-the-beets-the-village-christmas-market/
LOCATION:3 Smith St\, Smith Street 3\, Greenville\, South Carolina\, 29611\, United States
CATEGORIES:Food Truck Schedules,Greenville
ATTACH;FMTTYPE=image/jpeg:https://864foodtrucks.com/wp-content/uploads/2023/10/We-Got-the-Beets.jpg
GEO:34.846996;-82.4299209
X-APPLE-STRUCTURED-LOCATION;VALUE=URI;X-ADDRESS=3 Smith St Smith Street 3 Greenville South Carolina 29611 United States;X-APPLE-RADIUS=500;X-TITLE=Smith Street 3:geo:-82.4299209,34.846996
END:VEVENT
BEGIN:VEVENT
DTSTART;TZID=America/New_York:20241102T100000
DTEND;TZID=America/New_York:20241102T180000
DTSTAMP:20260423T224222
CREATED:20241029T125242Z
LAST-MODIFIED:20241029T125242Z
UID:39464-1730541600-1730570400@864foodtrucks.com
SUMMARY:We Got the Beets @ Everything Outdoor Fest
DESCRIPTION:YUMMY EATS WITHOUT THE MEATS!\nPowered by love…and plants 🌱🌈\n📍 Greenville\, SC
URL:https://864foodtrucks.com/event/we-got-the-beets-everything-outdoor-fest/2024-11-02/
LOCATION:Historic Hopkins Farms\, 3717 Fork Shoals Rd\, Simpsonville\, South Carolina
CATEGORIES:Food Truck Schedules,Greenville
ATTACH;FMTTYPE=image/jpeg:https://864foodtrucks.com/wp-content/uploads/2023/10/We-Got-the-Beets.jpg
END:VEVENT
BEGIN:VEVENT
DTSTART;TZID=America/New_York:20241018T160000
DTEND;TZID=America/New_York:20241018T183000
DTSTAMP:20260423T224222
CREATED:20241015T125004Z
LAST-MODIFIED:20241015T125004Z
UID:39271-1729267200-1729276200@864foodtrucks.com
SUMMARY:We Got the Beets @ Hops and Herons
DESCRIPTION:YUMMY EATS WITHOUT THE MEATS!\nPowered by love…and plants 🌱🌈\n📍 Greenville\, SC
URL:https://864foodtrucks.com/event/we-got-the-beets-hops-and-herons/
LOCATION:Conestee Preserve\, Mauldin Road\, Greenville\, South Carolina\, 29607\, United States
CATEGORIES:Food Truck Schedules,Greenville
GEO:34.7782414;-82.3496333
X-APPLE-STRUCTURED-LOCATION;VALUE=URI;X-ADDRESS=Conestee Preserve Mauldin Road Greenville South Carolina 29607 United States;X-APPLE-RADIUS=500;X-TITLE=Mauldin Road:geo:-82.3496333,34.7782414
END:VEVENT
END:VCALENDAR