BEGIN:VCALENDAR
VERSION:2.0
PRODID:-//864 Food Trucks - ECPv6.15.20//NONSGML v1.0//EN
CALSCALE:GREGORIAN
METHOD:PUBLISH
X-WR-CALNAME:864 Food Trucks
X-ORIGINAL-URL:https://864foodtrucks.com
X-WR-CALDESC:Events for 864 Food Trucks
REFRESH-INTERVAL;VALUE=DURATION:PT1H
X-Robots-Tag:noindex
X-PUBLISHED-TTL:PT1H
BEGIN:VTIMEZONE
TZID:America/New_York
BEGIN:DAYLIGHT
TZOFFSETFROM:-0500
TZOFFSETTO:-0400
TZNAME:EDT
DTSTART:20220313T070000
END:DAYLIGHT
BEGIN:STANDARD
TZOFFSETFROM:-0400
TZOFFSETTO:-0500
TZNAME:EST
DTSTART:20221106T060000
END:STANDARD
BEGIN:DAYLIGHT
TZOFFSETFROM:-0500
TZOFFSETTO:-0400
TZNAME:EDT
DTSTART:20230312T070000
END:DAYLIGHT
BEGIN:STANDARD
TZOFFSETFROM:-0400
TZOFFSETTO:-0500
TZNAME:EST
DTSTART:20231105T060000
END:STANDARD
BEGIN:DAYLIGHT
TZOFFSETFROM:-0500
TZOFFSETTO:-0400
TZNAME:EDT
DTSTART:20240310T070000
END:DAYLIGHT
BEGIN:STANDARD
TZOFFSETFROM:-0400
TZOFFSETTO:-0500
TZNAME:EST
DTSTART:20241103T060000
END:STANDARD
BEGIN:DAYLIGHT
TZOFFSETFROM:-0500
TZOFFSETTO:-0400
TZNAME:EDT
DTSTART:20250309T070000
END:DAYLIGHT
BEGIN:STANDARD
TZOFFSETFROM:-0400
TZOFFSETTO:-0500
TZNAME:EST
DTSTART:20251102T060000
END:STANDARD
END:VTIMEZONE
BEGIN:VEVENT
DTSTART;TZID=America/New_York:20240522T173000
DTEND;TZID=America/New_York:20240522T200000
DTSTAMP:20260424T122857
CREATED:20240521T213115Z
LAST-MODIFIED:20250825T172655Z
UID:28433-1716399000-1716408000@864foodtrucks.com
SUMMARY:We Got the Beets @ Grateful Brew
DESCRIPTION:YUMMY EATS WITHOUT THE MEATS!\nPowered by love…and plants 🌱🌈\n📍 Greenville\, SC
URL:https://864foodtrucks.com/event/we-got-the-beets-grateful-brew-5/2024-05-22/
LOCATION:Grateful Brew\, 501 S Pleasantburg Dr\, Greenville\, SC\, 29607\, United States
CATEGORIES:Food Truck Schedules,Greenville
ATTACH;FMTTYPE=image/jpeg:https://864foodtrucks.com/wp-content/uploads/2023/10/We-Got-the-Beets.jpg
GEO:34.8292844;-82.36962
X-APPLE-STRUCTURED-LOCATION;VALUE=URI;X-ADDRESS=Grateful Brew 501 S Pleasantburg Dr Greenville SC 29607 United States;X-APPLE-RADIUS=500;X-TITLE=501 S Pleasantburg Dr:geo:-82.36962,34.8292844
END:VEVENT
BEGIN:VEVENT
DTSTART;TZID=America/New_York:20240519T160000
DTEND;TZID=America/New_York:20240519T190000
DTSTAMP:20260424T122857
CREATED:20240513T220358Z
LAST-MODIFIED:20240513T220425Z
UID:28254-1716134400-1716145200@864foodtrucks.com
SUMMARY:We Got the Beets @ Think Tank Brew Lab
DESCRIPTION:YUMMY EATS WITHOUT THE MEATS!\nPowered by love…and plants 🌱🌈\n📍 Greenville\, SC
URL:https://864foodtrucks.com/event/we-got-the-beets-think-tank-brew-lab-2/
LOCATION:Think Tank Brew Lab\, 101 Airport Rd\, Greenville\, South Carolina
CATEGORIES:Food Truck Schedules,Greenville
ATTACH;FMTTYPE=image/jpeg:https://864foodtrucks.com/wp-content/uploads/2023/10/We-Got-the-Beets.jpg
GEO:34.8437462;-82.3586879
X-APPLE-STRUCTURED-LOCATION;VALUE=URI;X-ADDRESS=Think Tank Brew Lab 101 Airport Rd Greenville South Carolina;X-APPLE-RADIUS=500;X-TITLE=101 Airport Rd:geo:-82.3586879,34.8437462
END:VEVENT
BEGIN:VEVENT
DTSTART;TZID=America/New_York:20240516T173000
DTEND;TZID=America/New_York:20240516T203000
DTSTAMP:20260424T122857
CREATED:20240513T215537Z
LAST-MODIFIED:20250818T183652Z
UID:28251-1715880600-1715891400@864foodtrucks.com
SUMMARY:We Got the Beets @ Downtown Alive
DESCRIPTION:YUMMY EATS WITHOUT THE MEATS!\nPowered by love…and plants 🌱🌈\n📍 Greenville\, SC
URL:https://864foodtrucks.com/event/we-got-the-beets-downtown-alive-2/2024-05-16/
LOCATION:NOMA Square\, 220 N Main St\, Greenville\, South Carolina
CATEGORIES:Food Truck Schedules,Greenville
ATTACH;FMTTYPE=image/jpeg:https://864foodtrucks.com/wp-content/uploads/2023/10/We-Got-the-Beets.jpg
GEO:34.8529645;-82.3968802
X-APPLE-STRUCTURED-LOCATION;VALUE=URI;X-ADDRESS=NOMA Square 220 N Main St Greenville South Carolina;X-APPLE-RADIUS=500;X-TITLE=220 N Main St:geo:-82.3968802,34.8529645
END:VEVENT
BEGIN:VEVENT
DTSTART;TZID=America/New_York:20240428T100000
DTEND;TZID=America/New_York:20240428T140000
DTSTAMP:20260424T122857
CREATED:20240423T145501Z
LAST-MODIFIED:20260202T230712Z
UID:27485-1714298400-1714312800@864foodtrucks.com
SUMMARY:We Got the Beets @ Swamp Rabbit Cafe
DESCRIPTION:YUMMY EATS WITHOUT THE MEATS!\nPowered by love…and plants 🌱🌈\n📍 Greenville\, SC
URL:https://864foodtrucks.com/event/we-got-the-beets-swamp-rabbit-cafe-4/2024-04-28/
LOCATION:Swamp Rabbit Cafe\, 205 Cedar Lane Road\, Greenville\, South Carolina
CATEGORIES:Food Truck Schedules,Greenville
ATTACH;FMTTYPE=image/jpeg:https://864foodtrucks.com/wp-content/uploads/2023/10/We-Got-the-Beets.jpg
GEO:34.8694785;-82.4214201
X-APPLE-STRUCTURED-LOCATION;VALUE=URI;X-ADDRESS=Swamp Rabbit Cafe 205 Cedar Lane Road Greenville South Carolina;X-APPLE-RADIUS=500;X-TITLE=205 Cedar Lane Road:geo:-82.4214201,34.8694785
END:VEVENT
BEGIN:VEVENT
DTSTART;TZID=America/New_York:20240427T120000
DTEND;TZID=America/New_York:20240427T180000
DTSTAMP:20260424T122857
CREATED:20240423T145151Z
LAST-MODIFIED:20240423T145151Z
UID:27483-1714219200-1714240800@864foodtrucks.com
SUMMARY:We Got the Beets @ Italian American Heritage Festival
DESCRIPTION:YUMMY EATS WITHOUT THE MEATS!\nPowered by love…and plants 🌱🌈\n📍 Greenville\, SC
URL:https://864foodtrucks.com/event/we-got-the-beets-italian-american-heritage-festival/
LOCATION:Downtown Fountain Inn\, Fountain Inn\, SC\, United States
CATEGORIES:Food Truck Schedules,Fountain Inn
ATTACH;FMTTYPE=image/jpeg:https://864foodtrucks.com/wp-content/uploads/2023/10/We-Got-the-Beets.jpg
END:VEVENT
BEGIN:VEVENT
DTSTART;TZID=America/New_York:20240317T100000
DTEND;TZID=America/New_York:20240317T140000
DTSTAMP:20260424T122857
CREATED:20240310T232837Z
LAST-MODIFIED:20240310T232837Z
UID:26568-1710669600-1710684000@864foodtrucks.com
SUMMARY:We Got the Beets @ Other Lands
DESCRIPTION:YUMMY EATS WITHOUT THE MEATS!\nPowered by love…and plants 🌱🌈\n📍 Greenville\, SC
URL:https://864foodtrucks.com/event/we-got-the-beets-other-lands/
LOCATION:Other Lands\, Rutherford Road 731\, Greenville\, South Carolina\, 29609\, United States
CATEGORIES:Food Truck Schedules,Greenville
ATTACH;FMTTYPE=image/jpeg:https://864foodtrucks.com/wp-content/uploads/2023/10/We-Got-the-Beets.jpg
GEO:34.8802311;-82.3891408
X-APPLE-STRUCTURED-LOCATION;VALUE=URI;X-ADDRESS=Other Lands Rutherford Road 731 Greenville South Carolina 29609 United States;X-APPLE-RADIUS=500;X-TITLE=Rutherford Road 731:geo:-82.3891408,34.8802311
END:VEVENT
BEGIN:VEVENT
DTSTART;TZID=America/New_York:20240225T100000
DTEND;TZID=America/New_York:20240225T140000
DTSTAMP:20260424T122857
CREATED:20240219T191425Z
LAST-MODIFIED:20241217T011130Z
UID:26040-1708855200-1708869600@864foodtrucks.com
SUMMARY:We Got the Beets @ Swamp Rabbit Cafe
DESCRIPTION:YUMMY EATS WITHOUT THE MEATS!\nPowered by love…and plants 🌱🌈\n📍 Greenville\, SC
URL:https://864foodtrucks.com/event/we-got-the-beets-swamp-rabbit-cafe-3/2024-02-25/
LOCATION:Swamp Rabbit Brewery\, 26 S Main St\, Travelers Rest\, South Carolina
CATEGORIES:Food Truck Schedules,Travelers Rest
ATTACH;FMTTYPE=image/jpeg:https://864foodtrucks.com/wp-content/uploads/2023/10/We-Got-the-Beets.jpg
GEO:34.9670847;-82.4425017
X-APPLE-STRUCTURED-LOCATION;VALUE=URI;X-ADDRESS=Swamp Rabbit Brewery 26 S Main St Travelers Rest South Carolina;X-APPLE-RADIUS=500;X-TITLE=26 S Main St:geo:-82.4425017,34.9670847
END:VEVENT
BEGIN:VEVENT
DTSTART;TZID=America/New_York:20240217T180000
DTEND;TZID=America/New_York:20240217T220000
DTSTAMP:20260424T122857
CREATED:20240212T202740Z
LAST-MODIFIED:20240212T202740Z
UID:25914-1708192800-1708207200@864foodtrucks.com
SUMMARY:We Got the Beets @ Sum Bar
DESCRIPTION:YUMMY EATS WITHOUT THE MEATS!\nPowered by love…and plants 🌱🌈\n📍 Greenville\, SC
URL:https://864foodtrucks.com/event/we-got-the-beets-sum-bar/
LOCATION:Sum Bar\, 307 E Washington St\, Greenville\, SC\, United States
CATEGORIES:Food Truck Schedules,Greenville
ATTACH;FMTTYPE=image/jpeg:https://864foodtrucks.com/wp-content/uploads/2023/10/We-Got-the-Beets.jpg
END:VEVENT
BEGIN:VEVENT
DTSTART;TZID=America/New_York:20240210T173000
DTEND;TZID=America/New_York:20240210T200000
DTSTAMP:20260424T122857
CREATED:20240205T001027Z
LAST-MODIFIED:20250120T004624Z
UID:25658-1707586200-1707595200@864foodtrucks.com
SUMMARY:We Got the Beets @ The Community Tap
DESCRIPTION:YUMMY EATS WITHOUT THE MEATS!\nPowered by love…and plants 🌱🌈\n📍 Greenville\, SC
URL:https://864foodtrucks.com/event/we-got-the-beets-the-community-tap-3/2024-02-10/
LOCATION:The Community Tap\, 217 Wade Hampton Blvd\, Greenville\, South Carolina
CATEGORIES:Food Truck Schedules,Greenwood
ATTACH;FMTTYPE=image/jpeg:https://864foodtrucks.com/wp-content/uploads/2023/10/We-Got-the-Beets.jpg
GEO:34.8625763;-82.3857613
X-APPLE-STRUCTURED-LOCATION;VALUE=URI;X-ADDRESS=The Community Tap 217 Wade Hampton Blvd Greenville South Carolina;X-APPLE-RADIUS=500;X-TITLE=217 Wade Hampton Blvd:geo:-82.3857613,34.8625763
END:VEVENT
BEGIN:VEVENT
DTSTART;TZID=America/New_York:20240206T180000
DTEND;TZID=America/New_York:20240206T200000
DTSTAMP:20260424T122857
CREATED:20240205T000924Z
LAST-MODIFIED:20240219T191125Z
UID:25656-1707242400-1707249600@864foodtrucks.com
SUMMARY:We Got The Beets @ Double Stamp Brewery
DESCRIPTION:YUMMY EATS WITHOUT THE MEATS!\nPowered by love…and plants 🌱🌈\n📍 Greenville\, SC
URL:https://864foodtrucks.com/event/we-got-the-beets-double-stamp-brewery/2024-02-06/
LOCATION:Double Stamp Brewery\, 819 Laurens Rd\, Greenville\, SC\, United States
CATEGORIES:Food Truck Schedules,Greenville
ATTACH;FMTTYPE=image/jpeg:https://864foodtrucks.com/wp-content/uploads/2023/10/We-Got-the-Beets.jpg
END:VEVENT
BEGIN:VEVENT
DTSTART;TZID=America/New_York:20231202T110000
DTEND;TZID=America/New_York:20231202T140000
DTSTAMP:20260424T122857
CREATED:20231128T141815Z
LAST-MODIFIED:20231128T141815Z
UID:24380-1701514800-1701525600@864foodtrucks.com
SUMMARY:We Got the Beets @ Toasty Farmer
DESCRIPTION:Upstate South Carolina’s first exclusively plant-based food truck! Our passion is food and our mission is simple – we want everyone to know how delicious plant-based foods can be! Serving classic street fare since 2017.
URL:https://864foodtrucks.com/event/we-got-the-beets-toasty-farmer/
LOCATION:Brewery 85\, 6 Whitlee Ct\, Greenville\, South Carolina
CATEGORIES:Food Truck Schedules,Greenville
ATTACH;FMTTYPE=image/jpeg:https://864foodtrucks.com/wp-content/uploads/2021/05/We-Got-The-Beets-Food-Truck.jpg
GEO:34.8028464;-82.3491308
X-APPLE-STRUCTURED-LOCATION;VALUE=URI;X-ADDRESS=Brewery 85 6 Whitlee Ct Greenville South Carolina;X-APPLE-RADIUS=500;X-TITLE=6 Whitlee Ct:geo:-82.3491308,34.8028464
END:VEVENT
BEGIN:VEVENT
DTSTART;TZID=America/New_York:20231115T113000
DTEND;TZID=America/New_York:20231115T133000
DTSTAMP:20260424T122857
CREATED:20231115T140244Z
LAST-MODIFIED:20231115T140244Z
UID:24165-1700047800-1700055000@864foodtrucks.com
SUMMARY:We Got the Beets @ Cuicar
DESCRIPTION:Upstate South Carolina’s first exclusively plant-based food truck! Our passion is food and our mission is simple – we want everyone to know how delicious plant-based foods can be! Serving classic street fare since 2017.
URL:https://864foodtrucks.com/event/we-got-the-beets-cuicar-2/
LOCATION:Cuicar\, 5 Research Drive\, Greenville\, South Carolina
CATEGORIES:Food Truck Schedules,Greenville
ATTACH;FMTTYPE=image/jpeg:https://864foodtrucks.com/wp-content/uploads/2021/05/We-Got-The-Beets-Food-Truck.jpg
GEO:34.8143671;-82.3271305
X-APPLE-STRUCTURED-LOCATION;VALUE=URI;X-ADDRESS=Cuicar 5 Research Drive Greenville South Carolina;X-APPLE-RADIUS=500;X-TITLE=5 Research Drive:geo:-82.3271305,34.8143671
END:VEVENT
BEGIN:VEVENT
DTSTART;TZID=America/New_York:20231109T173000
DTEND;TZID=America/New_York:20231109T193000
DTSTAMP:20260424T122857
CREATED:20231106T201636Z
LAST-MODIFIED:20231106T201636Z
UID:23957-1699551000-1699558200@864foodtrucks.com
SUMMARY:We Got The Beets @ Trailside Reedy Point
DESCRIPTION:Upstate South Carolina’s first exclusively plant-based food truck! Our passion is food and our mission is simple – we want everyone to know how delicious plant-based foods can be! Serving classic street fare since 2017.
URL:https://864foodtrucks.com/event/we-got-the-beets-trailside-reedy-point/
LOCATION:Trailside at Reedy Point\, 200 South Academy St\, Greenville\, SC\, 29601\, United States
CATEGORIES:Food Truck Schedules,Greenville
ATTACH;FMTTYPE=image/jpeg:https://864foodtrucks.com/wp-content/uploads/2021/05/We-Got-The-Beets-Food-Truck.jpg
GEO:34.8472093;-82.4065614
X-APPLE-STRUCTURED-LOCATION;VALUE=URI;X-ADDRESS=Trailside at Reedy Point 200 South Academy St Greenville SC 29601 United States;X-APPLE-RADIUS=500;X-TITLE=200 South Academy St:geo:-82.4065614,34.8472093
END:VEVENT
BEGIN:VEVENT
DTSTART;TZID=America/New_York:20231101T180000
DTEND;TZID=America/New_York:20231101T200000
DTSTAMP:20260424T122857
CREATED:20231030T181927Z
LAST-MODIFIED:20240205T000809Z
UID:23875-1698861600-1698868800@864foodtrucks.com
SUMMARY:We Got the Beets @ Wine House GVL
DESCRIPTION:YUMMY EATS WITHOUT THE MEATS!\nPowered by love…and plants 🌱🌈\n📍 Greenville\, SC
URL:https://864foodtrucks.com/event/we-got-the-beets-wine-house-gvl/2023-11-01/
LOCATION:Wine House\, Haywood Road 475\, Greenville\, South Carolina\, 29607\, United States
CATEGORIES:Food Truck Schedules,Greenville
ATTACH;FMTTYPE=image/jpeg:https://864foodtrucks.com/wp-content/uploads/2023/10/We-Got-the-Beets.jpg
GEO:34.843057;-82.3434714
X-APPLE-STRUCTURED-LOCATION;VALUE=URI;X-ADDRESS=Wine House Haywood Road 475 Greenville South Carolina 29607 United States;X-APPLE-RADIUS=500;X-TITLE=Haywood Road 475:geo:-82.3434714,34.843057
END:VEVENT
BEGIN:VEVENT
DTSTART;TZID=America/New_York:20231022T133000
DTEND;TZID=America/New_York:20231022T180000
DTSTAMP:20260424T122857
CREATED:20231016T170328Z
LAST-MODIFIED:20251013T191459Z
UID:23558-1697981400-1697997600@864foodtrucks.com
SUMMARY:We Got the Beets @ Hampton Pinckney Porchfest
DESCRIPTION:
URL:https://864foodtrucks.com/event/we-got-the-beets-hampton-pinckney-porchfest/2023-10-22/
LOCATION:Downtown Greenville\, Greenville\, South Carolina
CATEGORIES:Food Truck Schedules,Greenville
ATTACH;FMTTYPE=image/jpeg:https://864foodtrucks.com/wp-content/uploads/2023/10/We-Got-the-Beets.jpg
GEO:34.8526176;-82.3940104
END:VEVENT
BEGIN:VEVENT
DTSTART;TZID=America/New_York:20230921T180000
DTEND;TZID=America/New_York:20230921T200000
DTSTAMP:20260424T122857
CREATED:20230918T172148Z
LAST-MODIFIED:20230918T172148Z
UID:22937-1695319200-1695326400@864foodtrucks.com
SUMMARY:We Got the Beets @ Moonlight Movies
DESCRIPTION:Upstate South Carolina’s first exclusively plant-based food truck! Our passion is food and our mission is simple – we want everyone to know how delicious plant-based foods can be! Serving classic street fare since 2017.
URL:https://864foodtrucks.com/event/we-got-the-beets-moonlight-movies/
LOCATION:Falls Park\, Main St\, Greenville\, South Carolina
CATEGORIES:Food Truck Schedules,Greenville
ATTACH;FMTTYPE=image/jpeg:https://864foodtrucks.com/wp-content/uploads/2021/05/We-Got-The-Beets-Food-Truck.jpg
GEO:34.8652907;-82.3926856
X-APPLE-STRUCTURED-LOCATION;VALUE=URI;X-ADDRESS=Falls Park Main St Greenville South Carolina;X-APPLE-RADIUS=500;X-TITLE=Main St:geo:-82.3926856,34.8652907
END:VEVENT
BEGIN:VEVENT
DTSTART;TZID=America/New_York:20230916T110000
DTEND;TZID=America/New_York:20230916T140000
DTSTAMP:20260424T122857
CREATED:20230912T122223Z
LAST-MODIFIED:20230912T122223Z
UID:22822-1694862000-1694872800@864foodtrucks.com
SUMMARY:We Got the Beets @ Indie Craft Parade
DESCRIPTION:Upstate South Carolina’s first exclusively plant-based food truck! Our passion is food and our mission is simple – we want everyone to know how delicious plant-based foods can be! Serving classic street fare since 2017.
URL:https://864foodtrucks.com/event/we-got-the-beets-indie-craft-parade/
LOCATION:Furman University\, 3300 Poinsett Hwy\, Greenville\, South Carolina
CATEGORIES:Food Truck Schedules,Greenville
ATTACH;FMTTYPE=image/jpeg:https://864foodtrucks.com/wp-content/uploads/2021/05/We-Got-The-Beets-Food-Truck-Square.jpg
GEO:34.9279032;-82.4314732
X-APPLE-STRUCTURED-LOCATION;VALUE=URI;X-ADDRESS=Furman University 3300 Poinsett Hwy Greenville South Carolina;X-APPLE-RADIUS=500;X-TITLE=3300 Poinsett Hwy:geo:-82.4314732,34.9279032
END:VEVENT
BEGIN:VEVENT
DTSTART;TZID=America/New_York:20230914T180000
DTEND;TZID=America/New_York:20230914T220000
DTSTAMP:20260424T122857
CREATED:20230912T122111Z
LAST-MODIFIED:20230912T122111Z
UID:22819-1694714400-1694728800@864foodtrucks.com
SUMMARY:We Got the Beets @ Euphoria
DESCRIPTION:Upstate South Carolina’s first exclusively plant-based food truck! Our passion is food and our mission is simple – we want everyone to know how delicious plant-based foods can be! Serving classic street fare since 2017.
URL:https://864foodtrucks.com/event/we-got-the-beets-euphoria/
LOCATION:Zen\, 924 S Main St\, Greenville\, South Carolina
CATEGORIES:Food Truck Schedules,Greenville
ATTACH;FMTTYPE=image/jpeg:https://864foodtrucks.com/wp-content/uploads/2021/05/We-Got-The-Beets-Food-Truck.jpg
GEO:34.8438574;-82.4082163
X-APPLE-STRUCTURED-LOCATION;VALUE=URI;X-ADDRESS=Zen 924 S Main St Greenville South Carolina;X-APPLE-RADIUS=500;X-TITLE=924 S Main St:geo:-82.4082163,34.8438574
END:VEVENT
BEGIN:VEVENT
DTSTART;TZID=America/New_York:20230908T180000
DTEND;TZID=America/New_York:20230908T200000
DTSTAMP:20260424T122857
CREATED:20230905T000024Z
LAST-MODIFIED:20230905T000024Z
UID:22607-1694196000-1694203200@864foodtrucks.com
SUMMARY:We Got the Beets @ Greenville Theatre
DESCRIPTION:Upstate South Carolina’s first exclusively plant-based food truck! Our passion is food and our mission is simple – we want everyone to know how delicious plant-based foods can be! Serving classic street fare since 2017.
URL:https://864foodtrucks.com/event/we-got-the-beets-greenville-theatre/
LOCATION:Greenville Theatre\, 444 College St\, Greenville\, South Carolina
CATEGORIES:Food Truck Schedules,Greenville
ATTACH;FMTTYPE=image/jpeg:https://864foodtrucks.com/wp-content/uploads/2021/05/We-Got-The-Beets-Food-Truck.jpg
GEO:34.8560851;-82.401539
X-APPLE-STRUCTURED-LOCATION;VALUE=URI;X-ADDRESS=Greenville Theatre 444 College St Greenville South Carolina;X-APPLE-RADIUS=500;X-TITLE=444 College St:geo:-82.401539,34.8560851
END:VEVENT
BEGIN:VEVENT
DTSTART;TZID=America/New_York:20230819T180000
DTEND;TZID=America/New_York:20230819T200000
DTSTAMP:20260424T122857
CREATED:20230814T203641Z
LAST-MODIFIED:20230814T203641Z
UID:22120-1692468000-1692475200@864foodtrucks.com
SUMMARY:We Got the Beets @ Paper Moon Studio
DESCRIPTION:Upstate South Carolina’s first exclusively plant-based food truck! Our passion is food and our mission is simple – we want everyone to know how delicious plant-based foods can be! Serving classic street fare since 2017.
URL:https://864foodtrucks.com/event/we-got-the-beets-paper-moon-studio/
LOCATION:Paper Moon Studio\, Old Buncombe Road 2415\, Greenville\, SC\, 29609\, United States
CATEGORIES:Food Truck Schedules,Greenville
ATTACH;FMTTYPE=image/jpeg:https://864foodtrucks.com/wp-content/uploads/2021/05/We-Got-The-Beets-Food-Truck.jpg
GEO:34.877669;-82.4153229
X-APPLE-STRUCTURED-LOCATION;VALUE=URI;X-ADDRESS=Paper Moon Studio Old Buncombe Road 2415 Greenville SC 29609 United States;X-APPLE-RADIUS=500;X-TITLE=Old Buncombe Road 2415:geo:-82.4153229,34.877669
END:VEVENT
BEGIN:VEVENT
DTSTART;TZID=America/New_York:20230721T173000
DTEND;TZID=America/New_York:20230721T200000
DTSTAMP:20260424T122857
CREATED:20230718T002549Z
LAST-MODIFIED:20231128T141628Z
UID:20919-1689960600-1689969600@864foodtrucks.com
SUMMARY:We Got The Beets @ The Community Tap
DESCRIPTION:Upstate South Carolina’s first exclusively plant-based food truck! Our passion is food and our mission is simple – we want everyone to know how delicious plant-based foods can be! Serving classic street fare since 2017.
URL:https://864foodtrucks.com/event/we-got-the-beets-the-community-tap-2/2023-07-21/
LOCATION:The Community Tap\, 217 Wade Hampton Blvd\, Greenville\, South Carolina
CATEGORIES:Food Truck Schedules,Greenville
ATTACH;FMTTYPE=image/jpeg:https://864foodtrucks.com/wp-content/uploads/2021/05/We-Got-The-Beets-Food-Truck.jpg
GEO:34.8625763;-82.3857613
X-APPLE-STRUCTURED-LOCATION;VALUE=URI;X-ADDRESS=The Community Tap 217 Wade Hampton Blvd Greenville South Carolina;X-APPLE-RADIUS=500;X-TITLE=217 Wade Hampton Blvd:geo:-82.3857613,34.8625763
END:VEVENT
BEGIN:VEVENT
DTSTART;TZID=America/New_York:20230611T103000
DTEND;TZID=America/New_York:20230611T170000
DTSTAMP:20260424T122857
CREATED:20230605T181440Z
LAST-MODIFIED:20230605T181440Z
UID:19406-1686479400-1686502800@864foodtrucks.com
SUMMARY:We Got the Beets @ Greenville Fun Fest
DESCRIPTION:Upstate South Carolina’s first exclusively plant-based food truck! Our passion is food and our mission is simple – we want everyone to know how delicious plant-based foods can be! Serving classic street fare since 2017.
URL:https://864foodtrucks.com/event/we-got-the-beets-greenville-fun-fest/
LOCATION:Holland Park\, 813 Laurens Rd\, Greenville\, SC\, United States
CATEGORIES:Food Truck Schedules,Greenville
ATTACH;FMTTYPE=image/jpeg:https://864foodtrucks.com/wp-content/uploads/2021/05/We-Got-The-Beets-Food-Truck.jpg
END:VEVENT
BEGIN:VEVENT
DTSTART;TZID=America/New_York:20230610T110000
DTEND;TZID=America/New_York:20230610T150000
DTSTAMP:20260424T122857
CREATED:20230605T175501Z
LAST-MODIFIED:20240602T234115Z
UID:19404-1686394800-1686409200@864foodtrucks.com
SUMMARY:We Got the Beets @ Pride Fest
DESCRIPTION:Upstate South Carolina’s first exclusively plant-based food truck! Our passion is food and our mission is simple – we want everyone to know how delicious plant-based foods can be! Serving classic street fare since 2017.
URL:https://864foodtrucks.com/event/we-got-the-beets-pride-fest/2023-06-10/
LOCATION:Trinity Lutheran Greenville\, North Main Street 421\, Greenville\, South Carolina\, 29601\, United States
CATEGORIES:Food Truck Schedules,Greenville
ATTACH;FMTTYPE=image/jpeg:https://864foodtrucks.com/wp-content/uploads/2023/10/We-Got-the-Beets.jpg
GEO:34.8565531;-82.397443
X-APPLE-STRUCTURED-LOCATION;VALUE=URI;X-ADDRESS=Trinity Lutheran Greenville North Main Street 421 Greenville South Carolina 29601 United States;X-APPLE-RADIUS=500;X-TITLE=North Main Street 421:geo:-82.397443,34.8565531
END:VEVENT
BEGIN:VEVENT
DTSTART;TZID=America/New_York:20230604T113000
DTEND;TZID=America/New_York:20230604T133000
DTSTAMP:20260424T122857
CREATED:20230529T234807Z
LAST-MODIFIED:20230529T234807Z
UID:19285-1685878200-1685885400@864foodtrucks.com
SUMMARY:We Got the Beets @ Cancer Survivors Park
DESCRIPTION:Upstate South Carolina’s first exclusively plant-based food truck! Our passion is food and our mission is simple – we want everyone to know how delicious plant-based foods can be! Serving classic street fare since 2017.
URL:https://864foodtrucks.com/event/we-got-the-beets-cancer-survivors-park/
LOCATION:Cancer Survivors Park\, 52 Cleveland St\, Greenville\, SC\, United States
CATEGORIES:Food Truck Schedules,Greenville
ATTACH;FMTTYPE=image/jpeg:https://864foodtrucks.com/wp-content/uploads/2021/05/We-Got-The-Beets-Food-Truck.jpg
END:VEVENT
BEGIN:VEVENT
DTSTART;TZID=America/New_York:20230521T160000
DTEND;TZID=America/New_York:20230521T190000
DTSTAMP:20260424T122857
CREATED:20230516T154553Z
LAST-MODIFIED:20230516T154553Z
UID:19040-1684684800-1684695600@864foodtrucks.com
SUMMARY:We Got the Beets @ Think Tank Brew Lab
DESCRIPTION:Upstate South Carolina’s first exclusively plant-based food truck! Our passion is food and our mission is simple – we want everyone to know how delicious plant-based foods can be! Serving classic street fare since 2017.
URL:https://864foodtrucks.com/event/we-got-the-beets-think-tank-brew-lab/
LOCATION:Think Tank Brew Lab\, 101 Airport Rd\, Greenville\, South Carolina
CATEGORIES:Food Truck Schedules,Greenville
ATTACH;FMTTYPE=image/jpeg:https://864foodtrucks.com/wp-content/uploads/2021/05/We-Got-The-Beets-Food-Truck.jpg
GEO:34.8437462;-82.3586879
X-APPLE-STRUCTURED-LOCATION;VALUE=URI;X-ADDRESS=Think Tank Brew Lab 101 Airport Rd Greenville South Carolina;X-APPLE-RADIUS=500;X-TITLE=101 Airport Rd:geo:-82.3586879,34.8437462
END:VEVENT
BEGIN:VEVENT
DTSTART;TZID=America/New_York:20230510T113000
DTEND;TZID=America/New_York:20230510T133000
DTSTAMP:20260424T122857
CREATED:20230508T180740Z
LAST-MODIFIED:20230508T180740Z
UID:18843-1683718200-1683725400@864foodtrucks.com
SUMMARY:We Got the Beets @ Patewood
DESCRIPTION:Upstate South Carolina’s first exclusively plant-based food truck! Our passion is food and our mission is simple – we want everyone to know how delicious plant-based foods can be! Serving classic street fare since 2017.
URL:https://864foodtrucks.com/event/we-got-the-beets-patewood/
LOCATION:Patewood Office Park\, 30 Patewood Drive\, Greenville\, South Carolina
CATEGORIES:Food Truck Schedules,Greenville
ATTACH;FMTTYPE=image/jpeg:https://864foodtrucks.com/wp-content/uploads/2021/05/We-Got-The-Beets-Food-Truck.jpg
GEO:34.8494568;-82.3233995
X-APPLE-STRUCTURED-LOCATION;VALUE=URI;X-ADDRESS=Patewood Office Park 30 Patewood Drive Greenville South Carolina;X-APPLE-RADIUS=500;X-TITLE=30 Patewood Drive:geo:-82.3233995,34.8494568
END:VEVENT
BEGIN:VEVENT
DTSTART;TZID=America/New_York:20230427T173000
DTEND;TZID=America/New_York:20230427T203000
DTSTAMP:20260424T122857
CREATED:20230425T173010Z
LAST-MODIFIED:20240314T003808Z
UID:18482-1682616600-1682627400@864foodtrucks.com
SUMMARY:We Got the Beets @ Downtown Alive
DESCRIPTION:
URL:https://864foodtrucks.com/event/we-got-the-beets-downtown-alive/2023-04-27/
LOCATION:Downtown Greenville\, Greenville\, South Carolina
CATEGORIES:Food Truck Schedules,Greenville
ATTACH;FMTTYPE=image/jpeg:https://864foodtrucks.com/wp-content/uploads/2023/10/We-Got-the-Beets.jpg
GEO:34.8526176;-82.3940104
END:VEVENT
BEGIN:VEVENT
DTSTART;TZID=America/New_York:20230426T173000
DTEND;TZID=America/New_York:20230426T200000
DTSTAMP:20260424T122857
CREATED:20230425T172821Z
LAST-MODIFIED:20240708T151138Z
UID:18480-1682530200-1682539200@864foodtrucks.com
SUMMARY:We Got the Beets @ Grateful Brew
DESCRIPTION:YUMMY EATS WITHOUT THE MEATS!\nPowered by love…and plants 🌱🌈\n📍 Greenville\, SC
URL:https://864foodtrucks.com/event/we-got-the-beets-grateful-brew-4/2023-04-26/
LOCATION:Grateful Brew\, 501 S Pleasantburg Dr\, Greenville\, SC\, 29607\, United States
CATEGORIES:Food Truck Schedules,Greenville
ATTACH;FMTTYPE=image/jpeg:https://864foodtrucks.com/wp-content/uploads/2023/10/We-Got-the-Beets.jpg
GEO:34.8292844;-82.36962
X-APPLE-STRUCTURED-LOCATION;VALUE=URI;X-ADDRESS=Grateful Brew 501 S Pleasantburg Dr Greenville SC 29607 United States;X-APPLE-RADIUS=500;X-TITLE=501 S Pleasantburg Dr:geo:-82.36962,34.8292844
END:VEVENT
BEGIN:VEVENT
DTSTART;TZID=America/New_York:20230422T110000
DTEND;TZID=America/New_York:20230422T140000
DTSTAMP:20260424T122857
CREATED:20230417T191537Z
LAST-MODIFIED:20230417T191537Z
UID:18301-1682161200-1682172000@864foodtrucks.com
SUMMARY:We Got the Beets @ Flying Rabbit Adventures
DESCRIPTION:Upstate South Carolina’s first exclusively plant-based food truck! Our passion is food and our mission is simple – we want everyone to know how delicious plant-based foods can be! Serving classic street fare since 2017.
URL:https://864foodtrucks.com/event/we-got-the-beets-flying-rabbit-adventures/
LOCATION:Flying Rabbit Adventures\, 821 Laurens Road\, Greenville\, South Carolina
CATEGORIES:Food Truck Schedules
ATTACH;FMTTYPE=image/jpeg:https://864foodtrucks.com/wp-content/uploads/2021/05/We-Got-The-Beets-Food-Truck-Square.jpg
GEO:34.8490064;-82.3721679
X-APPLE-STRUCTURED-LOCATION;VALUE=URI;X-ADDRESS=Flying Rabbit Adventures 821 Laurens Road Greenville South Carolina;X-APPLE-RADIUS=500;X-TITLE=821 Laurens Road:geo:-82.3721679,34.8490064
END:VEVENT
BEGIN:VEVENT
DTSTART;TZID=America/New_York:20230421T173000
DTEND;TZID=America/New_York:20230421T203000
DTSTAMP:20260424T122857
CREATED:20230417T183400Z
LAST-MODIFIED:20240819T224110Z
UID:18297-1682098200-1682109000@864foodtrucks.com
SUMMARY:We Got the Beets @ Main Street Friday
DESCRIPTION:YUMMY EATS WITHOUT THE MEATS!\nPowered by love…and plants 🌱🌈\n📍 Greenville\, SC
URL:https://864foodtrucks.com/event/we-got-the-beets-main-street-friday/2023-04-21/
LOCATION:Downtown Greenville\, Greenville\, South Carolina
CATEGORIES:Food Truck Schedules,Greenville
ATTACH;FMTTYPE=image/jpeg:https://864foodtrucks.com/wp-content/uploads/2023/10/We-Got-the-Beets.jpg
GEO:34.8526176;-82.3940104
END:VEVENT
END:VCALENDAR