BEGIN:VCALENDAR
VERSION:2.0
PRODID:-//864 Food Trucks - ECPv6.15.20//NONSGML v1.0//EN
CALSCALE:GREGORIAN
METHOD:PUBLISH
X-ORIGINAL-URL:https://864foodtrucks.com
X-WR-CALDESC:Events for 864 Food Trucks
REFRESH-INTERVAL;VALUE=DURATION:PT1H
X-Robots-Tag:noindex
X-PUBLISHED-TTL:PT1H
BEGIN:VTIMEZONE
TZID:America/New_York
BEGIN:DAYLIGHT
TZOFFSETFROM:-0500
TZOFFSETTO:-0400
TZNAME:EDT
DTSTART:20230312T070000
END:DAYLIGHT
BEGIN:STANDARD
TZOFFSETFROM:-0400
TZOFFSETTO:-0500
TZNAME:EST
DTSTART:20231105T060000
END:STANDARD
BEGIN:DAYLIGHT
TZOFFSETFROM:-0500
TZOFFSETTO:-0400
TZNAME:EDT
DTSTART:20240310T070000
END:DAYLIGHT
BEGIN:STANDARD
TZOFFSETFROM:-0400
TZOFFSETTO:-0500
TZNAME:EST
DTSTART:20241103T060000
END:STANDARD
BEGIN:DAYLIGHT
TZOFFSETFROM:-0500
TZOFFSETTO:-0400
TZNAME:EDT
DTSTART:20250309T070000
END:DAYLIGHT
BEGIN:STANDARD
TZOFFSETFROM:-0400
TZOFFSETTO:-0500
TZNAME:EST
DTSTART:20251102T060000
END:STANDARD
END:VTIMEZONE
BEGIN:VEVENT
DTSTART;TZID=America/New_York:20240226T173000
DTEND;TZID=America/New_York:20240226T200000
DTSTAMP:20260425T203344
CREATED:20240226T182758Z
LAST-MODIFIED:20240325T192719Z
UID:26339-1708968600-1708977600@864foodtrucks.com
SUMMARY:Wiener Waggin @ Grateful Brew
DESCRIPTION:
URL:https://864foodtrucks.com/event/wiener-waggin-grateful-brew/2024-02-26/
LOCATION:Grateful Brew\, 501 S Pleasantburg Dr\, Greenville\, SC\, 29607\, United States
CATEGORIES:Food Truck Schedules,Greenville
ATTACH;FMTTYPE=image/jpeg:https://864foodtrucks.com/wp-content/uploads/2024/02/Wiener-Waggin-Truck.jpg
ORGANIZER;CN="Wiener Waggin":MAILTO:carl@wiener-waggin.com
GEO:34.8292844;-82.36962
X-APPLE-STRUCTURED-LOCATION;VALUE=URI;X-ADDRESS=Grateful Brew 501 S Pleasantburg Dr Greenville SC 29607 United States;X-APPLE-RADIUS=500;X-TITLE=501 S Pleasantburg Dr:geo:-82.36962,34.8292844
END:VEVENT
BEGIN:VEVENT
DTSTART;TZID=America/New_York:20240226T110000
DTEND;TZID=America/New_York:20240226T150000
DTSTAMP:20260425T203344
CREATED:20240226T182515Z
LAST-MODIFIED:20240401T173422Z
UID:26333-1708945200-1708959600@864foodtrucks.com
SUMMARY:Wiener Waggin @ Lowes Greer
DESCRIPTION:
URL:https://864foodtrucks.com/event/weiner-waggin-lowes-greer/2024-02-26/
LOCATION:Lowe’s Home Improvement Greer\, West Wade Hampton Boulevard 1370\, Greer\, South Carolina\, 29650\, United States
CATEGORIES:Food Truck Schedules,Greer
ATTACH;FMTTYPE=image/jpeg:https://864foodtrucks.com/wp-content/uploads/2024/02/Wiener-Waggin-Truck.jpg
ORGANIZER;CN="Wiener Waggin":MAILTO:carl@wiener-waggin.com
GEO:34.9404758;-82.2665318
X-APPLE-STRUCTURED-LOCATION;VALUE=URI;X-ADDRESS=Lowe’s Home Improvement Greer West Wade Hampton Boulevard 1370 Greer South Carolina 29650 United States;X-APPLE-RADIUS=500;X-TITLE=West Wade Hampton Boulevard 1370:geo:-82.2665318,34.9404758
END:VEVENT
BEGIN:VEVENT
DTSTART;TZID=America/New_York:20240206T100000
DTEND;TZID=America/New_York:20240206T160000
DTSTAMP:20260425T203344
CREATED:20240206T173721Z
LAST-MODIFIED:20240206T173721Z
UID:25708-1707213600-1707235200@864foodtrucks.com
SUMMARY:Wiener Waggin @ Lowe's Greer
DESCRIPTION:
URL:https://864foodtrucks.com/event/wiener-waggin-lowes-greer/2024-02-06/
LOCATION:Lowe’s Home Improvement Greer\, West Wade Hampton Boulevard 1370\, Greer\, South Carolina\, 29650\, United States
CATEGORIES:Food Truck Schedules,Greer
ATTACH;FMTTYPE=image/jpeg:https://864foodtrucks.com/wp-content/uploads/2024/02/Wiener-Waggin-Truck.jpg
ORGANIZER;CN="Wiener Waggin":MAILTO:carl@wiener-waggin.com
GEO:34.9404758;-82.2665318
X-APPLE-STRUCTURED-LOCATION;VALUE=URI;X-ADDRESS=Lowe’s Home Improvement Greer West Wade Hampton Boulevard 1370 Greer South Carolina 29650 United States;X-APPLE-RADIUS=500;X-TITLE=West Wade Hampton Boulevard 1370:geo:-82.2665318,34.9404758
END:VEVENT
END:VCALENDAR