BEGIN:VCALENDAR
VERSION:2.0
PRODID:-//864 Food Trucks - ECPv6.15.20//NONSGML v1.0//EN
CALSCALE:GREGORIAN
METHOD:PUBLISH
X-WR-CALNAME:864 Food Trucks
X-ORIGINAL-URL:https://864foodtrucks.com
X-WR-CALDESC:Events for 864 Food Trucks
REFRESH-INTERVAL;VALUE=DURATION:PT1H
X-Robots-Tag:noindex
X-PUBLISHED-TTL:PT1H
BEGIN:VTIMEZONE
TZID:America/New_York
BEGIN:DAYLIGHT
TZOFFSETFROM:-0500
TZOFFSETTO:-0400
TZNAME:EDT
DTSTART:20220313T070000
END:DAYLIGHT
BEGIN:STANDARD
TZOFFSETFROM:-0400
TZOFFSETTO:-0500
TZNAME:EST
DTSTART:20221106T060000
END:STANDARD
BEGIN:DAYLIGHT
TZOFFSETFROM:-0500
TZOFFSETTO:-0400
TZNAME:EDT
DTSTART:20230312T070000
END:DAYLIGHT
BEGIN:STANDARD
TZOFFSETFROM:-0400
TZOFFSETTO:-0500
TZNAME:EST
DTSTART:20231105T060000
END:STANDARD
BEGIN:DAYLIGHT
TZOFFSETFROM:-0500
TZOFFSETTO:-0400
TZNAME:EDT
DTSTART:20240310T070000
END:DAYLIGHT
BEGIN:STANDARD
TZOFFSETFROM:-0400
TZOFFSETTO:-0500
TZNAME:EST
DTSTART:20241103T060000
END:STANDARD
BEGIN:DAYLIGHT
TZOFFSETFROM:-0500
TZOFFSETTO:-0400
TZNAME:EDT
DTSTART:20250309T070000
END:DAYLIGHT
BEGIN:STANDARD
TZOFFSETFROM:-0400
TZOFFSETTO:-0500
TZNAME:EST
DTSTART:20251102T060000
END:STANDARD
BEGIN:DAYLIGHT
TZOFFSETFROM:-0500
TZOFFSETTO:-0400
TZNAME:EDT
DTSTART:20260308T070000
END:DAYLIGHT
BEGIN:STANDARD
TZOFFSETFROM:-0400
TZOFFSETTO:-0500
TZNAME:EST
DTSTART:20261101T060000
END:STANDARD
END:VTIMEZONE
BEGIN:VEVENT
DTSTART;TZID=America/New_York:20250802T110000
DTEND;TZID=America/New_York:20250802T140000
DTSTAMP:20260425T201959
CREATED:20250731T132122Z
LAST-MODIFIED:20250731T132122Z
UID:51501-1754132400-1754143200@864foodtrucks.com
SUMMARY:Yum Bai @ Project Horsepower
DESCRIPTION:Asian fusion street food
URL:https://864foodtrucks.com/event/yum-bai-project-horsepower/
LOCATION:Spartanburg Community College\, 107 Community College Drive\, Spartanburg\, SC\, United States
CATEGORIES:Food Truck Schedules,Spartanburg
ATTACH;FMTTYPE=image/jpeg:https://864foodtrucks.com/wp-content/uploads/2021/05/Yum-Bai.jpg
ORGANIZER;CN="Yum Bai":MAILTO:yumbaisc@gmail.com
GEO:34.9752715;-81.9885063
X-APPLE-STRUCTURED-LOCATION;VALUE=URI;X-ADDRESS=Spartanburg Community College 107 Community College Drive Spartanburg SC United States;X-APPLE-RADIUS=500;X-TITLE=107 Community College Drive:geo:-81.9885063,34.9752715
END:VEVENT
BEGIN:VEVENT
DTSTART;TZID=America/New_York:20250731T113000
DTEND;TZID=America/New_York:20250731T143000
DTSTAMP:20260425T201959
CREATED:20250731T131936Z
LAST-MODIFIED:20250731T131936Z
UID:51498-1753961400-1753972200@864foodtrucks.com
SUMMARY:Yum Bai @ Spartanburg City Hall
DESCRIPTION:Asian fusion street food
URL:https://864foodtrucks.com/event/yum-bai-spartanburg-city-hall/
LOCATION:Spartanburg City Hall\, 295 E Main St\, Spartanburg\, South Carolina
CATEGORIES:Food Truck Schedules,Spartanburg
ATTACH;FMTTYPE=image/jpeg:https://864foodtrucks.com/wp-content/uploads/2021/05/Yum-Bai.jpg
ORGANIZER;CN="Yum Bai":MAILTO:yumbaisc@gmail.com
GEO:34.9507158;-81.9252691
X-APPLE-STRUCTURED-LOCATION;VALUE=URI;X-ADDRESS=Spartanburg City Hall 295 E Main St Spartanburg South Carolina;X-APPLE-RADIUS=500;X-TITLE=295 E Main St:geo:-81.9252691,34.9507158
END:VEVENT
BEGIN:VEVENT
DTSTART;TZID=America/New_York:20250626T173000
DTEND;TZID=America/New_York:20250626T200000
DTSTAMP:20260425T201959
CREATED:20250625T001435Z
LAST-MODIFIED:20250625T001435Z
UID:49067-1750959000-1750968000@864foodtrucks.com
SUMMARY:Yum Bai @ Piney Mountain Bike Lounge
DESCRIPTION:Asian fusion street food
URL:https://864foodtrucks.com/event/yum-bai-piney-mountain-bike-lounge-2/
LOCATION:Piney Mountain Bike Lounge\, 20 Piney Mountain Rd\, Greenville\, South Carolina
CATEGORIES:Food Truck Schedules,Greenwood
ATTACH;FMTTYPE=image/jpeg:https://864foodtrucks.com/wp-content/uploads/2021/05/Yum-Bai.jpg
ORGANIZER;CN="Yum Bai":MAILTO:yumbaisc@gmail.com
GEO:34.8913881;-82.373773
X-APPLE-STRUCTURED-LOCATION;VALUE=URI;X-ADDRESS=Piney Mountain Bike Lounge 20 Piney Mountain Rd Greenville South Carolina;X-APPLE-RADIUS=500;X-TITLE=20 Piney Mountain Rd:geo:-82.373773,34.8913881
END:VEVENT
BEGIN:VEVENT
DTSTART;TZID=America/New_York:20250619T173000
DTEND;TZID=America/New_York:20250619T193000
DTSTAMP:20260425T201959
CREATED:20250617T135733Z
LAST-MODIFIED:20250617T135733Z
UID:48400-1750354200-1750361400@864foodtrucks.com
SUMMARY:Yum Bai @ Spring Lake Estate
DESCRIPTION:Asian fusion street food
URL:https://864foodtrucks.com/event/yum-bai-spring-lake-estate/
LOCATION:Spring Lake Estates\, 406 Jewelwood Drive\, Lyman\, South Carolina
CATEGORIES:Food Truck Schedules,Lyman
ATTACH;FMTTYPE=image/jpeg:https://864foodtrucks.com/wp-content/uploads/2021/05/Yum-Bai.jpg
ORGANIZER;CN="Yum Bai":MAILTO:yumbaisc@gmail.com
GEO:34.9626099;-82.1366934
X-APPLE-STRUCTURED-LOCATION;VALUE=URI;X-ADDRESS=Spring Lake Estates 406 Jewelwood Drive Lyman South Carolina;X-APPLE-RADIUS=500;X-TITLE=406 Jewelwood Drive:geo:-82.1366934,34.9626099
END:VEVENT
BEGIN:VEVENT
DTSTART;TZID=America/New_York:20250227T180000
DTEND;TZID=America/New_York:20250227T203000
DTSTAMP:20260425T201959
CREATED:20250224T194112Z
LAST-MODIFIED:20250721T232629Z
UID:42612-1740679200-1740688200@864foodtrucks.com
SUMMARY:Yum Bai @ Traveler's Taproom
DESCRIPTION:Asian fusion street food
URL:https://864foodtrucks.com/event/yum-bai-travelers-taproom-3/2025-02-27/
LOCATION:Travelers Taproom\, 2624 Poinsett Hwy\, Greenville\, South Carolina
CATEGORIES:Food Truck Schedules,Greenville
ATTACH;FMTTYPE=image/jpeg:https://864foodtrucks.com/wp-content/uploads/2021/05/Yum-Bai.jpg
ORGANIZER;CN="Yum Bai":MAILTO:yumbaisc@gmail.com
GEO:34.9015748;-82.4159581
X-APPLE-STRUCTURED-LOCATION;VALUE=URI;X-ADDRESS=Travelers Taproom 2624 Poinsett Hwy Greenville South Carolina;X-APPLE-RADIUS=500;X-TITLE=2624 Poinsett Hwy:geo:-82.4159581,34.9015748
END:VEVENT
BEGIN:VEVENT
DTSTART;TZID=America/New_York:20241102T170000
DTEND;TZID=America/New_York:20241102T200000
DTSTAMP:20260425T201959
CREATED:20241028T190150Z
LAST-MODIFIED:20241028T190150Z
UID:39455-1730566800-1730577600@864foodtrucks.com
SUMMARY:Yum Bai @ Keg & Cellar
DESCRIPTION:Asian fusion street food
URL:https://864foodtrucks.com/event/yum-bai-keg-cellar/
LOCATION:Keg & Cellar\, 5844 Reidville Rd\, Moore\, South Carolina
CATEGORIES:Food Truck Schedules,Greenville
ATTACH;FMTTYPE=image/jpeg:https://864foodtrucks.com/wp-content/uploads/2021/05/Yum-Bai.jpg
ORGANIZER;CN="Yum Bai":MAILTO:yumbaisc@gmail.com
GEO:34.887628;-82.0648457
X-APPLE-STRUCTURED-LOCATION;VALUE=URI;X-ADDRESS=Keg & Cellar 5844 Reidville Rd Moore South Carolina;X-APPLE-RADIUS=500;X-TITLE=5844 Reidville Rd:geo:-82.0648457,34.887628
END:VEVENT
BEGIN:VEVENT
DTSTART;TZID=America/New_York:20241029T180000
DTEND;TZID=America/New_York:20241029T200000
DTSTAMP:20260425T201959
CREATED:20241028T190041Z
LAST-MODIFIED:20241028T190041Z
UID:39452-1730224800-1730232000@864foodtrucks.com
SUMMARY:Yum Bai @ YMCA Spartanburg Trunk or Treat
DESCRIPTION:Asian fusion street food
URL:https://864foodtrucks.com/event/yum-bai-ymca-spartanburg-trunk-or-treat/
LOCATION:YMCA Spartanburg\, Spartanburg\, South Carolina\, United States
CATEGORIES:Food Truck Schedules,Spartanburg
ATTACH;FMTTYPE=image/jpeg:https://864foodtrucks.com/wp-content/uploads/2021/05/Yum-Bai.jpg
ORGANIZER;CN="Yum Bai":MAILTO:yumbaisc@gmail.com
GEO:34.9515959;-81.9327167
END:VEVENT
BEGIN:VEVENT
DTSTART;TZID=America/New_York:20240718T170000
DTEND;TZID=America/New_York:20240718T193000
DTSTAMP:20260425T201959
CREATED:20240716T135707Z
LAST-MODIFIED:20240724T142244Z
UID:32317-1721322000-1721331000@864foodtrucks.com
SUMMARY:Yum Bai @ Arbor Glen
DESCRIPTION:Asian fusion street food
URL:https://864foodtrucks.com/event/yum-bai-arbor-glen/2024-07-18/
LOCATION:Arbor Glen\, Spartanburg\, South Carolina\, United States
CATEGORIES:Food Truck Schedules,Spartanburg
ATTACH;FMTTYPE=image/jpeg:https://864foodtrucks.com/wp-content/uploads/2021/05/Yum-Bai.jpg
ORGANIZER;CN="Yum Bai":MAILTO:yumbaisc@gmail.com
GEO:34.9577313;-81.8907184
END:VEVENT
BEGIN:VEVENT
DTSTART;TZID=America/New_York:20240123T173000
DTEND;TZID=America/New_York:20240123T200000
DTSTAMP:20260425T201959
CREATED:20240123T133807Z
LAST-MODIFIED:20240123T133807Z
UID:25289-1706031000-1706040000@864foodtrucks.com
SUMMARY:Yum Bai @ The Community Tap
DESCRIPTION:Asian fusion street food
URL:https://864foodtrucks.com/event/yum-bai-the-community-tap-3/
LOCATION:The Community Tap\, 217 Wade Hampton Blvd\, Greenville\, South Carolina
CATEGORIES:Food Truck Schedules,Greenville
ATTACH;FMTTYPE=image/jpeg:https://864foodtrucks.com/wp-content/uploads/2021/05/Yum-Bai.jpg
ORGANIZER;CN="Yum Bai":MAILTO:yumbaisc@gmail.com
GEO:34.8625763;-82.3857613
X-APPLE-STRUCTURED-LOCATION;VALUE=URI;X-ADDRESS=The Community Tap 217 Wade Hampton Blvd Greenville South Carolina;X-APPLE-RADIUS=500;X-TITLE=217 Wade Hampton Blvd:geo:-82.3857613,34.8625763
END:VEVENT
BEGIN:VEVENT
DTSTART;TZID=America/New_York:20230907T150000
DTEND;TZID=America/New_York:20230907T190000
DTSTAMP:20260425T201959
CREATED:20230906T131838Z
LAST-MODIFIED:20230906T131838Z
UID:22651-1694098800-1694113200@864foodtrucks.com
SUMMARY:Yum Bai @ Fitness Studio Ribbon Cutting
DESCRIPTION:Asian fusion street food
URL:https://864foodtrucks.com/event/yum-bai-fitness-studio-ribbon-cutting/
LOCATION:Fitness Studio\, Laurens Road 1010\, Greenville\, SC\, 29607\, United States
CATEGORIES:Food Truck Schedules,Greenville
ATTACH;FMTTYPE=image/jpeg:https://864foodtrucks.com/wp-content/uploads/2021/05/Yum-Bai.jpg
ORGANIZER;CN="Yum Bai":MAILTO:yumbaisc@gmail.com
GEO:34.8471525;-82.3705656
X-APPLE-STRUCTURED-LOCATION;VALUE=URI;X-ADDRESS=Fitness Studio Laurens Road 1010 Greenville SC 29607 United States;X-APPLE-RADIUS=500;X-TITLE=Laurens Road 1010:geo:-82.3705656,34.8471525
END:VEVENT
BEGIN:VEVENT
DTSTART;TZID=America/New_York:20230907T113000
DTEND;TZID=America/New_York:20230907T140000
DTSTAMP:20260425T201959
CREATED:20230906T131659Z
LAST-MODIFIED:20230906T131659Z
UID:22648-1694086200-1694095200@864foodtrucks.com
SUMMARY:Yum Bai @ Greer Memorial Hospital
DESCRIPTION:Asian fusion street food
URL:https://864foodtrucks.com/event/yum-bai-greer-memorial-hospital/
LOCATION:Greer Memorial Hospital\, South Buncombe Road 830\, Greer\, SC\, 29650\, United States
CATEGORIES:Food Truck Schedules,Greer
ATTACH;FMTTYPE=image/jpeg:https://864foodtrucks.com/wp-content/uploads/2021/05/Yum-Bai.jpg
ORGANIZER;CN="Yum Bai":MAILTO:yumbaisc@gmail.com
GEO:34.9201586;-82.2443637
X-APPLE-STRUCTURED-LOCATION;VALUE=URI;X-ADDRESS=Greer Memorial Hospital South Buncombe Road 830 Greer SC 29650 United States;X-APPLE-RADIUS=500;X-TITLE=South Buncombe Road 830:geo:-82.2443637,34.9201586
END:VEVENT
BEGIN:VEVENT
DTSTART;TZID=America/New_York:20230901T173000
DTEND;TZID=America/New_York:20230901T193000
DTSTAMP:20260425T201959
CREATED:20230829T122439Z
LAST-MODIFIED:20230829T122439Z
UID:22505-1693589400-1693596600@864foodtrucks.com
SUMMARY:Yum Bai @ Huff Creek Homes
DESCRIPTION:Asian fusion street food
URL:https://864foodtrucks.com/event/yum-bai-huff-creek-homes/
LOCATION:Huff Creek Homes\, 1 Southern Pine Dr\, Greenville\, South Carolina
CATEGORIES:Food Truck Schedules,Greenville
ATTACH;FMTTYPE=image/jpeg:https://864foodtrucks.com/wp-content/uploads/2021/05/Yum-Bai.jpg
ORGANIZER;CN="Yum Bai":MAILTO:yumbaisc@gmail.com
GEO:34.8526176;-82.3940104
X-APPLE-STRUCTURED-LOCATION;VALUE=URI;X-ADDRESS=Huff Creek Homes 1 Southern Pine Dr Greenville South Carolina;X-APPLE-RADIUS=500;X-TITLE=1 Southern Pine Dr:geo:-82.3940104,34.8526176
END:VEVENT
BEGIN:VEVENT
DTSTART;TZID=America/New_York:20230814T170000
DTEND;TZID=America/New_York:20230814T200000
DTSTAMP:20260425T201959
CREATED:20230814T204614Z
LAST-MODIFIED:20240123T133654Z
UID:22134-1692032400-1692043200@864foodtrucks.com
SUMMARY:Yum Bai @ Bodega Noir
DESCRIPTION:Asian fusion street food
URL:https://864foodtrucks.com/event/yum-bai-bodega-noir/2023-08-14/
LOCATION:Bodega Noir\, 1520 E Rutherford St\, Landrum\, South Carolina
CATEGORIES:Food Truck Schedules,Landrum
ATTACH;FMTTYPE=image/jpeg:https://864foodtrucks.com/wp-content/uploads/2021/05/Yum-Bai.jpg
ORGANIZER;CN="Yum Bai":MAILTO:yumbaisc@gmail.com
GEO:35.179218;-82.1683251
X-APPLE-STRUCTURED-LOCATION;VALUE=URI;X-ADDRESS=Bodega Noir 1520 E Rutherford St Landrum South Carolina;X-APPLE-RADIUS=500;X-TITLE=1520 E Rutherford St:geo:-82.1683251,35.179218
END:VEVENT
BEGIN:VEVENT
DTSTART;TZID=America/New_York:20230812T110000
DTEND;TZID=America/New_York:20230812T180000
DTSTAMP:20260425T201959
CREATED:20230809T125948Z
LAST-MODIFIED:20230809T125948Z
UID:21969-1691838000-1691863200@864foodtrucks.com
SUMMARY:Yum Bai @ Uke-A-Palooza Fest
DESCRIPTION:Asian fusion street food
URL:https://864foodtrucks.com/event/yum-bai-uke-a-palooza-fest/
LOCATION:Uke-A-Palooza Fest\, Spartanburg Highway 311\, Wellford\, SC\, 29385\, United States
CATEGORIES:Food Truck Schedules
ATTACH;FMTTYPE=image/jpeg:https://864foodtrucks.com/wp-content/uploads/2021/05/Yum-Bai.jpg
ORGANIZER;CN="Yum Bai":MAILTO:yumbaisc@gmail.com
GEO:34.9562056;-82.1153391
X-APPLE-STRUCTURED-LOCATION;VALUE=URI;X-ADDRESS=Uke-A-Palooza Fest Spartanburg Highway 311 Wellford SC 29385 United States;X-APPLE-RADIUS=500;X-TITLE=Spartanburg Highway 311:geo:-82.1153391,34.9562056
END:VEVENT
BEGIN:VEVENT
DTSTART;TZID=America/New_York:20230811T173000
DTEND;TZID=America/New_York:20230811T213000
DTSTAMP:20260425T201959
CREATED:20230809T125811Z
LAST-MODIFIED:20230809T125811Z
UID:21967-1691775000-1691789400@864foodtrucks.com
SUMMARY:Yum Bai @ Main Street Fridays
DESCRIPTION:Asian fusion street food
URL:https://864foodtrucks.com/event/yum-bai-main-street-fridays-2/
LOCATION:Downtown Greenville\, Greenville\, South Carolina
CATEGORIES:Food Truck Schedules,Greenville
ATTACH;FMTTYPE=image/jpeg:https://864foodtrucks.com/wp-content/uploads/2021/05/Yum-Bai.jpg
ORGANIZER;CN="Yum Bai":MAILTO:yumbaisc@gmail.com
GEO:34.8526176;-82.3940104
END:VEVENT
BEGIN:VEVENT
DTSTART;TZID=America/New_York:20230810T110000
DTEND;TZID=America/New_York:20230810T130000
DTSTAMP:20260425T201959
CREATED:20230809T125433Z
LAST-MODIFIED:20230809T125433Z
UID:21965-1691665200-1691672400@864foodtrucks.com
SUMMARY:Yum Bai @ BJU Press
DESCRIPTION:Asian fusion street food
URL:https://864foodtrucks.com/event/yum-bai-bju-press/
LOCATION:BJU Press\, 1430 Wade Hampton Blvd\, Greenville\, South Carolina\, 29609
CATEGORIES:Food Truck Schedules,Greenville
ATTACH;FMTTYPE=image/jpeg:https://864foodtrucks.com/wp-content/uploads/2021/05/Yum-Bai.jpg
ORGANIZER;CN="Yum Bai":MAILTO:yumbaisc@gmail.com
GEO:34.8715847;-82.369853
X-APPLE-STRUCTURED-LOCATION;VALUE=URI;X-ADDRESS=BJU Press 1430 Wade Hampton Blvd Greenville South Carolina 29609;X-APPLE-RADIUS=500;X-TITLE=1430 Wade Hampton Blvd:geo:-82.369853,34.8715847
END:VEVENT
BEGIN:VEVENT
DTSTART;TZID=America/New_York:20230809T173000
DTEND;TZID=America/New_York:20230809T193000
DTSTAMP:20260425T201959
CREATED:20230809T125323Z
LAST-MODIFIED:20230911T175329Z
UID:21963-1691602200-1691609400@864foodtrucks.com
SUMMARY:Yum Bai @ Trailside on Reedy
DESCRIPTION:Asian fusion street food
URL:https://864foodtrucks.com/event/yum-bai-trailside-on-reedy/2023-08-09/
LOCATION:Trailside at Reedy Point\, 200 South Academy St\, Greenville\, SC\, 29601\, United States
CATEGORIES:Food Truck Schedules,Greenville
ATTACH;FMTTYPE=image/jpeg:https://864foodtrucks.com/wp-content/uploads/2021/05/Yum-Bai.jpg
ORGANIZER;CN="Yum Bai":MAILTO:yumbaisc@gmail.com
GEO:34.8472093;-82.4065614
X-APPLE-STRUCTURED-LOCATION;VALUE=URI;X-ADDRESS=Trailside at Reedy Point 200 South Academy St Greenville SC 29601 United States;X-APPLE-RADIUS=500;X-TITLE=200 South Academy St:geo:-82.4065614,34.8472093
END:VEVENT
BEGIN:VEVENT
DTSTART;TZID=America/New_York:20230721T173000
DTEND;TZID=America/New_York:20230721T203000
DTSTAMP:20260425T201959
CREATED:20230719T215245Z
LAST-MODIFIED:20230719T215245Z
UID:20986-1689960600-1689971400@864foodtrucks.com
SUMMARY:Yum Bai @ Main Street Fridays
DESCRIPTION:Asian fusion street food
URL:https://864foodtrucks.com/event/yum-bai-main-street-fridays/
LOCATION:Downtown Greenville\, Greenville\, South Carolina
CATEGORIES:Food Truck Schedules,Greenville
ATTACH;FMTTYPE=image/jpeg:https://864foodtrucks.com/wp-content/uploads/2021/05/Yum-Bai.jpg
ORGANIZER;CN="Yum Bai":MAILTO:yumbaisc@gmail.com
GEO:34.8526176;-82.3940104
END:VEVENT
BEGIN:VEVENT
DTSTART;TZID=America/New_York:20230707T113000
DTEND;TZID=America/New_York:20230707T143000
DTSTAMP:20260425T201959
CREATED:20230706T155613Z
LAST-MODIFIED:20230706T155613Z
UID:20588-1688729400-1688740200@864foodtrucks.com
SUMMARY:Yum Bai @ Spartanburg Downtown Library
DESCRIPTION:Asian fusion street food
URL:https://864foodtrucks.com/event/yum-bai-spartanburg-downtown-library/
LOCATION:Downtown Library Spartanburg\, Downtown Spartanburg\, SC\, United States
CATEGORIES:Food Truck Schedules,Spartanburg
ATTACH;FMTTYPE=image/jpeg:https://864foodtrucks.com/wp-content/uploads/2021/05/Yum-Bai.jpg
ORGANIZER;CN="Yum Bai":MAILTO:yumbaisc@gmail.com
END:VEVENT
BEGIN:VEVENT
DTSTART;TZID=America/New_York:20230701T170000
DTEND;TZID=America/New_York:20230701T220000
DTSTAMP:20260425T201959
CREATED:20230626T165318Z
LAST-MODIFIED:20250625T001516Z
UID:20125-1688230800-1688248800@864foodtrucks.com
SUMMARY:Yum Bai @ Watermelon Fest
DESCRIPTION:Asian fusion street food
URL:https://864foodtrucks.com/event/yum-bai-watermelon-fest/2023-07-01/
LOCATION:Watermelon Fest Duncan\, 119 S Spencer St\, Duncan\, South Carolina
CATEGORIES:Duncan,Food Truck Schedules
ATTACH;FMTTYPE=image/jpeg:https://864foodtrucks.com/wp-content/uploads/2021/05/Yum-Bai.jpg
ORGANIZER;CN="Yum Bai":MAILTO:yumbaisc@gmail.com
GEO:34.9359329;-82.1472247
X-APPLE-STRUCTURED-LOCATION;VALUE=URI;X-ADDRESS=Watermelon Fest Duncan 119 S Spencer St Duncan South Carolina;X-APPLE-RADIUS=500;X-TITLE=119 S Spencer St:geo:-82.1472247,34.9359329
END:VEVENT
BEGIN:VEVENT
DTSTART;TZID=America/New_York:20230626T113000
DTEND;TZID=America/New_York:20230626T150000
DTSTAMP:20260425T201959
CREATED:20230626T165143Z
LAST-MODIFIED:20230626T165143Z
UID:20122-1687779000-1687791600@864foodtrucks.com
SUMMARY:Yum Bai @ Prisma Health Greer Memorial Hospital
DESCRIPTION:Asian fusion street food
URL:https://864foodtrucks.com/event/yum-bai-prisma-health-greer-memorial-hospital/
LOCATION:Prisma Health\, 701 Grove Road\, Greenville\, South Carolina
CATEGORIES:Food Truck Schedules,Greer
ATTACH;FMTTYPE=image/jpeg:https://864foodtrucks.com/wp-content/uploads/2021/05/Yum-Bai.jpg
ORGANIZER;CN="Yum Bai":MAILTO:yumbaisc@gmail.com
GEO:34.819034;-82.4128109
X-APPLE-STRUCTURED-LOCATION;VALUE=URI;X-ADDRESS=Prisma Health 701 Grove Road Greenville South Carolina;X-APPLE-RADIUS=500;X-TITLE=701 Grove Road:geo:-82.4128109,34.819034
END:VEVENT
BEGIN:VEVENT
DTSTART;TZID=America/New_York:20230624T120000
DTEND;TZID=America/New_York:20230624T160000
DTSTAMP:20260425T201959
CREATED:20230621T211918Z
LAST-MODIFIED:20230621T211918Z
UID:19922-1687608000-1687622400@864foodtrucks.com
SUMMARY:Yum Bai @ Crispifest Lager Festival
DESCRIPTION:Asian fusion street food
URL:https://864foodtrucks.com/event/yum-bai-crispifest-lager-festival/
LOCATION:Boiling Springs\, Boiling Springs\, SC\, United States
CATEGORIES:Boiling Springs,Food Truck Schedules
ATTACH;FMTTYPE=image/jpeg:https://864foodtrucks.com/wp-content/uploads/2021/05/Yum-Bai.jpg
ORGANIZER;CN="Yum Bai":MAILTO:yumbaisc@gmail.com
END:VEVENT
BEGIN:VEVENT
DTSTART;TZID=America/New_York:20230616T180000
DTEND;TZID=America/New_York:20230616T210000
DTSTAMP:20260425T201959
CREATED:20230613T003218Z
LAST-MODIFIED:20230621T211634Z
UID:19705-1686938400-1686949200@864foodtrucks.com
SUMMARY:Yum Bai @ Music on Mill
DESCRIPTION:Asian fusion street food
URL:https://864foodtrucks.com/event/yum-bai-music-on-mill/2023-06-16/
LOCATION:22 Mill St\, 22 Mill Street\, Inman\, South Carolina
CATEGORIES:Food Truck Schedules,Inman
ATTACH;FMTTYPE=image/jpeg:https://864foodtrucks.com/wp-content/uploads/2021/05/Yum-Bai.jpg
ORGANIZER;CN="Yum Bai":MAILTO:yumbaisc@gmail.com
GEO:35.0473299;-82.0916559
X-APPLE-STRUCTURED-LOCATION;VALUE=URI;X-ADDRESS=22 Mill St 22 Mill Street Inman South Carolina;X-APPLE-RADIUS=500;X-TITLE=22 Mill Street:geo:-82.0916559,35.0473299
END:VEVENT
BEGIN:VEVENT
DTSTART;TZID=America/New_York:20230615T173000
DTEND;TZID=America/New_York:20230615T203000
DTSTAMP:20260425T201959
CREATED:20230613T003518Z
LAST-MODIFIED:20230801T001849Z
UID:19707-1686850200-1686861000@864foodtrucks.com
SUMMARY:Yum Bai @ Downtown Alive
DESCRIPTION:Asian fusion street food
URL:https://864foodtrucks.com/event/yum-bai-downtown-alive/2023-06-15/
LOCATION:Downtown Greenville\, Greenville\, South Carolina
CATEGORIES:Food Truck Schedules,Greenville
ATTACH;FMTTYPE=image/jpeg:https://864foodtrucks.com/wp-content/uploads/2021/05/Yum-Bai.jpg
ORGANIZER;CN="Yum Bai":MAILTO:yumbaisc@gmail.com
GEO:34.8526176;-82.3940104
END:VEVENT
BEGIN:VEVENT
DTSTART;TZID=America/New_York:20230521T120000
DTEND;TZID=America/New_York:20230521T160000
DTSTAMP:20260425T201959
CREATED:20230515T153817Z
LAST-MODIFIED:20230515T153817Z
UID:19000-1684670400-1684684800@864foodtrucks.com
SUMMARY:Yum Bai @ Market on Mill
DESCRIPTION:Asian fusion street food
URL:https://864foodtrucks.com/event/yum-bai-market-on-mill/
LOCATION:Market on the Mill\, 22 Mill Street\, Inman\, South Carolina
CATEGORIES:Food Truck Schedules,Inman
ATTACH;FMTTYPE=image/jpeg:https://864foodtrucks.com/wp-content/uploads/2021/05/Yum-Bai.jpg
ORGANIZER;CN="Yum Bai":MAILTO:yumbaisc@gmail.com
GEO:35.0473299;-82.0916559
X-APPLE-STRUCTURED-LOCATION;VALUE=URI;X-ADDRESS=Market on the Mill 22 Mill Street Inman South Carolina;X-APPLE-RADIUS=500;X-TITLE=22 Mill Street:geo:-82.0916559,35.0473299
END:VEVENT
BEGIN:VEVENT
DTSTART;TZID=America/New_York:20230519T173000
DTEND;TZID=America/New_York:20230519T200000
DTSTAMP:20260425T201959
CREATED:20230517T150742Z
LAST-MODIFIED:20230801T001859Z
UID:19070-1684517400-1684526400@864foodtrucks.com
SUMMARY:Yum Bai @ Lost River
DESCRIPTION:Asian fusion street food
URL:https://864foodtrucks.com/event/yum-bai-lost-river/2023-05-19/
LOCATION:Lost River\, 505 Whitemarsh Ave\, Simpsonville\, South Carolina
CATEGORIES:Food Truck Schedules,Simpsonville
ATTACH;FMTTYPE=image/jpeg:https://864foodtrucks.com/wp-content/uploads/2021/05/Yum-Bai.jpg
ORGANIZER;CN="Yum Bai":MAILTO:yumbaisc@gmail.com
GEO:34.6970438;-82.2953521
X-APPLE-STRUCTURED-LOCATION;VALUE=URI;X-ADDRESS=Lost River 505 Whitemarsh Ave Simpsonville South Carolina;X-APPLE-RADIUS=500;X-TITLE=505 Whitemarsh Ave:geo:-82.2953521,34.6970438
END:VEVENT
BEGIN:VEVENT
DTSTART;TZID=America/New_York:20230518T173000
DTEND;TZID=America/New_York:20230518T200000
DTSTAMP:20260425T201959
CREATED:20230517T150624Z
LAST-MODIFIED:20230517T150624Z
UID:19068-1684431000-1684440000@864foodtrucks.com
SUMMARY:Yum Bai @ Kelsey Glen
DESCRIPTION:Asian fusion street food
URL:https://864foodtrucks.com/event/yum-bai-kelsey-glen/
LOCATION:Kelsey Glen\, 25 Redvales Road\, Simpsonville\, South Carolina
CATEGORIES:Food Truck Schedules,Simpsonville
ATTACH;FMTTYPE=image/jpeg:https://864foodtrucks.com/wp-content/uploads/2021/05/Yum-Bai.jpg
ORGANIZER;CN="Yum Bai":MAILTO:yumbaisc@gmail.com
GEO:34.7796809;-82.1934799
X-APPLE-STRUCTURED-LOCATION;VALUE=URI;X-ADDRESS=Kelsey Glen 25 Redvales Road Simpsonville South Carolina;X-APPLE-RADIUS=500;X-TITLE=25 Redvales Road:geo:-82.1934799,34.7796809
END:VEVENT
BEGIN:VEVENT
DTSTART;TZID=America/New_York:20230506T150000
DTEND;TZID=America/New_York:20230506T200000
DTSTAMP:20260425T201959
CREATED:20230503T175433Z
LAST-MODIFIED:20230503T175433Z
UID:18718-1683385200-1683403200@864foodtrucks.com
SUMMARY:Yum Bai @ Rhythm on the River
DESCRIPTION:Asian fusion street food
URL:https://864foodtrucks.com/event/yum-bai-rhythm-on-the-river/
LOCATION:Rhythm on the River\, 107 Spearman Circle\, Powdersville\, SC\, United States
CATEGORIES:Food Truck Schedules,Powdersville
ATTACH;FMTTYPE=image/jpeg:https://864foodtrucks.com/wp-content/uploads/2021/05/Yum-Bai.jpg
ORGANIZER;CN="Yum Bai":MAILTO:yumbaisc@gmail.com
END:VEVENT
BEGIN:VEVENT
DTSTART;TZID=America/New_York:20230415T110000
DTEND;TZID=America/New_York:20230415T230000
DTSTAMP:20260425T201959
CREATED:20230412T123322Z
LAST-MODIFIED:20230412T123322Z
UID:18213-1681556400-1681599600@864foodtrucks.com
SUMMARY:Yum Bai @ Spartanburg Buddhist Center of SC
DESCRIPTION:Asian fusion street food
URL:https://864foodtrucks.com/event/yum-bai-spartanburg-buddhist-center-of-sc/2023-04-15/
LOCATION:Spartanburg Buddhist Center of SC\, 770 Bryant Rd\, Spartanburg\, South Carolina
CATEGORIES:Boiling Springs,Food Truck Schedules
ATTACH;FMTTYPE=image/jpeg:https://864foodtrucks.com/wp-content/uploads/2021/05/Yum-Bai.jpg
ORGANIZER;CN="Yum Bai":MAILTO:yumbaisc@gmail.com
GEO:35.009504;-81.9268075
X-APPLE-STRUCTURED-LOCATION;VALUE=URI;X-ADDRESS=Spartanburg Buddhist Center of SC 770 Bryant Rd Spartanburg South Carolina;X-APPLE-RADIUS=500;X-TITLE=770 Bryant Rd:geo:-81.9268075,35.009504
END:VEVENT
BEGIN:VEVENT
DTSTART;TZID=America/New_York:20230318T110000
DTEND;TZID=America/New_York:20230318T170000
DTSTAMP:20260425T201959
CREATED:20230313T224637Z
LAST-MODIFIED:20240610T185126Z
UID:17494-1679137200-1679158800@864foodtrucks.com
SUMMARY:Yum Bai @ Punk Flea Market GVL
DESCRIPTION:Asian fusion street food
URL:https://864foodtrucks.com/event/yum-bai-punk-flea-market-gvl/2023-03-18/
LOCATION:Punk Flea Market GVL\, 119 Beverly Rd\, Greenville\, SC\, United States
CATEGORIES:Food Truck Schedules,Greenville
ATTACH;FMTTYPE=image/jpeg:https://864foodtrucks.com/wp-content/uploads/2021/05/Yum-Bai.jpg
ORGANIZER;CN="Yum Bai":MAILTO:yumbaisc@gmail.com
END:VEVENT
END:VCALENDAR