BEGIN:VCALENDAR
VERSION:2.0
PRODID:-//864 Food Trucks - ECPv6.15.20//NONSGML v1.0//EN
CALSCALE:GREGORIAN
METHOD:PUBLISH
X-WR-CALNAME:864 Food Trucks
X-ORIGINAL-URL:https://864foodtrucks.com
X-WR-CALDESC:Events for 864 Food Trucks
REFRESH-INTERVAL;VALUE=DURATION:PT1H
X-Robots-Tag:noindex
X-PUBLISHED-TTL:PT1H
BEGIN:VTIMEZONE
TZID:America/New_York
BEGIN:DAYLIGHT
TZOFFSETFROM:-0500
TZOFFSETTO:-0400
TZNAME:EDT
DTSTART:20230312T070000
END:DAYLIGHT
BEGIN:STANDARD
TZOFFSETFROM:-0400
TZOFFSETTO:-0500
TZNAME:EST
DTSTART:20231105T060000
END:STANDARD
BEGIN:DAYLIGHT
TZOFFSETFROM:-0500
TZOFFSETTO:-0400
TZNAME:EDT
DTSTART:20240310T070000
END:DAYLIGHT
BEGIN:STANDARD
TZOFFSETFROM:-0400
TZOFFSETTO:-0500
TZNAME:EST
DTSTART:20241103T060000
END:STANDARD
BEGIN:DAYLIGHT
TZOFFSETFROM:-0500
TZOFFSETTO:-0400
TZNAME:EDT
DTSTART:20250309T070000
END:DAYLIGHT
BEGIN:STANDARD
TZOFFSETFROM:-0400
TZOFFSETTO:-0500
TZNAME:EST
DTSTART:20251102T060000
END:STANDARD
END:VTIMEZONE
BEGIN:VEVENT
DTSTART;TZID=America/New_York:20240608T110000
DTEND;TZID=America/New_York:20240608T133000
DTSTAMP:20260424T085936
CREATED:20240602T232818Z
LAST-MODIFIED:20240602T232818Z
UID:28622-1717844400-1717853400@864foodtrucks.com
SUMMARY:Matty's Pattys @ Clemsen Swim Meet
DESCRIPTION:We’re serving the friendliest hamburger this side of the Mississippi! Coming soon to Anderson\, SC
URL:https://864foodtrucks.com/event/mattys-pattys-clemsen-swim-meet/
LOCATION:113 12 Mile Park Rd\, 12 Mile Park Road 113\, Clemson\, South Carolina\, 29631\, United States
CATEGORIES:Clemsen,Food Truck Schedules
ATTACH;FMTTYPE=image/jpeg:https://864foodtrucks.com/wp-content/uploads/2022/10/Mattys-Pattys.jpg
ORGANIZER;CN="Mattys Pattys":MAILTO:thebradfordfoodgroup@gmail.com
GEO:34.7045106;-82.8348732
X-APPLE-STRUCTURED-LOCATION;VALUE=URI;X-ADDRESS=113 12 Mile Park Rd 12 Mile Park Road 113 Clemson South Carolina 29631 United States;X-APPLE-RADIUS=500;X-TITLE=12 Mile Park Road 113:geo:-82.8348732,34.7045106
END:VEVENT
END:VCALENDAR