BEGIN:VCALENDAR
VERSION:2.0
PRODID:-//864 Food Trucks - ECPv6.15.20//NONSGML v1.0//EN
CALSCALE:GREGORIAN
METHOD:PUBLISH
X-WR-CALNAME:864 Food Trucks
X-ORIGINAL-URL:https://864foodtrucks.com
X-WR-CALDESC:Events for 864 Food Trucks
REFRESH-INTERVAL;VALUE=DURATION:PT1H
X-Robots-Tag:noindex
X-PUBLISHED-TTL:PT1H
BEGIN:VTIMEZONE
TZID:America/New_York
BEGIN:DAYLIGHT
TZOFFSETFROM:-0500
TZOFFSETTO:-0400
TZNAME:EDT
DTSTART:20220313T070000
END:DAYLIGHT
BEGIN:STANDARD
TZOFFSETFROM:-0400
TZOFFSETTO:-0500
TZNAME:EST
DTSTART:20221106T060000
END:STANDARD
BEGIN:DAYLIGHT
TZOFFSETFROM:-0500
TZOFFSETTO:-0400
TZNAME:EDT
DTSTART:20230312T070000
END:DAYLIGHT
BEGIN:STANDARD
TZOFFSETFROM:-0400
TZOFFSETTO:-0500
TZNAME:EST
DTSTART:20231105T060000
END:STANDARD
BEGIN:DAYLIGHT
TZOFFSETFROM:-0500
TZOFFSETTO:-0400
TZNAME:EDT
DTSTART:20240310T070000
END:DAYLIGHT
BEGIN:STANDARD
TZOFFSETFROM:-0400
TZOFFSETTO:-0500
TZNAME:EST
DTSTART:20241103T060000
END:STANDARD
BEGIN:DAYLIGHT
TZOFFSETFROM:-0500
TZOFFSETTO:-0400
TZNAME:EDT
DTSTART:20250309T070000
END:DAYLIGHT
BEGIN:STANDARD
TZOFFSETFROM:-0400
TZOFFSETTO:-0500
TZNAME:EST
DTSTART:20251102T060000
END:STANDARD
END:VTIMEZONE
BEGIN:VEVENT
DTSTART;TZID=America/New_York:20240205T090000
DTEND;TZID=America/New_York:20240205T130000
DTSTAMP:20260425T202627
CREATED:20240205T001548Z
LAST-MODIFIED:20240219T135339Z
UID:25662-1707123600-1707138000@864foodtrucks.com
SUMMARY:Little Leaf Coffee @ 35 East Lee Rd
DESCRIPTION:
URL:https://864foodtrucks.com/event/little-leaf-coffee-35-east-lee-rd-2/2024-02-05/
LOCATION:35 East Lee Rd\, 35 East Lee Rd\, Taylors\, SC\, United States
CATEGORIES:Food Truck Schedules,Taylors
ATTACH;FMTTYPE=image/jpeg:https://864foodtrucks.com/wp-content/uploads/2023/06/Little-Leaf-Coffee.jpg
ORGANIZER;CN="Little Leaf Coffee":MAILTO:Littleleafcoffee@gmail.com
END:VEVENT
BEGIN:VEVENT
DTSTART;TZID=America/New_York:20230808T080000
DTEND;TZID=America/New_York:20230808T200000
DTSTAMP:20260425T202627
CREATED:20230807T145938Z
LAST-MODIFIED:20240205T001310Z
UID:21847-1691481600-1691524800@864foodtrucks.com
SUMMARY:Little Leaf Coffee @ 35 East Lee Rd
DESCRIPTION:Mobile coffee truck in Greenville SC.
URL:https://864foodtrucks.com/event/little-leaf-coffee-35-east-lee-rd/2023-08-08/
LOCATION:35 East Lee Rd\, 35 East Lee Rd\, Taylors\, SC\, United States
CATEGORIES:Food Truck Schedules,Taylors
ATTACH;FMTTYPE=image/jpeg:https://864foodtrucks.com/wp-content/uploads/2023/06/Little-Leaf-Coffee.jpg
ORGANIZER;CN="Little Leaf Coffee":MAILTO:Littleleafcoffee@gmail.com
END:VEVENT
BEGIN:VEVENT
DTSTART;TZID=America/New_York:20230611T080000
DTEND;TZID=America/New_York:20230611T170000
DTSTAMP:20260425T202627
CREATED:20230611T193700Z
LAST-MODIFIED:20230925T125616Z
UID:19585-1686470400-1686502800@864foodtrucks.com
SUMMARY:Little Leaf Coffee @ East Lee Rd
DESCRIPTION:Mobile coffee truck in Greenville SC.
URL:https://864foodtrucks.com/event/little-leaf-coffee-east-lee-rd/2023-06-11/
LOCATION:35 East Lee Rd\, 35 East Lee Rd\, Taylors\, SC\, United States
CATEGORIES:Food Truck Schedules,Taylors
ATTACH;FMTTYPE=image/jpeg:https://864foodtrucks.com/wp-content/uploads/2023/06/Little-Leaf-Coffee-1.jpg
ORGANIZER;CN="Little Leaf Coffee":MAILTO:Littleleafcoffee@gmail.com
END:VEVENT
END:VCALENDAR