BEGIN:VCALENDAR
VERSION:2.0
PRODID:-//864 Food Trucks - ECPv6.15.20//NONSGML v1.0//EN
CALSCALE:GREGORIAN
METHOD:PUBLISH
X-ORIGINAL-URL:https://864foodtrucks.com
X-WR-CALDESC:Events for 864 Food Trucks
REFRESH-INTERVAL;VALUE=DURATION:PT1H
X-Robots-Tag:noindex
X-PUBLISHED-TTL:PT1H
BEGIN:VTIMEZONE
TZID:America/New_York
BEGIN:DAYLIGHT
TZOFFSETFROM:-0500
TZOFFSETTO:-0400
TZNAME:EDT
DTSTART:20230312T070000
END:DAYLIGHT
BEGIN:STANDARD
TZOFFSETFROM:-0400
TZOFFSETTO:-0500
TZNAME:EST
DTSTART:20231105T060000
END:STANDARD
BEGIN:DAYLIGHT
TZOFFSETFROM:-0500
TZOFFSETTO:-0400
TZNAME:EDT
DTSTART:20240310T070000
END:DAYLIGHT
BEGIN:STANDARD
TZOFFSETFROM:-0400
TZOFFSETTO:-0500
TZNAME:EST
DTSTART:20241103T060000
END:STANDARD
BEGIN:DAYLIGHT
TZOFFSETFROM:-0500
TZOFFSETTO:-0400
TZNAME:EDT
DTSTART:20250309T070000
END:DAYLIGHT
BEGIN:STANDARD
TZOFFSETFROM:-0400
TZOFFSETTO:-0500
TZNAME:EST
DTSTART:20251102T060000
END:STANDARD
END:VTIMEZONE
BEGIN:VEVENT
DTSTART;TZID=America/New_York:20240302T110000
DTEND;TZID=America/New_York:20240302T160000
DTSTAMP:20260425T195853
CREATED:20240226T191626Z
LAST-MODIFIED:20240226T191626Z
UID:26359-1709377200-1709395200@864foodtrucks.com
SUMMARY:Little Leaf Coffee @ Augusta Rd
DESCRIPTION:
URL:https://864foodtrucks.com/event/little-leaf-coffee-augusta-rd/
LOCATION:3510 Augusta Rd\, Augusta Road 3510\, Greenville\, South Carolina\, 29605\, United States
CATEGORIES:Food Truck Schedules,Greenville
ATTACH;FMTTYPE=image/jpeg:https://864foodtrucks.com/wp-content/uploads/2023/06/Little-Leaf-Coffee-1.jpg
ORGANIZER;CN="Little Leaf Coffee":MAILTO:Littleleafcoffee@gmail.com
GEO:34.8020509;-82.380205
X-APPLE-STRUCTURED-LOCATION;VALUE=URI;X-ADDRESS=3510 Augusta Rd Augusta Road 3510 Greenville South Carolina 29605 United States;X-APPLE-RADIUS=500;X-TITLE=Augusta Road 3510:geo:-82.380205,34.8020509
END:VEVENT
END:VCALENDAR