BEGIN:VCALENDAR
VERSION:2.0
PRODID:-//864 Food Trucks - ECPv6.15.20//NONSGML v1.0//EN
CALSCALE:GREGORIAN
METHOD:PUBLISH
X-ORIGINAL-URL:https://864foodtrucks.com
X-WR-CALDESC:Events for 864 Food Trucks
REFRESH-INTERVAL;VALUE=DURATION:PT1H
X-Robots-Tag:noindex
X-PUBLISHED-TTL:PT1H
BEGIN:VTIMEZONE
TZID:America/New_York
BEGIN:DAYLIGHT
TZOFFSETFROM:-0500
TZOFFSETTO:-0400
TZNAME:EDT
DTSTART:20220313T070000
END:DAYLIGHT
BEGIN:STANDARD
TZOFFSETFROM:-0400
TZOFFSETTO:-0500
TZNAME:EST
DTSTART:20221106T060000
END:STANDARD
BEGIN:DAYLIGHT
TZOFFSETFROM:-0500
TZOFFSETTO:-0400
TZNAME:EDT
DTSTART:20230312T070000
END:DAYLIGHT
BEGIN:STANDARD
TZOFFSETFROM:-0400
TZOFFSETTO:-0500
TZNAME:EST
DTSTART:20231105T060000
END:STANDARD
BEGIN:DAYLIGHT
TZOFFSETFROM:-0500
TZOFFSETTO:-0400
TZNAME:EDT
DTSTART:20240310T070000
END:DAYLIGHT
BEGIN:STANDARD
TZOFFSETFROM:-0400
TZOFFSETTO:-0500
TZNAME:EST
DTSTART:20241103T060000
END:STANDARD
END:VTIMEZONE
BEGIN:VEVENT
DTSTART;TZID=America/New_York:20230527T140000
DTEND;TZID=America/New_York:20230527T200000
DTSTAMP:20260425T115047
CREATED:20230522T103623Z
LAST-MODIFIED:20231023T122652Z
UID:19113-1685196000-1685217600@864foodtrucks.com
SUMMARY:Nom Sense @ 7 Clans
DESCRIPTION:Serving Greek and Mediterranean Food to WNC and Upper SC!
URL:https://864foodtrucks.com/event/nom-sense-7-clans/2023-05-27/
LOCATION:7 Clans Brewing\, 66 Sweeten Creek Rd\, Asheville\, NC\, United States
CATEGORIES:Asheville,Food Truck Schedules
ATTACH;FMTTYPE=image/jpeg:https://864foodtrucks.com/wp-content/uploads/2023/02/Nom-Sense.jpg
ORGANIZER;CN="Nom Sense NC":MAILTO:admin@naansensenc.com
END:VEVENT
BEGIN:VEVENT
DTSTART;TZID=America/New_York:20230318T140000
DTEND;TZID=America/New_York:20230318T200000
DTSTAMP:20260425T115047
CREATED:20230315T000903Z
LAST-MODIFIED:20230613T001833Z
UID:17564-1679148000-1679169600@864foodtrucks.com
SUMMARY:Nom Sense NC @ 7 Clans Brewing
DESCRIPTION:
URL:https://864foodtrucks.com/event/nom-sense-nc-7-clans-brewing/2023-03-18/
LOCATION:7 Clans Brewing\, 66 Sweeten Creek Rd\, Asheville\, NC\, United States
CATEGORIES:Asheville,Food Truck Schedules
ATTACH;FMTTYPE=image/jpeg:https://864foodtrucks.com/wp-content/uploads/2023/02/Nom-Sense.jpg
ORGANIZER;CN="Nom Sense NC":MAILTO:admin@naansensenc.com
END:VEVENT
END:VCALENDAR