BEGIN:VCALENDAR
VERSION:2.0
PRODID:-//864 Food Trucks - ECPv6.15.20//NONSGML v1.0//EN
CALSCALE:GREGORIAN
METHOD:PUBLISH
X-WR-CALNAME:864 Food Trucks
X-ORIGINAL-URL:https://864foodtrucks.com
X-WR-CALDESC:Events for 864 Food Trucks
REFRESH-INTERVAL;VALUE=DURATION:PT1H
X-Robots-Tag:noindex
X-PUBLISHED-TTL:PT1H
BEGIN:VTIMEZONE
TZID:America/New_York
BEGIN:DAYLIGHT
TZOFFSETFROM:-0500
TZOFFSETTO:-0400
TZNAME:EDT
DTSTART:20220313T070000
END:DAYLIGHT
BEGIN:STANDARD
TZOFFSETFROM:-0400
TZOFFSETTO:-0500
TZNAME:EST
DTSTART:20221106T060000
END:STANDARD
BEGIN:DAYLIGHT
TZOFFSETFROM:-0500
TZOFFSETTO:-0400
TZNAME:EDT
DTSTART:20230312T070000
END:DAYLIGHT
BEGIN:STANDARD
TZOFFSETFROM:-0400
TZOFFSETTO:-0500
TZNAME:EST
DTSTART:20231105T060000
END:STANDARD
BEGIN:DAYLIGHT
TZOFFSETFROM:-0500
TZOFFSETTO:-0400
TZNAME:EDT
DTSTART:20240310T070000
END:DAYLIGHT
BEGIN:STANDARD
TZOFFSETFROM:-0400
TZOFFSETTO:-0500
TZNAME:EST
DTSTART:20241103T060000
END:STANDARD
BEGIN:DAYLIGHT
TZOFFSETFROM:-0500
TZOFFSETTO:-0400
TZNAME:EDT
DTSTART:20250309T070000
END:DAYLIGHT
BEGIN:STANDARD
TZOFFSETFROM:-0400
TZOFFSETTO:-0500
TZNAME:EST
DTSTART:20251102T060000
END:STANDARD
BEGIN:DAYLIGHT
TZOFFSETFROM:-0500
TZOFFSETTO:-0400
TZNAME:EDT
DTSTART:20260308T070000
END:DAYLIGHT
BEGIN:STANDARD
TZOFFSETFROM:-0400
TZOFFSETTO:-0500
TZNAME:EST
DTSTART:20261101T060000
END:STANDARD
BEGIN:DAYLIGHT
TZOFFSETFROM:-0500
TZOFFSETTO:-0400
TZNAME:EDT
DTSTART:20270314T070000
END:DAYLIGHT
BEGIN:STANDARD
TZOFFSETFROM:-0400
TZOFFSETTO:-0500
TZNAME:EST
DTSTART:20271107T060000
END:STANDARD
END:VTIMEZONE
BEGIN:VEVENT
DTSTART;TZID=America/New_York:20260322T120000
DTEND;TZID=America/New_York:20260322T170000
DTSTAMP:20260424T085024
CREATED:20251211T171433Z
LAST-MODIFIED:20251211T171433Z
UID:60731-1774180800-1774198800@864foodtrucks.com
SUMMARY:Dos Bros @ Adidas Store
DESCRIPTION:
URL:https://864foodtrucks.com/event/dos-bros-adidas-store/2026-03-22/
LOCATION:Adidas Store\, 10 Quest Lane\, Greenville\, SC\, 29605\, United States
CATEGORIES:Food Truck Schedules,Greenville
ATTACH;FMTTYPE=image/jpeg:https://864foodtrucks.com/wp-content/uploads/2021/10/Dos-Bros-Tacos-Truck.jpg
ORGANIZER;CN="Dos Bros Tacos 864":MAILTO:jesusi86@yahoo.com
GEO:34.7906809;-82.4091423
X-APPLE-STRUCTURED-LOCATION;VALUE=URI;X-ADDRESS=Adidas Store 10 Quest Lane Greenville SC 29605 United States;X-APPLE-RADIUS=500;X-TITLE=10 Quest Lane:geo:-82.4091423,34.7906809
END:VEVENT
BEGIN:VEVENT
DTSTART;TZID=America/New_York:20260322T120000
DTEND;TZID=America/New_York:20260322T170000
DTSTAMP:20260424T085024
CREATED:20241125T221754Z
LAST-MODIFIED:20241125T221754Z
UID:60810-1774180800-1774198800@864foodtrucks.com
SUMMARY:Churro Masters @ Adidas Employee Store
DESCRIPTION:Food truck serving the Best Lobster Rolls & Stuffed Avocados in the Carolinas
URL:https://864foodtrucks.com/event/churro-masters-adidas-employee-store/2026-03-22/
LOCATION:Adidas Store\, 10 Quest Lane\, Greenville\, SC\, 29605\, United States
CATEGORIES:Food Truck Schedules,Greenville
ATTACH;FMTTYPE=image/jpeg:https://864foodtrucks.com/wp-content/uploads/2023/05/Churro-Masters-1.jpg
ORGANIZER;CN="Churro Masters":MAILTO:Churromastersemail@gmail.com
GEO:34.7906809;-82.4091423
X-APPLE-STRUCTURED-LOCATION;VALUE=URI;X-ADDRESS=Adidas Store 10 Quest Lane Greenville SC 29605 United States;X-APPLE-RADIUS=500;X-TITLE=10 Quest Lane:geo:-82.4091423,34.7906809
END:VEVENT
BEGIN:VEVENT
DTSTART;TZID=America/New_York:20260321T120000
DTEND;TZID=America/New_York:20260321T170000
DTSTAMP:20260424T085024
CREATED:20251211T171433Z
LAST-MODIFIED:20251211T171433Z
UID:60730-1774094400-1774112400@864foodtrucks.com
SUMMARY:Dos Bros @ Adidas Store
DESCRIPTION:
URL:https://864foodtrucks.com/event/dos-bros-adidas-store/2026-03-21/
LOCATION:Adidas Store\, 10 Quest Lane\, Greenville\, SC\, 29605\, United States
CATEGORIES:Food Truck Schedules,Greenville
ATTACH;FMTTYPE=image/jpeg:https://864foodtrucks.com/wp-content/uploads/2021/10/Dos-Bros-Tacos-Truck.jpg
ORGANIZER;CN="Dos Bros Tacos 864":MAILTO:jesusi86@yahoo.com
GEO:34.7906809;-82.4091423
X-APPLE-STRUCTURED-LOCATION;VALUE=URI;X-ADDRESS=Adidas Store 10 Quest Lane Greenville SC 29605 United States;X-APPLE-RADIUS=500;X-TITLE=10 Quest Lane:geo:-82.4091423,34.7906809
END:VEVENT
BEGIN:VEVENT
DTSTART;TZID=America/New_York:20260320T120000
DTEND;TZID=America/New_York:20260320T170000
DTSTAMP:20260424T085024
CREATED:20251211T171433Z
LAST-MODIFIED:20251211T171433Z
UID:60729-1774008000-1774026000@864foodtrucks.com
SUMMARY:Dos Bros @ Adidas Store
DESCRIPTION:
URL:https://864foodtrucks.com/event/dos-bros-adidas-store/2026-03-20/
LOCATION:Adidas Store\, 10 Quest Lane\, Greenville\, SC\, 29605\, United States
CATEGORIES:Food Truck Schedules,Greenville
ATTACH;FMTTYPE=image/jpeg:https://864foodtrucks.com/wp-content/uploads/2021/10/Dos-Bros-Tacos-Truck.jpg
ORGANIZER;CN="Dos Bros Tacos 864":MAILTO:jesusi86@yahoo.com
GEO:34.7906809;-82.4091423
X-APPLE-STRUCTURED-LOCATION;VALUE=URI;X-ADDRESS=Adidas Store 10 Quest Lane Greenville SC 29605 United States;X-APPLE-RADIUS=500;X-TITLE=10 Quest Lane:geo:-82.4091423,34.7906809
END:VEVENT
BEGIN:VEVENT
DTSTART;TZID=America/New_York:20251227T120000
DTEND;TZID=America/New_York:20251227T170000
DTSTAMP:20260424T085024
CREATED:20251223T192629Z
LAST-MODIFIED:20251223T192629Z
UID:58149-1766836800-1766854800@864foodtrucks.com
SUMMARY:Lai Sushi Express @ Adidas Employee Store
DESCRIPTION:Roll into flavor at our food truck! Serving fresh\, hand-crafted sushi and bold Asian (Lai) fusion!
URL:https://864foodtrucks.com/event/lai-sushi-express-adidas-employee-store/
LOCATION:Adidas Store\, 10 Quest Lane\, Greenville\, SC\, 29605\, United States
CATEGORIES:Food Truck Schedules,Greenville
ATTACH;FMTTYPE=image/jpeg:https://864foodtrucks.com/wp-content/uploads/2025/04/Lai-Sushi-Express.jpg
ORGANIZER;CN="Lai Sushi Express":MAILTO:Laisushiexpress@gmail.com
GEO:34.7906809;-82.4091423
X-APPLE-STRUCTURED-LOCATION;VALUE=URI;X-ADDRESS=Adidas Store 10 Quest Lane Greenville SC 29605 United States;X-APPLE-RADIUS=500;X-TITLE=10 Quest Lane:geo:-82.4091423,34.7906809
END:VEVENT
BEGIN:VEVENT
DTSTART;TZID=America/New_York:20251221T120000
DTEND;TZID=America/New_York:20251221T170000
DTSTAMP:20260424T085024
CREATED:20241125T221754Z
LAST-MODIFIED:20260318T182713Z
UID:57777-1766318400-1766336400@864foodtrucks.com
SUMMARY:Churro Masters @ Adidas Employee Store
DESCRIPTION:Food truck serving the Best Lobster Rolls & Stuffed Avocados in the Carolinas
URL:https://864foodtrucks.com/event/churro-masters-adidas-employee-store/2025-12-21/
LOCATION:Adidas Store\, 10 Quest Lane\, Greenville\, SC\, 29605\, United States
CATEGORIES:Food Truck Schedules,Greenville
ATTACH;FMTTYPE=image/jpeg:https://864foodtrucks.com/wp-content/uploads/2023/05/Churro-Masters-1.jpg
ORGANIZER;CN="Churro Masters":MAILTO:Churromastersemail@gmail.com
GEO:34.7906809;-82.4091423
X-APPLE-STRUCTURED-LOCATION;VALUE=URI;X-ADDRESS=Adidas Store 10 Quest Lane Greenville SC 29605 United States;X-APPLE-RADIUS=500;X-TITLE=10 Quest Lane:geo:-82.4091423,34.7906809
END:VEVENT
BEGIN:VEVENT
DTSTART;TZID=America/New_York:20251213T120000
DTEND;TZID=America/New_York:20251213T170000
DTSTAMP:20260424T085024
CREATED:20251211T171433Z
LAST-MODIFIED:20260316T204019Z
UID:57611-1765627200-1765645200@864foodtrucks.com
SUMMARY:Dos Bros @ Adidas Store
DESCRIPTION:
URL:https://864foodtrucks.com/event/dos-bros-adidas-store/2025-12-13/
LOCATION:Adidas Store\, 10 Quest Lane\, Greenville\, SC\, 29605\, United States
CATEGORIES:Food Truck Schedules,Greenville
ATTACH;FMTTYPE=image/jpeg:https://864foodtrucks.com/wp-content/uploads/2021/10/Dos-Bros-Tacos-Truck.jpg
ORGANIZER;CN="Dos Bros Tacos 864":MAILTO:jesusi86@yahoo.com
GEO:34.7906809;-82.4091423
X-APPLE-STRUCTURED-LOCATION;VALUE=URI;X-ADDRESS=Adidas Store 10 Quest Lane Greenville SC 29605 United States;X-APPLE-RADIUS=500;X-TITLE=10 Quest Lane:geo:-82.4091423,34.7906809
END:VEVENT
BEGIN:VEVENT
DTSTART;TZID=America/New_York:20251130T120000
DTEND;TZID=America/New_York:20251130T170000
DTSTAMP:20260424T085024
CREATED:20241125T221754Z
LAST-MODIFIED:20260318T182711Z
UID:56644-1764504000-1764522000@864foodtrucks.com
SUMMARY:Churro Masters @ Adidas Employee Store
DESCRIPTION:Food truck serving the Best Lobster Rolls & Stuffed Avocados in the Carolinas
URL:https://864foodtrucks.com/event/churro-masters-adidas-employee-store/2025-11-30/
LOCATION:Adidas Store\, 10 Quest Lane\, Greenville\, SC\, 29605\, United States
CATEGORIES:Food Truck Schedules,Greenville
ATTACH;FMTTYPE=image/jpeg:https://864foodtrucks.com/wp-content/uploads/2023/05/Churro-Masters-1.jpg
ORGANIZER;CN="Churro Masters":MAILTO:Churromastersemail@gmail.com
GEO:34.7906809;-82.4091423
X-APPLE-STRUCTURED-LOCATION;VALUE=URI;X-ADDRESS=Adidas Store 10 Quest Lane Greenville SC 29605 United States;X-APPLE-RADIUS=500;X-TITLE=10 Quest Lane:geo:-82.4091423,34.7906809
END:VEVENT
BEGIN:VEVENT
DTSTART;TZID=America/New_York:20250801T110000
DTEND;TZID=America/New_York:20250801T140000
DTSTAMP:20260424T085024
CREATED:20250730T205436Z
LAST-MODIFIED:20250730T205917Z
UID:51447-1754046000-1754056800@864foodtrucks.com
SUMMARY:Fuel Foods @ Adidas Store
DESCRIPTION:Fuel Foods – Food Truck & Catering\nClean\, Unique & Delicious!\nLocated in Clemson & Upstate\, SC 📍\nBook Us for Events! Contact for More Info!
URL:https://864foodtrucks.com/event/fuel-foods-adidas-store/
LOCATION:Adidas Store\, 10 Quest Lane\, Greenville\, SC\, 29605\, United States
CATEGORIES:Food Truck Schedules,Greenville
ATTACH;FMTTYPE=image/png:https://864foodtrucks.com/wp-content/uploads/2025/03/Fuel-Foods-.png
ORGANIZER;CN="Fuel Foods Food Truck":MAILTO:fuelfoods.truck@gmail.com
GEO:34.7906809;-82.4091423
X-APPLE-STRUCTURED-LOCATION;VALUE=URI;X-ADDRESS=Adidas Store 10 Quest Lane Greenville SC 29605 United States;X-APPLE-RADIUS=500;X-TITLE=10 Quest Lane:geo:-82.4091423,34.7906809
END:VEVENT
BEGIN:VEVENT
DTSTART;TZID=America/New_York:20241130T110000
DTEND;TZID=America/New_York:20241130T160000
DTSTAMP:20260424T085024
CREATED:20241125T191537Z
LAST-MODIFIED:20241125T191537Z
UID:40046-1732964400-1732982400@864foodtrucks.com
SUMMARY:Spinx Cluk Truk @ Holiday Shopping Weekend
DESCRIPTION:Your favorite southern fried chicken is hitting the road—and it’s going to be legendary. Our community comes first\, and we want to share that tender love by bringing our homegrown menu to you. The Cluk Truk is coming Fall 2020 to the Upstate!
URL:https://864foodtrucks.com/event/spinx-cluk-truk-holiday-shopping-weekend/
LOCATION:Adidas Store\, 10 Quest Lane\, Greenville\, SC\, 29605\, United States
CATEGORIES:Food Truck Schedules,Greenville
ATTACH;FMTTYPE=image/jpeg:https://864foodtrucks.com/wp-content/uploads/2021/05/Spinx-Cluk-Truk-Truck.jpg
ORGANIZER;CN="Spinx Cluk Truk":MAILTO:cluktruk@spinxco.com
GEO:34.7906809;-82.4091423
X-APPLE-STRUCTURED-LOCATION;VALUE=URI;X-ADDRESS=Adidas Store 10 Quest Lane Greenville SC 29605 United States;X-APPLE-RADIUS=500;X-TITLE=10 Quest Lane:geo:-82.4091423,34.7906809
END:VEVENT
BEGIN:VEVENT
DTSTART;TZID=America/New_York:20241129T110000
DTEND;TZID=America/New_York:20241129T160000
DTSTAMP:20260424T085024
CREATED:20241125T221754Z
LAST-MODIFIED:20260318T182705Z
UID:40060-1732878000-1732896000@864foodtrucks.com
SUMMARY:Churro Masters @ Adidas Employee Store
DESCRIPTION:Food truck serving the Best Lobster Rolls & Stuffed Avocados in the Carolinas
URL:https://864foodtrucks.com/event/churro-masters-adidas-employee-store/2024-11-29/
LOCATION:Adidas Store\, 10 Quest Lane\, Greenville\, SC\, 29605\, United States
CATEGORIES:Food Truck Schedules,Greenville
ATTACH;FMTTYPE=image/jpeg:https://864foodtrucks.com/wp-content/uploads/2023/05/Churro-Masters-1.jpg
ORGANIZER;CN="Churro Masters":MAILTO:Churromastersemail@gmail.com
GEO:34.7906809;-82.4091423
X-APPLE-STRUCTURED-LOCATION;VALUE=URI;X-ADDRESS=Adidas Store 10 Quest Lane Greenville SC 29605 United States;X-APPLE-RADIUS=500;X-TITLE=10 Quest Lane:geo:-82.4091423,34.7906809
END:VEVENT
BEGIN:VEVENT
DTSTART;TZID=America/New_York:20231118T120000
DTEND;TZID=America/New_York:20231118T170000
DTSTAMP:20260424T085024
CREATED:20231114T184649Z
LAST-MODIFIED:20240729T183416Z
UID:24145-1700308800-1700326800@864foodtrucks.com
SUMMARY:Churro Masters @ Adidas Store
DESCRIPTION:Delicious CHURROS made fresh!
URL:https://864foodtrucks.com/event/churro-masters-adidas-store-2/2023-11-18/
LOCATION:Adidas Store\, 10 Quest Lane\, Greenville\, SC\, 29605\, United States
CATEGORIES:Food Truck Schedules,Greenville
ATTACH;FMTTYPE=image/jpeg:https://864foodtrucks.com/wp-content/uploads/2023/05/Churro-Masters-1.jpg
ORGANIZER;CN="Churro Masters":MAILTO:Churromastersemail@gmail.com
GEO:34.7906809;-82.4091423
X-APPLE-STRUCTURED-LOCATION;VALUE=URI;X-ADDRESS=Adidas Store 10 Quest Lane Greenville SC 29605 United States;X-APPLE-RADIUS=500;X-TITLE=10 Quest Lane:geo:-82.4091423,34.7906809
END:VEVENT
BEGIN:VEVENT
DTSTART;TZID=America/New_York:20230805T110000
DTEND;TZID=America/New_York:20230805T160000
DTSTAMP:20260424T085024
CREATED:20230801T161053Z
LAST-MODIFIED:20230801T161053Z
UID:21734-1691233200-1691251200@864foodtrucks.com
SUMMARY:Churro Masters @ Adidas Store
DESCRIPTION:Delicious CHURROS made fresh!
URL:https://864foodtrucks.com/event/churro-masters-adidas-store/
LOCATION:Adidas Store\, 10 Quest Lane\, Greenville\, SC\, 29605\, United States
CATEGORIES:Food Truck Schedules,Greenville
ATTACH;FMTTYPE=image/jpeg:https://864foodtrucks.com/wp-content/uploads/2023/05/Churro-Masters-1.jpg
ORGANIZER;CN="Churro Masters":MAILTO:Churromastersemail@gmail.com
GEO:34.7906809;-82.4091423
X-APPLE-STRUCTURED-LOCATION;VALUE=URI;X-ADDRESS=Adidas Store 10 Quest Lane Greenville SC 29605 United States;X-APPLE-RADIUS=500;X-TITLE=10 Quest Lane:geo:-82.4091423,34.7906809
END:VEVENT
END:VCALENDAR