BEGIN:VCALENDAR
VERSION:2.0
PRODID:-//864 Food Trucks - ECPv6.15.20//NONSGML v1.0//EN
CALSCALE:GREGORIAN
METHOD:PUBLISH
X-ORIGINAL-URL:https://864foodtrucks.com
X-WR-CALDESC:Events for 864 Food Trucks
REFRESH-INTERVAL;VALUE=DURATION:PT1H
X-Robots-Tag:noindex
X-PUBLISHED-TTL:PT1H
BEGIN:VTIMEZONE
TZID:America/New_York
BEGIN:DAYLIGHT
TZOFFSETFROM:-0500
TZOFFSETTO:-0400
TZNAME:EDT
DTSTART:20220313T070000
END:DAYLIGHT
BEGIN:STANDARD
TZOFFSETFROM:-0400
TZOFFSETTO:-0500
TZNAME:EST
DTSTART:20221106T060000
END:STANDARD
BEGIN:DAYLIGHT
TZOFFSETFROM:-0500
TZOFFSETTO:-0400
TZNAME:EDT
DTSTART:20230312T070000
END:DAYLIGHT
BEGIN:STANDARD
TZOFFSETFROM:-0400
TZOFFSETTO:-0500
TZNAME:EST
DTSTART:20231105T060000
END:STANDARD
BEGIN:DAYLIGHT
TZOFFSETFROM:-0500
TZOFFSETTO:-0400
TZNAME:EDT
DTSTART:20240310T070000
END:DAYLIGHT
BEGIN:STANDARD
TZOFFSETFROM:-0400
TZOFFSETTO:-0500
TZNAME:EST
DTSTART:20241103T060000
END:STANDARD
END:VTIMEZONE
BEGIN:VEVENT
DTSTART;TZID=America/New_York:20231129T160000
DTEND;TZID=America/New_York:20231129T190000
DTSTAMP:20260425T203328
CREATED:20231126T212713Z
LAST-MODIFIED:20241103T153403Z
UID:24285-1701273600-1701284400@864foodtrucks.com
SUMMARY:Lobster Dogs @ Advance Auto Greer
DESCRIPTION:Food truck serving the Best Lobster Rolls & Stuffed Avocados in the Carolinas
URL:https://864foodtrucks.com/event/lobster-dogs-advance-auto-greer-2/2023-11-29/
LOCATION:Advance Auto Greer\, East Wade Hampton Boulevard 14150\, Greer\, South Carolina\, 29651\, United States
CATEGORIES:Food Truck Schedules,Greer
ATTACH;FMTTYPE=image/jpeg:https://864foodtrucks.com/wp-content/uploads/2021/05/lobster-dogs-Food-Truck.jpg
ORGANIZER;CN="Lobster Dogs":MAILTO:lobsterdogs3@gmail.com
GEO:34.9480476;-82.2115546
X-APPLE-STRUCTURED-LOCATION;VALUE=URI;X-ADDRESS=Advance Auto Greer East Wade Hampton Boulevard 14150 Greer South Carolina 29651 United States;X-APPLE-RADIUS=500;X-TITLE=East Wade Hampton Boulevard 14150:geo:-82.2115546,34.9480476
END:VEVENT
BEGIN:VEVENT
DTSTART;TZID=America/New_York:20231104T000000
DTEND;TZID=America/New_York:20231104T000000
DTSTAMP:20260425T203328
CREATED:20231101T120532Z
LAST-MODIFIED:20231101T120532Z
UID:23895-1699056000-1699056000@864foodtrucks.com
SUMMARY:MooHogzBBQ @ Advance Auto Greer
DESCRIPTION:Succulent Brisket\, Spare Ribs\, RibTips\, Turkey Breast and Pulled Pork.
URL:https://864foodtrucks.com/event/moohogzbbq-advance-auto-greer/
LOCATION:Advance Auto Greer\, East Wade Hampton Boulevard 14150\, Greer\, South Carolina\, 29651\, United States
CATEGORIES:Food Truck Schedules,Greer
ATTACH;FMTTYPE=image/jpeg:https://864foodtrucks.com/wp-content/uploads/2023/10/MooHogz.jpg
GEO:34.9480476;-82.2115546
X-APPLE-STRUCTURED-LOCATION;VALUE=URI;X-ADDRESS=Advance Auto Greer East Wade Hampton Boulevard 14150 Greer South Carolina 29651 United States;X-APPLE-RADIUS=500;X-TITLE=East Wade Hampton Boulevard 14150:geo:-82.2115546,34.9480476
END:VEVENT
BEGIN:VEVENT
DTSTART;TZID=America/New_York:20230927T160000
DTEND;TZID=America/New_York:20230927T190000
DTSTAMP:20260425T203328
CREATED:20230924T004510Z
LAST-MODIFIED:20230924T004510Z
UID:23050-1695830400-1695841200@864foodtrucks.com
SUMMARY:Lobster Dogs @ Advance Auto Greer
DESCRIPTION:Food truck serving the Best Lobster Rolls & Stuffed Avocados in the Carolinas
URL:https://864foodtrucks.com/event/lobster-dogs-advance-auto-greer/
LOCATION:Advance Auto Greer\, East Wade Hampton Boulevard 14150\, Greer\, South Carolina\, 29651\, United States
CATEGORIES:Food Truck Schedules,Greer
ATTACH;FMTTYPE=image/jpeg:https://864foodtrucks.com/wp-content/uploads/2021/05/lobster-dogs-Food-Truck.jpg
ORGANIZER;CN="Lobster Dogs":MAILTO:lobsterdogs3@gmail.com
GEO:34.9480476;-82.2115546
X-APPLE-STRUCTURED-LOCATION;VALUE=URI;X-ADDRESS=Advance Auto Greer East Wade Hampton Boulevard 14150 Greer South Carolina 29651 United States;X-APPLE-RADIUS=500;X-TITLE=East Wade Hampton Boulevard 14150:geo:-82.2115546,34.9480476
END:VEVENT
END:VCALENDAR