BEGIN:VCALENDAR
VERSION:2.0
PRODID:-//864 Food Trucks - ECPv6.15.20//NONSGML v1.0//EN
CALSCALE:GREGORIAN
METHOD:PUBLISH
X-ORIGINAL-URL:https://864foodtrucks.com
X-WR-CALDESC:Events for 864 Food Trucks
REFRESH-INTERVAL;VALUE=DURATION:PT1H
X-Robots-Tag:noindex
X-PUBLISHED-TTL:PT1H
BEGIN:VTIMEZONE
TZID:America/New_York
BEGIN:DAYLIGHT
TZOFFSETFROM:-0500
TZOFFSETTO:-0400
TZNAME:EDT
DTSTART:20250309T070000
END:DAYLIGHT
BEGIN:STANDARD
TZOFFSETFROM:-0400
TZOFFSETTO:-0500
TZNAME:EST
DTSTART:20251102T060000
END:STANDARD
BEGIN:DAYLIGHT
TZOFFSETFROM:-0500
TZOFFSETTO:-0400
TZNAME:EDT
DTSTART:20260308T070000
END:DAYLIGHT
BEGIN:STANDARD
TZOFFSETFROM:-0400
TZOFFSETTO:-0500
TZNAME:EST
DTSTART:20261101T060000
END:STANDARD
BEGIN:DAYLIGHT
TZOFFSETFROM:-0500
TZOFFSETTO:-0400
TZNAME:EDT
DTSTART:20270314T070000
END:DAYLIGHT
BEGIN:STANDARD
TZOFFSETFROM:-0400
TZOFFSETTO:-0500
TZNAME:EST
DTSTART:20271107T060000
END:STANDARD
END:VTIMEZONE
BEGIN:VEVENT
DTSTART;TZID=America/New_York:20260214T000000
DTEND;TZID=America/New_York:20260214T000000
DTSTAMP:20260424T035848
CREATED:20260126T184830Z
LAST-MODIFIED:20260126T184830Z
UID:59600-1771027200-1771027200@864foodtrucks.com
SUMMARY:Uncle Luke's @ Advance Auto Taylors
DESCRIPTION:Uncle Lukes LLC\nNamed after my Father\nBook for Job worksite’s Corporate lunches\, Churches\, Festivals\, Apartments buildings.
URL:https://864foodtrucks.com/event/uncle-lukes-advance-auto-taylors/2026-02-14/
LOCATION:Advance Auto Taylors\, 3033 Wade Hampton Blvd\, Taylors\, United States
CATEGORIES:Food Truck Schedules,Taylors
ATTACH;FMTTYPE=image/jpeg:https://864foodtrucks.com/wp-content/uploads/2025/12/Uncle-Lukes.jpg
ORGANIZER;CN="Uncle Luke's":MAILTO:j.diggs864@gmail.com
GEO:34.9090064;-82.3293774
X-APPLE-STRUCTURED-LOCATION;VALUE=URI;X-ADDRESS=Advance Auto Taylors 3033 Wade Hampton Blvd Taylors United States;X-APPLE-RADIUS=500;X-TITLE=3033 Wade Hampton Blvd:geo:-82.3293774,34.9090064
END:VEVENT
BEGIN:VEVENT
DTSTART;TZID=America/New_York:20260204T130000
DTEND;TZID=America/New_York:20260204T190000
DTSTAMP:20260424T035848
CREATED:20260201T204203Z
LAST-MODIFIED:20260201T204203Z
UID:59326-1770210000-1770231600@864foodtrucks.com
SUMMARY:Uncle Luke's @ Advance Auto
DESCRIPTION:Uncle Lukes LLC\nNamed after my Father\nBook for Job worksite’s Corporate lunches\, Churches\, Festivals\, Apartments buildings.
URL:https://864foodtrucks.com/event/uncle-lukes-advance-auto/
LOCATION:Advance Auto Taylors\, 3033 Wade Hampton Blvd\, Taylors\, United States
CATEGORIES:Food Truck Schedules,Taylors
ATTACH;FMTTYPE=image/jpeg:https://864foodtrucks.com/wp-content/uploads/2025/12/Uncle-Lukes.jpg
ORGANIZER;CN="Uncle Luke's":MAILTO:j.diggs864@gmail.com
GEO:34.9090064;-82.3293774
X-APPLE-STRUCTURED-LOCATION;VALUE=URI;X-ADDRESS=Advance Auto Taylors 3033 Wade Hampton Blvd Taylors United States;X-APPLE-RADIUS=500;X-TITLE=3033 Wade Hampton Blvd:geo:-82.3293774,34.9090064
END:VEVENT
BEGIN:VEVENT
DTSTART;TZID=America/New_York:20260128T000000
DTEND;TZID=America/New_York:20260128T000000
DTSTAMP:20260424T035848
CREATED:20260126T184830Z
LAST-MODIFIED:20260209T235319Z
UID:59175-1769558400-1769558400@864foodtrucks.com
SUMMARY:Uncle Luke's @ Advance Auto Taylors
DESCRIPTION:Uncle Lukes LLC\nNamed after my Father\nBook for Job worksite’s Corporate lunches\, Churches\, Festivals\, Apartments buildings.
URL:https://864foodtrucks.com/event/uncle-lukes-advance-auto-taylors/2026-01-28/
LOCATION:Advance Auto Taylors\, 3033 Wade Hampton Blvd\, Taylors\, United States
CATEGORIES:Food Truck Schedules,Taylors
ATTACH;FMTTYPE=image/jpeg:https://864foodtrucks.com/wp-content/uploads/2025/12/Uncle-Lukes.jpg
ORGANIZER;CN="Uncle Luke's":MAILTO:j.diggs864@gmail.com
GEO:34.9090064;-82.3293774
X-APPLE-STRUCTURED-LOCATION;VALUE=URI;X-ADDRESS=Advance Auto Taylors 3033 Wade Hampton Blvd Taylors United States;X-APPLE-RADIUS=500;X-TITLE=3033 Wade Hampton Blvd:geo:-82.3293774,34.9090064
END:VEVENT
END:VCALENDAR