BEGIN:VCALENDAR
VERSION:2.0
PRODID:-//864 Food Trucks - ECPv6.15.20//NONSGML v1.0//EN
CALSCALE:GREGORIAN
METHOD:PUBLISH
X-WR-CALNAME:864 Food Trucks
X-ORIGINAL-URL:https://864foodtrucks.com
X-WR-CALDESC:Events for 864 Food Trucks
REFRESH-INTERVAL;VALUE=DURATION:PT1H
X-Robots-Tag:noindex
X-PUBLISHED-TTL:PT1H
BEGIN:VTIMEZONE
TZID:America/New_York
BEGIN:DAYLIGHT
TZOFFSETFROM:-0500
TZOFFSETTO:-0400
TZNAME:EDT
DTSTART:20210314T070000
END:DAYLIGHT
BEGIN:STANDARD
TZOFFSETFROM:-0400
TZOFFSETTO:-0500
TZNAME:EST
DTSTART:20211107T060000
END:STANDARD
BEGIN:DAYLIGHT
TZOFFSETFROM:-0500
TZOFFSETTO:-0400
TZNAME:EDT
DTSTART:20220313T070000
END:DAYLIGHT
BEGIN:STANDARD
TZOFFSETFROM:-0400
TZOFFSETTO:-0500
TZNAME:EST
DTSTART:20221106T060000
END:STANDARD
BEGIN:DAYLIGHT
TZOFFSETFROM:-0500
TZOFFSETTO:-0400
TZNAME:EDT
DTSTART:20230312T070000
END:DAYLIGHT
BEGIN:STANDARD
TZOFFSETFROM:-0400
TZOFFSETTO:-0500
TZNAME:EST
DTSTART:20231105T060000
END:STANDARD
BEGIN:DAYLIGHT
TZOFFSETFROM:-0500
TZOFFSETTO:-0400
TZNAME:EDT
DTSTART:20240310T070000
END:DAYLIGHT
BEGIN:STANDARD
TZOFFSETFROM:-0400
TZOFFSETTO:-0500
TZNAME:EST
DTSTART:20241103T060000
END:STANDARD
BEGIN:DAYLIGHT
TZOFFSETFROM:-0500
TZOFFSETTO:-0400
TZNAME:EDT
DTSTART:20250309T070000
END:DAYLIGHT
BEGIN:STANDARD
TZOFFSETFROM:-0400
TZOFFSETTO:-0500
TZNAME:EST
DTSTART:20251102T060000
END:STANDARD
BEGIN:DAYLIGHT
TZOFFSETFROM:-0500
TZOFFSETTO:-0400
TZNAME:EDT
DTSTART:20260308T070000
END:DAYLIGHT
BEGIN:STANDARD
TZOFFSETFROM:-0400
TZOFFSETTO:-0500
TZNAME:EST
DTSTART:20261101T060000
END:STANDARD
END:VTIMEZONE
BEGIN:VEVENT
DTSTART;TZID=America/New_York:20250612T180000
DTEND;TZID=America/New_York:20250612T210000
DTSTAMP:20260425T185845
CREATED:20250610T002353Z
LAST-MODIFIED:20250610T002353Z
UID:47659-1749751200-1749762000@864foodtrucks.com
SUMMARY:Spinx Cluk Truk @ Anderson Area YMCA
DESCRIPTION:Your favorite southern fried chicken is hitting the road—and it’s going to be legendary. Our community comes first\, and we want to share that tender love by bringing our homegrown menu to you. The Cluk Truk is coming Fall 2020 to the Upstate!
URL:https://864foodtrucks.com/event/spinx-cluk-truk-anderson-area-ymca/
LOCATION:Anderson YMCA\, 201 East Reed Road\, Anderson\, South Carolina
CATEGORIES:Anderson,Food Truck Schedules
ATTACH;FMTTYPE=image/jpeg:https://864foodtrucks.com/wp-content/uploads/2021/05/Spinx-Cluk-Truk-Truck.jpg
ORGANIZER;CN="Spinx Cluk Truk":MAILTO:cluktruk@spinxco.com
GEO:34.5420309;-82.626228
X-APPLE-STRUCTURED-LOCATION;VALUE=URI;X-ADDRESS=Anderson YMCA 201 East Reed Road Anderson South Carolina;X-APPLE-RADIUS=500;X-TITLE=201 East Reed Road:geo:-82.626228,34.5420309
END:VEVENT
BEGIN:VEVENT
DTSTART;TZID=America/New_York:20230310T113000
DTEND;TZID=America/New_York:20230310T133000
DTSTAMP:20260425T185845
CREATED:20230305T214102Z
LAST-MODIFIED:20230924T003609Z
UID:17283-1678447800-1678455000@864foodtrucks.com
SUMMARY:Matty's Pattys @ YMCA
DESCRIPTION:We’re serving the friendliest hamburger this side of the Mississippi! Coming soon to Anderson\, SC
URL:https://864foodtrucks.com/event/mattys-pattys-ymca-2/2023-03-10/
LOCATION:Anderson YMCA\, 201 East Reed Road\, Anderson\, South Carolina
CATEGORIES:Anderson,Food Truck Schedules
ATTACH;FMTTYPE=image/jpeg:https://864foodtrucks.com/wp-content/uploads/2022/10/Mattys-Pattys.jpg
ORGANIZER;CN="Mattys Pattys":MAILTO:thebradfordfoodgroup@gmail.com
GEO:34.5420309;-82.626228
X-APPLE-STRUCTURED-LOCATION;VALUE=URI;X-ADDRESS=Anderson YMCA 201 East Reed Road Anderson South Carolina;X-APPLE-RADIUS=500;X-TITLE=201 East Reed Road:geo:-82.626228,34.5420309
END:VEVENT
BEGIN:VEVENT
DTSTART;TZID=America/New_York:20230224T113000
DTEND;TZID=America/New_York:20230224T133000
DTSTAMP:20260425T185845
CREATED:20230220T010425Z
LAST-MODIFIED:20230625T205518Z
UID:16939-1677238200-1677245400@864foodtrucks.com
SUMMARY:Matty's Pattys @ YMCA
DESCRIPTION:We’re serving the friendliest hamburger this side of the Mississippi! Coming soon to Anderson\, SC
URL:https://864foodtrucks.com/event/mattys-pattys-ymca/2023-02-24/
LOCATION:Anderson YMCA\, 201 East Reed Road\, Anderson\, South Carolina
CATEGORIES:Anderson,Food Truck Schedules
ATTACH;FMTTYPE=image/jpeg:https://864foodtrucks.com/wp-content/uploads/2022/10/Mattys-Pattys.jpg
ORGANIZER;CN="Mattys Pattys":MAILTO:thebradfordfoodgroup@gmail.com
GEO:34.5420309;-82.626228
X-APPLE-STRUCTURED-LOCATION;VALUE=URI;X-ADDRESS=Anderson YMCA 201 East Reed Road Anderson South Carolina;X-APPLE-RADIUS=500;X-TITLE=201 East Reed Road:geo:-82.626228,34.5420309
END:VEVENT
BEGIN:VEVENT
DTSTART;TZID=America/New_York:20221118T110000
DTEND;TZID=America/New_York:20221118T130000
DTSTAMP:20260425T185845
CREATED:20221114T173256Z
LAST-MODIFIED:20221211T224515Z
UID:14629-1668769200-1668776400@864foodtrucks.com
SUMMARY:Matty's Pattys @ Anderson Area YMCA
DESCRIPTION:We’re serving the friendliest hamburger this side of the Mississippi! Coming soon to Anderson\, SC
URL:https://864foodtrucks.com/event/mattys-pattys-anderson-area-ymca/2022-11-18/
LOCATION:Anderson YMCA\, 201 East Reed Road\, Anderson\, South Carolina
CATEGORIES:Anderson,Food Truck Schedules
ATTACH;FMTTYPE=image/jpeg:https://864foodtrucks.com/wp-content/uploads/2022/10/Mattys-Pattys.jpg
ORGANIZER;CN="Mattys Pattys":MAILTO:thebradfordfoodgroup@gmail.com
GEO:34.5420309;-82.626228
X-APPLE-STRUCTURED-LOCATION;VALUE=URI;X-ADDRESS=Anderson YMCA 201 East Reed Road Anderson South Carolina;X-APPLE-RADIUS=500;X-TITLE=201 East Reed Road:geo:-82.626228,34.5420309
END:VEVENT
END:VCALENDAR