BEGIN:VCALENDAR
VERSION:2.0
PRODID:-//864 Food Trucks - ECPv6.15.20//NONSGML v1.0//EN
CALSCALE:GREGORIAN
METHOD:PUBLISH
X-ORIGINAL-URL:https://864foodtrucks.com
X-WR-CALDESC:Events for 864 Food Trucks
REFRESH-INTERVAL;VALUE=DURATION:PT1H
X-Robots-Tag:noindex
X-PUBLISHED-TTL:PT1H
BEGIN:VTIMEZONE
TZID:America/New_York
BEGIN:DAYLIGHT
TZOFFSETFROM:-0500
TZOFFSETTO:-0400
TZNAME:EDT
DTSTART:20210314T070000
END:DAYLIGHT
BEGIN:STANDARD
TZOFFSETFROM:-0400
TZOFFSETTO:-0500
TZNAME:EST
DTSTART:20211107T060000
END:STANDARD
BEGIN:DAYLIGHT
TZOFFSETFROM:-0500
TZOFFSETTO:-0400
TZNAME:EDT
DTSTART:20220313T070000
END:DAYLIGHT
BEGIN:STANDARD
TZOFFSETFROM:-0400
TZOFFSETTO:-0500
TZNAME:EST
DTSTART:20221106T060000
END:STANDARD
BEGIN:DAYLIGHT
TZOFFSETFROM:-0500
TZOFFSETTO:-0400
TZNAME:EDT
DTSTART:20230312T070000
END:DAYLIGHT
BEGIN:STANDARD
TZOFFSETFROM:-0400
TZOFFSETTO:-0500
TZNAME:EST
DTSTART:20231105T060000
END:STANDARD
END:VTIMEZONE
BEGIN:VEVENT
DTSTART;TZID=America/New_York:20221203T120000
DTEND;TZID=America/New_York:20221203T180000
DTSTAMP:20260425T115752
CREATED:20221130T194157Z
LAST-MODIFIED:20221130T194157Z
UID:15148-1670068800-1670090400@864foodtrucks.com
SUMMARY:Traveling Taps @ Christmas Market With Evergreen Traditions
DESCRIPTION:We’ve converted two vintage trucks into beer & wine taps! We have a 1960 Ford F100 named “Ole Blue” and a 1953 Chevy 3100 named “Lucky Lass”. We are available for weddings\, neighborhoods or parties!
URL:https://864foodtrucks.com/event/traveling-taps-christmas-market-with-evergreen-traditions/2022-12-03/
LOCATION:Arran Farm\, 820 Lenhardt Rd\, Easley\, SC\, United States
CATEGORIES:Easley,Food Truck Schedules
ATTACH;FMTTYPE=image/jpeg:https://864foodtrucks.com/wp-content/uploads/2022/10/Traveling-Taps-Truck-e1666466690290.jpg
ORGANIZER;CN="Traveling Taps":MAILTO:cmotter@travelingtapssc.com
END:VEVENT
BEGIN:VEVENT
DTSTART;TZID=America/New_York:20221125T120000
DTEND;TZID=America/New_York:20221125T180000
DTSTAMP:20260425T115752
CREATED:20221122T131724Z
LAST-MODIFIED:20221122T131724Z
UID:14945-1669377600-1669399200@864foodtrucks.com
SUMMARY:Yum Bai @ Christmas at the Farm
DESCRIPTION:Asian fusion street food
URL:https://864foodtrucks.com/event/yum-bai-christmas-at-the-farm/
LOCATION:Arran Farm\, 820 Lenhardt Rd\, Easley\, SC\, United States
CATEGORIES:Easley,Food Truck Schedules
ATTACH;FMTTYPE=image/jpeg:https://864foodtrucks.com/wp-content/uploads/2021/05/Yum-Bai.jpg
ORGANIZER;CN="Yum Bai":MAILTO:yumbaisc@gmail.com
END:VEVENT
END:VCALENDAR