BEGIN:VCALENDAR
VERSION:2.0
PRODID:-//864 Food Trucks - ECPv6.15.20//NONSGML v1.0//EN
CALSCALE:GREGORIAN
METHOD:PUBLISH
X-WR-CALNAME:864 Food Trucks
X-ORIGINAL-URL:https://864foodtrucks.com
X-WR-CALDESC:Events for 864 Food Trucks
REFRESH-INTERVAL;VALUE=DURATION:PT1H
X-Robots-Tag:noindex
X-PUBLISHED-TTL:PT1H
BEGIN:VTIMEZONE
TZID:America/New_York
BEGIN:DAYLIGHT
TZOFFSETFROM:-0500
TZOFFSETTO:-0400
TZNAME:EDT
DTSTART:20230312T070000
END:DAYLIGHT
BEGIN:STANDARD
TZOFFSETFROM:-0400
TZOFFSETTO:-0500
TZNAME:EST
DTSTART:20231105T060000
END:STANDARD
BEGIN:DAYLIGHT
TZOFFSETFROM:-0500
TZOFFSETTO:-0400
TZNAME:EDT
DTSTART:20240310T070000
END:DAYLIGHT
BEGIN:STANDARD
TZOFFSETFROM:-0400
TZOFFSETTO:-0500
TZNAME:EST
DTSTART:20241103T060000
END:STANDARD
BEGIN:DAYLIGHT
TZOFFSETFROM:-0500
TZOFFSETTO:-0400
TZNAME:EDT
DTSTART:20250309T070000
END:DAYLIGHT
BEGIN:STANDARD
TZOFFSETFROM:-0400
TZOFFSETTO:-0500
TZNAME:EST
DTSTART:20251102T060000
END:STANDARD
BEGIN:DAYLIGHT
TZOFFSETFROM:-0500
TZOFFSETTO:-0400
TZNAME:EDT
DTSTART:20260308T070000
END:DAYLIGHT
BEGIN:STANDARD
TZOFFSETFROM:-0400
TZOFFSETTO:-0500
TZNAME:EST
DTSTART:20261101T060000
END:STANDARD
END:VTIMEZONE
BEGIN:VEVENT
DTSTART;TZID=America/New_York:20250403T163000
DTEND;TZID=America/New_York:20250403T193000
DTSTAMP:20260425T201959
CREATED:20250331T004422Z
LAST-MODIFIED:20250331T004422Z
UID:43393-1743697800-1743708600@864foodtrucks.com
SUMMARY:Local Pie Pizza Co @ Beck Academy
DESCRIPTION:
URL:https://864foodtrucks.com/event/local-pie-pizza-co-beck-academy/
LOCATION:Beck Academy\, Woodruff Road 901\, Greenville\, South Carolina\, 29607\, United States
CATEGORIES:Food Truck Schedules,Greenville
ATTACH;FMTTYPE=image/jpeg:https://864foodtrucks.com/wp-content/uploads/2021/12/Local-Pie-Pizza-3.jpg
ORGANIZER;CN="Local Pie Pizza Company":MAILTO:cory@localpiepizzacompany.com
GEO:34.837878;-82.3220689
X-APPLE-STRUCTURED-LOCATION;VALUE=URI;X-ADDRESS=Beck Academy Woodruff Road 901 Greenville South Carolina 29607 United States;X-APPLE-RADIUS=500;X-TITLE=Woodruff Road 901:geo:-82.3220689,34.837878
END:VEVENT
BEGIN:VEVENT
DTSTART;TZID=America/New_York:20250225T110000
DTEND;TZID=America/New_York:20250225T130000
DTSTAMP:20260425T201959
CREATED:20250224T194605Z
LAST-MODIFIED:20250224T194605Z
UID:42618-1740481200-1740488400@864foodtrucks.com
SUMMARY:Cinnabon @ Beck Academy
DESCRIPTION:Cinnabon Food Truck Greenville
URL:https://864foodtrucks.com/event/cinnabon-beck-academy/
LOCATION:Beck Academy\, Woodruff Road 901\, Greenville\, South Carolina\, 29607\, United States
CATEGORIES:Food Truck Schedules,Greenville
ATTACH;FMTTYPE=image/jpeg:https://864foodtrucks.com/wp-content/uploads/2024/12/326870080_1829549937401559_2632445834433428235_n-2.jpg
ORGANIZER;CN="Cinnabon Greenville":MAILTO:info@hotbonssc.com
GEO:34.837878;-82.3220689
X-APPLE-STRUCTURED-LOCATION;VALUE=URI;X-ADDRESS=Beck Academy Woodruff Road 901 Greenville South Carolina 29607 United States;X-APPLE-RADIUS=500;X-TITLE=Woodruff Road 901:geo:-82.3220689,34.837878
END:VEVENT
BEGIN:VEVENT
DTSTART;TZID=America/New_York:20240314T170000
DTEND;TZID=America/New_York:20240314T193000
DTSTAMP:20260425T201959
CREATED:20240310T233508Z
LAST-MODIFIED:20240310T233508Z
UID:26578-1710435600-1710444600@864foodtrucks.com
SUMMARY:Healthy Food Truck GVL @ Beck Academy
DESCRIPTION:🌶️MEXICAN FLAVOR\n🍅HEALTHY FOOD\n🥬MEAL PREPS
URL:https://864foodtrucks.com/event/healthy-food-truck-gvl-beck-academy/
LOCATION:Beck Academy\, Woodruff Road 901\, Greenville\, South Carolina\, 29607\, United States
CATEGORIES:Food Truck Schedules,Greenville
ATTACH;FMTTYPE=image/jpeg:https://864foodtrucks.com/wp-content/uploads/2023/02/Healthy-Food-Truck-Greenville.jpg
ORGANIZER;CN="Healthy Food Truck GVL":MAILTO:Nefgym@gmail.com
GEO:34.837878;-82.3220689
X-APPLE-STRUCTURED-LOCATION;VALUE=URI;X-ADDRESS=Beck Academy Woodruff Road 901 Greenville South Carolina 29607 United States;X-APPLE-RADIUS=500;X-TITLE=Woodruff Road 901:geo:-82.3220689,34.837878
END:VEVENT
END:VCALENDAR