BEGIN:VCALENDAR
VERSION:2.0
PRODID:-//864 Food Trucks - ECPv6.15.20//NONSGML v1.0//EN
CALSCALE:GREGORIAN
METHOD:PUBLISH
X-WR-CALNAME:864 Food Trucks
X-ORIGINAL-URL:https://864foodtrucks.com
X-WR-CALDESC:Events for 864 Food Trucks
REFRESH-INTERVAL;VALUE=DURATION:PT1H
X-Robots-Tag:noindex
X-PUBLISHED-TTL:PT1H
BEGIN:VTIMEZONE
TZID:America/New_York
BEGIN:DAYLIGHT
TZOFFSETFROM:-0500
TZOFFSETTO:-0400
TZNAME:EDT
DTSTART:20220313T070000
END:DAYLIGHT
BEGIN:STANDARD
TZOFFSETFROM:-0400
TZOFFSETTO:-0500
TZNAME:EST
DTSTART:20221106T060000
END:STANDARD
BEGIN:DAYLIGHT
TZOFFSETFROM:-0500
TZOFFSETTO:-0400
TZNAME:EDT
DTSTART:20230312T070000
END:DAYLIGHT
BEGIN:STANDARD
TZOFFSETFROM:-0400
TZOFFSETTO:-0500
TZNAME:EST
DTSTART:20231105T060000
END:STANDARD
BEGIN:DAYLIGHT
TZOFFSETFROM:-0500
TZOFFSETTO:-0400
TZNAME:EDT
DTSTART:20240310T070000
END:DAYLIGHT
BEGIN:STANDARD
TZOFFSETFROM:-0400
TZOFFSETTO:-0500
TZNAME:EST
DTSTART:20241103T060000
END:STANDARD
BEGIN:DAYLIGHT
TZOFFSETFROM:-0500
TZOFFSETTO:-0400
TZNAME:EDT
DTSTART:20250309T070000
END:DAYLIGHT
BEGIN:STANDARD
TZOFFSETFROM:-0400
TZOFFSETTO:-0500
TZNAME:EST
DTSTART:20251102T060000
END:STANDARD
END:VTIMEZONE
BEGIN:VEVENT
DTSTART;TZID=America/New_York:20240920T100000
DTEND;TZID=America/New_York:20240920T130000
DTSTAMP:20260425T144953
CREATED:20240915T162208Z
LAST-MODIFIED:20240915T162208Z
UID:38764-1726826400-1726837200@864foodtrucks.com
SUMMARY:Simpell Sammies @ Bells Crossing Elementary
DESCRIPTION:Simpell Sammies is open for business and ready to serve you flavorful and delicious sandwiches and hoagies.
URL:https://864foodtrucks.com/event/simpell-sammies-bells-crossing-elementary/
LOCATION:Bells Crossing\, 804 Scuffletown Rd\, Simpsonville\, SC\, United States
CATEGORIES:Food Truck Schedules,Simpsonville
ATTACH;FMTTYPE=image/jpeg:https://864foodtrucks.com/wp-content/uploads/2023/06/Simpell-Sammies-Trailer.jpg
ORGANIZER;CN="Simpell Sammies":MAILTO:info@simpelltreats.com
END:VEVENT
BEGIN:VEVENT
DTSTART;TZID=America/New_York:20240808T160000
DTEND;TZID=America/New_York:20240808T180000
DTSTAMP:20260425T144953
CREATED:20240807T133532Z
LAST-MODIFIED:20240807T133532Z
UID:33445-1723132800-1723140000@864foodtrucks.com
SUMMARY:Just a Smile Caribbean @ Bells Elementary
DESCRIPTION:JUST-A-SMILE ENTERTAINMENT PROVIDING YOUR PLACE OR VENUE COMPLETE CARIBBEAN EXPERIENCE THROUGH FOOD DANCE AND UNITY. WE BRING SMILES.
URL:https://864foodtrucks.com/event/just-a-smile-caribbean-bells-elementary/
LOCATION:Bells Crossing\, 804 Scuffletown Rd\, Simpsonville\, SC\, United States
CATEGORIES:Food Truck Schedules,Simpsonville
ATTACH;FMTTYPE=image/jpeg:https://864foodtrucks.com/wp-content/uploads/2021/05/Just-A-Smile.jpg
END:VEVENT
BEGIN:VEVENT
DTSTART;TZID=America/New_York:20231215T070000
DTEND;TZID=America/New_York:20231215T090000
DTSTAMP:20260425T144953
CREATED:20231211T183152Z
LAST-MODIFIED:20240422T174505Z
UID:24552-1702623600-1702630800@864foodtrucks.com
SUMMARY:Roaming Ritual @ Bells Crossing Elementary
DESCRIPTION:A mobile coffee trailer serving parts of Greenville County\, SC !
URL:https://864foodtrucks.com/event/roaming-ritual-bells-crossing-elementary/2023-12-15/
LOCATION:Bells Crossing\, 804 Scuffletown Rd\, Simpsonville\, SC\, United States
CATEGORIES:Food Truck Schedules,Simpsonville
ATTACH;FMTTYPE=image/jpeg:https://864foodtrucks.com/wp-content/uploads/2022/10/Roaming-Ritual-Trailer.jpg
ORGANIZER;CN="Roaming Ritual":MAILTO:Roamingritualcoffee@gmail.com
END:VEVENT
BEGIN:VEVENT
DTSTART;TZID=America/New_York:20230901T100000
DTEND;TZID=America/New_York:20230901T133000
DTSTAMP:20260425T144953
CREATED:20230827T204115Z
LAST-MODIFIED:20230827T204115Z
UID:22413-1693562400-1693575000@864foodtrucks.com
SUMMARY:One Eyed Donkey @ Bells Crossing Elementary
DESCRIPTION:#followthedonkey … ji-roz presents the one eyed donkey! fun take on some greek classics ~ on wheels!!! same quality\, same service\, same vibe as our brick and mortar just brought directly to you. Call or email us today to schedule our donkey.
URL:https://864foodtrucks.com/event/one-eyed-donkey-bells-crossing-elementary-2/
LOCATION:Bells Crossing\, 804 Scuffletown Rd\, Simpsonville\, SC\, United States
CATEGORIES:Food Truck Schedules,Simpsonville
ATTACH;FMTTYPE=image/jpeg:https://864foodtrucks.com/wp-content/uploads/2021/05/One-Eyed-Donkey-Food-Truck.jpg
END:VEVENT
BEGIN:VEVENT
DTSTART;TZID=America/New_York:20230203T070000
DTEND;TZID=America/New_York:20230203T213000
DTSTAMP:20260425T144953
CREATED:20230131T125834Z
LAST-MODIFIED:20230315T130625Z
UID:16491-1675407600-1675459800@864foodtrucks.com
SUMMARY:Roaming Ritual @ Bells Crossing
DESCRIPTION:A mobile coffee trailer serving parts of Greenville County\, SC !
URL:https://864foodtrucks.com/event/roaming-ritual-bells-crossing/2023-02-03/
LOCATION:Bells Crossing\, 804 Scuffletown Rd\, Simpsonville\, SC\, United States
CATEGORIES:Food Truck Schedules,Simpsonville
ATTACH;FMTTYPE=image/jpeg:https://864foodtrucks.com/wp-content/uploads/2022/10/Roaming-Ritual-Trailer-e1666182278753.jpg
ORGANIZER;CN="Roaming Ritual":MAILTO:Roamingritualcoffee@gmail.com
END:VEVENT
END:VCALENDAR