BEGIN:VCALENDAR
VERSION:2.0
PRODID:-//864 Food Trucks - ECPv6.15.20//NONSGML v1.0//EN
CALSCALE:GREGORIAN
METHOD:PUBLISH
X-ORIGINAL-URL:https://864foodtrucks.com
X-WR-CALDESC:Events for 864 Food Trucks
REFRESH-INTERVAL;VALUE=DURATION:PT1H
X-Robots-Tag:noindex
X-PUBLISHED-TTL:PT1H
BEGIN:VTIMEZONE
TZID:America/New_York
BEGIN:DAYLIGHT
TZOFFSETFROM:-0500
TZOFFSETTO:-0400
TZNAME:EDT
DTSTART:20220313T070000
END:DAYLIGHT
BEGIN:STANDARD
TZOFFSETFROM:-0400
TZOFFSETTO:-0500
TZNAME:EST
DTSTART:20221106T060000
END:STANDARD
BEGIN:DAYLIGHT
TZOFFSETFROM:-0500
TZOFFSETTO:-0400
TZNAME:EDT
DTSTART:20230312T070000
END:DAYLIGHT
BEGIN:STANDARD
TZOFFSETFROM:-0400
TZOFFSETTO:-0500
TZNAME:EST
DTSTART:20231105T060000
END:STANDARD
BEGIN:DAYLIGHT
TZOFFSETFROM:-0500
TZOFFSETTO:-0400
TZNAME:EDT
DTSTART:20240310T070000
END:DAYLIGHT
BEGIN:STANDARD
TZOFFSETFROM:-0400
TZOFFSETTO:-0500
TZNAME:EST
DTSTART:20241103T060000
END:STANDARD
BEGIN:DAYLIGHT
TZOFFSETFROM:-0500
TZOFFSETTO:-0400
TZNAME:EDT
DTSTART:20250309T070000
END:DAYLIGHT
BEGIN:STANDARD
TZOFFSETFROM:-0400
TZOFFSETTO:-0500
TZNAME:EST
DTSTART:20251102T060000
END:STANDARD
BEGIN:DAYLIGHT
TZOFFSETFROM:-0500
TZOFFSETTO:-0400
TZNAME:EDT
DTSTART:20260308T070000
END:DAYLIGHT
BEGIN:STANDARD
TZOFFSETFROM:-0400
TZOFFSETTO:-0500
TZNAME:EST
DTSTART:20261101T060000
END:STANDARD
END:VTIMEZONE
BEGIN:VEVENT
DTSTART;TZID=America/New_York:20250410T170000
DTEND;TZID=America/New_York:20250410T200000
DTSTAMP:20260425T203943
CREATED:20250408T000144Z
LAST-MODIFIED:20250408T000144Z
UID:43610-1744304400-1744315200@864foodtrucks.com
SUMMARY:Dos Bros @ Berea Middle School
DESCRIPTION:
URL:https://864foodtrucks.com/event/dos-bros-berea-middle-school/
LOCATION:Berea Middle School\, 151 Berea Middle School Rd\, Greenville\, South Carolina
CATEGORIES:Food Truck Schedules,Greenville
ATTACH;FMTTYPE=image/jpeg:https://864foodtrucks.com/wp-content/uploads/2021/10/Dos-Bros-Tacos-Truck.jpg
ORGANIZER;CN="Dos Bros Tacos 864":MAILTO:jesusi86@yahoo.com
GEO:34.9148552;-82.4547964
X-APPLE-STRUCTURED-LOCATION;VALUE=URI;X-ADDRESS=Berea Middle School 151 Berea Middle School Rd Greenville South Carolina;X-APPLE-RADIUS=500;X-TITLE=151 Berea Middle School Rd:geo:-82.4547964,34.9148552
END:VEVENT
BEGIN:VEVENT
DTSTART;TZID=America/New_York:20230512T070000
DTEND;TZID=America/New_York:20230512T093000
DTSTAMP:20260425T203943
CREATED:20230511T134515Z
LAST-MODIFIED:20230511T134515Z
UID:18909-1683874800-1683883800@864foodtrucks.com
SUMMARY:Vita Nova Coffee @ Tea @ Berea Middle
DESCRIPTION:The vision of Vita Nova is to bring communities together around good coffee\, delicacies and various entertainment!
URL:https://864foodtrucks.com/event/vita-nova-coffee-tea-berea-middle/
LOCATION:Berea Middle School\, 151 Berea Middle School Rd\, Greenville\, South Carolina
CATEGORIES:Food Truck Schedules,Greenville
ATTACH;FMTTYPE=image/jpeg:https://864foodtrucks.com/wp-content/uploads/2021/12/Vita-Nova.jpg
ORGANIZER;CN="Vita Nova Coffee And Tea":MAILTO:Vitanova3710@gmail.com
GEO:34.9148552;-82.4547964
X-APPLE-STRUCTURED-LOCATION;VALUE=URI;X-ADDRESS=Berea Middle School 151 Berea Middle School Rd Greenville South Carolina;X-APPLE-RADIUS=500;X-TITLE=151 Berea Middle School Rd:geo:-82.4547964,34.9148552
END:VEVENT
END:VCALENDAR