BEGIN:VCALENDAR
VERSION:2.0
PRODID:-//864 Food Trucks - ECPv6.15.20//NONSGML v1.0//EN
CALSCALE:GREGORIAN
METHOD:PUBLISH
X-ORIGINAL-URL:https://864foodtrucks.com
X-WR-CALDESC:Events for 864 Food Trucks
REFRESH-INTERVAL;VALUE=DURATION:PT1H
X-Robots-Tag:noindex
X-PUBLISHED-TTL:PT1H
BEGIN:VTIMEZONE
TZID:America/New_York
BEGIN:DAYLIGHT
TZOFFSETFROM:-0500
TZOFFSETTO:-0400
TZNAME:EDT
DTSTART:20240310T070000
END:DAYLIGHT
BEGIN:STANDARD
TZOFFSETFROM:-0400
TZOFFSETTO:-0500
TZNAME:EST
DTSTART:20241103T060000
END:STANDARD
BEGIN:DAYLIGHT
TZOFFSETFROM:-0500
TZOFFSETTO:-0400
TZNAME:EDT
DTSTART:20250309T070000
END:DAYLIGHT
BEGIN:STANDARD
TZOFFSETFROM:-0400
TZOFFSETTO:-0500
TZNAME:EST
DTSTART:20251102T060000
END:STANDARD
BEGIN:DAYLIGHT
TZOFFSETFROM:-0500
TZOFFSETTO:-0400
TZNAME:EDT
DTSTART:20260308T070000
END:DAYLIGHT
BEGIN:STANDARD
TZOFFSETFROM:-0400
TZOFFSETTO:-0500
TZNAME:EST
DTSTART:20261101T060000
END:STANDARD
BEGIN:DAYLIGHT
TZOFFSETFROM:-0500
TZOFFSETTO:-0400
TZNAME:EDT
DTSTART:20270314T070000
END:DAYLIGHT
BEGIN:STANDARD
TZOFFSETFROM:-0400
TZOFFSETTO:-0500
TZNAME:EST
DTSTART:20271107T060000
END:STANDARD
END:VTIMEZONE
BEGIN:VEVENT
DTSTART;TZID=America/New_York:20260417T070000
DTEND;TZID=America/New_York:20260417T120000
DTSTAMP:20260424T035849
CREATED:20250721T233654Z
LAST-MODIFIED:20250721T233654Z
UID:61844-1776409200-1776427200@864foodtrucks.com
SUMMARY:The Rolling Dough @ Big House Outpost
DESCRIPTION:
URL:https://864foodtrucks.com/event/the-rolling-dough-big-house-outpost/2026-04-17/
LOCATION:Big House Outpost\, 100 Greenville St #4\,\, Abbeville\, South Carolina
CATEGORIES:Abbeville,Food Truck Schedules
ATTACH;FMTTYPE=image/jpeg:https://864foodtrucks.com/wp-content/uploads/2021/05/The-Rolling-Dough-Company-Truck.jpg
ORGANIZER;CN="The Rolling Dough Company":MAILTO:therollingdoughco@yahoo.com
GEO:34.1808277;-82.3812485
X-APPLE-STRUCTURED-LOCATION;VALUE=URI;X-ADDRESS=Big House Outpost 100 Greenville St #4 Abbeville South Carolina;X-APPLE-RADIUS=500;X-TITLE=100 Greenville St #4\,:geo:-82.3812485,34.1808277
END:VEVENT
BEGIN:VEVENT
DTSTART;TZID=America/New_York:20260403T070000
DTEND;TZID=America/New_York:20260403T120000
DTSTAMP:20260424T035849
CREATED:20250721T233654Z
LAST-MODIFIED:20260413T233452Z
UID:61247-1775199600-1775217600@864foodtrucks.com
SUMMARY:The Rolling Dough @ Big House Outpost
DESCRIPTION:
URL:https://864foodtrucks.com/event/the-rolling-dough-big-house-outpost/2026-04-03/
LOCATION:Big House Outpost\, 100 Greenville St #4\,\, Abbeville\, South Carolina
CATEGORIES:Abbeville,Food Truck Schedules
ATTACH;FMTTYPE=image/jpeg:https://864foodtrucks.com/wp-content/uploads/2021/05/The-Rolling-Dough-Company-Truck.jpg
ORGANIZER;CN="The Rolling Dough Company":MAILTO:therollingdoughco@yahoo.com
GEO:34.1808277;-82.3812485
X-APPLE-STRUCTURED-LOCATION;VALUE=URI;X-ADDRESS=Big House Outpost 100 Greenville St #4 Abbeville South Carolina;X-APPLE-RADIUS=500;X-TITLE=100 Greenville St #4\,:geo:-82.3812485,34.1808277
END:VEVENT
BEGIN:VEVENT
DTSTART;TZID=America/New_York:20260401T173000
DTEND;TZID=America/New_York:20260401T200000
DTSTAMP:20260424T035849
CREATED:20250721T233654Z
LAST-MODIFIED:20260413T233452Z
UID:61249-1775064600-1775073600@864foodtrucks.com
SUMMARY:The Rolling Dough @ Big House Outpost
DESCRIPTION:
URL:https://864foodtrucks.com/event/the-rolling-dough-big-house-outpost/2026-04-01/
LOCATION:Big House Outpost\, 100 Greenville St #4\,\, Abbeville\, South Carolina
CATEGORIES:Abbeville,Food Truck Schedules
ATTACH;FMTTYPE=image/jpeg:https://864foodtrucks.com/wp-content/uploads/2021/05/The-Rolling-Dough-Company-Truck.jpg
ORGANIZER;CN="The Rolling Dough Company":MAILTO:therollingdoughco@yahoo.com
GEO:34.1808277;-82.3812485
X-APPLE-STRUCTURED-LOCATION;VALUE=URI;X-ADDRESS=Big House Outpost 100 Greenville St #4 Abbeville South Carolina;X-APPLE-RADIUS=500;X-TITLE=100 Greenville St #4\,:geo:-82.3812485,34.1808277
END:VEVENT
BEGIN:VEVENT
DTSTART;TZID=America/New_York:20260320T070000
DTEND;TZID=America/New_York:20260320T120000
DTSTAMP:20260424T035849
CREATED:20250721T233654Z
LAST-MODIFIED:20260413T233451Z
UID:60740-1773990000-1774008000@864foodtrucks.com
SUMMARY:The Rolling Dough @ Big House Outpost
DESCRIPTION:
URL:https://864foodtrucks.com/event/the-rolling-dough-big-house-outpost/2026-03-20/
LOCATION:Big House Outpost\, 100 Greenville St #4\,\, Abbeville\, South Carolina
CATEGORIES:Abbeville,Food Truck Schedules
ATTACH;FMTTYPE=image/jpeg:https://864foodtrucks.com/wp-content/uploads/2021/05/The-Rolling-Dough-Company-Truck.jpg
ORGANIZER;CN="The Rolling Dough Company":MAILTO:therollingdoughco@yahoo.com
GEO:34.1808277;-82.3812485
X-APPLE-STRUCTURED-LOCATION;VALUE=URI;X-ADDRESS=Big House Outpost 100 Greenville St #4 Abbeville South Carolina;X-APPLE-RADIUS=500;X-TITLE=100 Greenville St #4\,:geo:-82.3812485,34.1808277
END:VEVENT
BEGIN:VEVENT
DTSTART;TZID=America/New_York:20260306T070000
DTEND;TZID=America/New_York:20260306T120000
DTSTAMP:20260424T035849
CREATED:20250721T233654Z
LAST-MODIFIED:20260413T233451Z
UID:60321-1772780400-1772798400@864foodtrucks.com
SUMMARY:The Rolling Dough @ Big House Outpost
DESCRIPTION:
URL:https://864foodtrucks.com/event/the-rolling-dough-big-house-outpost/2026-03-06/
LOCATION:Big House Outpost\, 100 Greenville St #4\,\, Abbeville\, South Carolina
CATEGORIES:Abbeville,Food Truck Schedules
ATTACH;FMTTYPE=image/jpeg:https://864foodtrucks.com/wp-content/uploads/2021/05/The-Rolling-Dough-Company-Truck.jpg
ORGANIZER;CN="The Rolling Dough Company":MAILTO:therollingdoughco@yahoo.com
GEO:34.1808277;-82.3812485
X-APPLE-STRUCTURED-LOCATION;VALUE=URI;X-ADDRESS=Big House Outpost 100 Greenville St #4 Abbeville South Carolina;X-APPLE-RADIUS=500;X-TITLE=100 Greenville St #4\,:geo:-82.3812485,34.1808277
END:VEVENT
BEGIN:VEVENT
DTSTART;TZID=America/New_York:20260206T070000
DTEND;TZID=America/New_York:20260206T120000
DTSTAMP:20260424T035849
CREATED:20250721T233654Z
LAST-MODIFIED:20260413T233450Z
UID:59390-1770361200-1770379200@864foodtrucks.com
SUMMARY:The Rolling Dough @ Big House Outpost
DESCRIPTION:
URL:https://864foodtrucks.com/event/the-rolling-dough-big-house-outpost/2026-02-06/
LOCATION:Big House Outpost\, 100 Greenville St #4\,\, Abbeville\, South Carolina
CATEGORIES:Abbeville,Food Truck Schedules
ATTACH;FMTTYPE=image/jpeg:https://864foodtrucks.com/wp-content/uploads/2021/05/The-Rolling-Dough-Company-Truck.jpg
ORGANIZER;CN="The Rolling Dough Company":MAILTO:therollingdoughco@yahoo.com
GEO:34.1808277;-82.3812485
X-APPLE-STRUCTURED-LOCATION;VALUE=URI;X-ADDRESS=Big House Outpost 100 Greenville St #4 Abbeville South Carolina;X-APPLE-RADIUS=500;X-TITLE=100 Greenville St #4\,:geo:-82.3812485,34.1808277
END:VEVENT
BEGIN:VEVENT
DTSTART;TZID=America/New_York:20260123T070000
DTEND;TZID=America/New_York:20260123T120000
DTSTAMP:20260424T035849
CREATED:20250721T233654Z
LAST-MODIFIED:20260413T233450Z
UID:59043-1769151600-1769169600@864foodtrucks.com
SUMMARY:The Rolling Dough @ Big House Outpost
DESCRIPTION:
URL:https://864foodtrucks.com/event/the-rolling-dough-big-house-outpost/2026-01-23/
LOCATION:Big House Outpost\, 100 Greenville St #4\,\, Abbeville\, South Carolina
CATEGORIES:Abbeville,Food Truck Schedules
ATTACH;FMTTYPE=image/jpeg:https://864foodtrucks.com/wp-content/uploads/2021/05/The-Rolling-Dough-Company-Truck.jpg
ORGANIZER;CN="The Rolling Dough Company":MAILTO:therollingdoughco@yahoo.com
GEO:34.1808277;-82.3812485
X-APPLE-STRUCTURED-LOCATION;VALUE=URI;X-ADDRESS=Big House Outpost 100 Greenville St #4 Abbeville South Carolina;X-APPLE-RADIUS=500;X-TITLE=100 Greenville St #4\,:geo:-82.3812485,34.1808277
END:VEVENT
BEGIN:VEVENT
DTSTART;TZID=America/New_York:20260109T070000
DTEND;TZID=America/New_York:20260109T120000
DTSTAMP:20260424T035849
CREATED:20250721T233654Z
LAST-MODIFIED:20260413T233450Z
UID:58551-1767942000-1767960000@864foodtrucks.com
SUMMARY:The Rolling Dough @ Big House Outpost
DESCRIPTION:
URL:https://864foodtrucks.com/event/the-rolling-dough-big-house-outpost/2026-01-09/
LOCATION:Big House Outpost\, 100 Greenville St #4\,\, Abbeville\, South Carolina
CATEGORIES:Abbeville,Food Truck Schedules
ATTACH;FMTTYPE=image/jpeg:https://864foodtrucks.com/wp-content/uploads/2021/05/The-Rolling-Dough-Company-Truck.jpg
ORGANIZER;CN="The Rolling Dough Company":MAILTO:therollingdoughco@yahoo.com
GEO:34.1808277;-82.3812485
X-APPLE-STRUCTURED-LOCATION;VALUE=URI;X-ADDRESS=Big House Outpost 100 Greenville St #4 Abbeville South Carolina;X-APPLE-RADIUS=500;X-TITLE=100 Greenville St #4\,:geo:-82.3812485,34.1808277
END:VEVENT
BEGIN:VEVENT
DTSTART;TZID=America/New_York:20251219T070000
DTEND;TZID=America/New_York:20251219T120000
DTSTAMP:20260424T035849
CREATED:20250721T233654Z
LAST-MODIFIED:20260413T233449Z
UID:57783-1766127600-1766145600@864foodtrucks.com
SUMMARY:The Rolling Dough @ Big House Outpost
DESCRIPTION:
URL:https://864foodtrucks.com/event/the-rolling-dough-big-house-outpost/2025-12-19/
LOCATION:Big House Outpost\, 100 Greenville St #4\,\, Abbeville\, South Carolina
CATEGORIES:Abbeville,Food Truck Schedules
ATTACH;FMTTYPE=image/jpeg:https://864foodtrucks.com/wp-content/uploads/2021/05/The-Rolling-Dough-Company-Truck.jpg
ORGANIZER;CN="The Rolling Dough Company":MAILTO:therollingdoughco@yahoo.com
GEO:34.1808277;-82.3812485
X-APPLE-STRUCTURED-LOCATION;VALUE=URI;X-ADDRESS=Big House Outpost 100 Greenville St #4 Abbeville South Carolina;X-APPLE-RADIUS=500;X-TITLE=100 Greenville St #4\,:geo:-82.3812485,34.1808277
END:VEVENT
BEGIN:VEVENT
DTSTART;TZID=America/New_York:20251212T070000
DTEND;TZID=America/New_York:20251212T120000
DTSTAMP:20260424T035849
CREATED:20250721T233654Z
LAST-MODIFIED:20260413T233444Z
UID:57608-1765522800-1765540800@864foodtrucks.com
SUMMARY:The Rolling Dough @ Big House Outpost
DESCRIPTION:
URL:https://864foodtrucks.com/event/the-rolling-dough-big-house-outpost/2025-12-12/
LOCATION:Big House Outpost\, 100 Greenville St #4\,\, Abbeville\, South Carolina
CATEGORIES:Abbeville,Food Truck Schedules
ATTACH;FMTTYPE=image/jpeg:https://864foodtrucks.com/wp-content/uploads/2021/05/The-Rolling-Dough-Company-Truck.jpg
ORGANIZER;CN="The Rolling Dough Company":MAILTO:therollingdoughco@yahoo.com
GEO:34.1808277;-82.3812485
X-APPLE-STRUCTURED-LOCATION;VALUE=URI;X-ADDRESS=Big House Outpost 100 Greenville St #4 Abbeville South Carolina;X-APPLE-RADIUS=500;X-TITLE=100 Greenville St #4\,:geo:-82.3812485,34.1808277
END:VEVENT
BEGIN:VEVENT
DTSTART;TZID=America/New_York:20251205T070000
DTEND;TZID=America/New_York:20251205T120000
DTSTAMP:20260424T035849
CREATED:20250721T233654Z
LAST-MODIFIED:20260413T233443Z
UID:57019-1764918000-1764936000@864foodtrucks.com
SUMMARY:The Rolling Dough @ Big House Outpost
DESCRIPTION:
URL:https://864foodtrucks.com/event/the-rolling-dough-big-house-outpost/2025-12-05/
LOCATION:Big House Outpost\, 100 Greenville St #4\,\, Abbeville\, South Carolina
CATEGORIES:Abbeville,Food Truck Schedules
ATTACH;FMTTYPE=image/jpeg:https://864foodtrucks.com/wp-content/uploads/2021/05/The-Rolling-Dough-Company-Truck.jpg
ORGANIZER;CN="The Rolling Dough Company":MAILTO:therollingdoughco@yahoo.com
GEO:34.1808277;-82.3812485
X-APPLE-STRUCTURED-LOCATION;VALUE=URI;X-ADDRESS=Big House Outpost 100 Greenville St #4 Abbeville South Carolina;X-APPLE-RADIUS=500;X-TITLE=100 Greenville St #4\,:geo:-82.3812485,34.1808277
END:VEVENT
BEGIN:VEVENT
DTSTART;TZID=America/New_York:20251108T090000
DTEND;TZID=America/New_York:20251108T140000
DTSTAMP:20260424T035849
CREATED:20250721T233654Z
LAST-MODIFIED:20260413T233443Z
UID:55970-1762592400-1762610400@864foodtrucks.com
SUMMARY:The Rolling Dough @ Big House Outpost
DESCRIPTION:
URL:https://864foodtrucks.com/event/the-rolling-dough-big-house-outpost/2025-11-08/
LOCATION:Big House Outpost\, 100 Greenville St #4\,\, Abbeville\, South Carolina
CATEGORIES:Abbeville,Food Truck Schedules
ATTACH;FMTTYPE=image/jpeg:https://864foodtrucks.com/wp-content/uploads/2021/05/The-Rolling-Dough-Company-Truck.jpg
ORGANIZER;CN="The Rolling Dough Company":MAILTO:therollingdoughco@yahoo.com
GEO:34.1808277;-82.3812485
X-APPLE-STRUCTURED-LOCATION;VALUE=URI;X-ADDRESS=Big House Outpost 100 Greenville St #4 Abbeville South Carolina;X-APPLE-RADIUS=500;X-TITLE=100 Greenville St #4\,:geo:-82.3812485,34.1808277
END:VEVENT
BEGIN:VEVENT
DTSTART;TZID=America/New_York:20251107T070000
DTEND;TZID=America/New_York:20251107T120000
DTSTAMP:20260424T035849
CREATED:20250721T233654Z
LAST-MODIFIED:20260413T233443Z
UID:55969-1762498800-1762516800@864foodtrucks.com
SUMMARY:The Rolling Dough @ Big House Outpost
DESCRIPTION:
URL:https://864foodtrucks.com/event/the-rolling-dough-big-house-outpost/2025-11-07/
LOCATION:Big House Outpost\, 100 Greenville St #4\,\, Abbeville\, South Carolina
CATEGORIES:Abbeville,Food Truck Schedules
ATTACH;FMTTYPE=image/jpeg:https://864foodtrucks.com/wp-content/uploads/2021/05/The-Rolling-Dough-Company-Truck.jpg
ORGANIZER;CN="The Rolling Dough Company":MAILTO:therollingdoughco@yahoo.com
GEO:34.1808277;-82.3812485
X-APPLE-STRUCTURED-LOCATION;VALUE=URI;X-ADDRESS=Big House Outpost 100 Greenville St #4 Abbeville South Carolina;X-APPLE-RADIUS=500;X-TITLE=100 Greenville St #4\,:geo:-82.3812485,34.1808277
END:VEVENT
BEGIN:VEVENT
DTSTART;TZID=America/New_York:20251010T070000
DTEND;TZID=America/New_York:20251010T120000
DTSTAMP:20260424T035849
CREATED:20250721T233654Z
LAST-MODIFIED:20260413T233443Z
UID:54861-1760079600-1760097600@864foodtrucks.com
SUMMARY:The Rolling Dough @ Big House Outpost
DESCRIPTION:
URL:https://864foodtrucks.com/event/the-rolling-dough-big-house-outpost/2025-10-10/
LOCATION:Big House Outpost\, 100 Greenville St #4\,\, Abbeville\, South Carolina
CATEGORIES:Abbeville,Food Truck Schedules
ATTACH;FMTTYPE=image/jpeg:https://864foodtrucks.com/wp-content/uploads/2021/05/The-Rolling-Dough-Company-Truck.jpg
ORGANIZER;CN="The Rolling Dough Company":MAILTO:therollingdoughco@yahoo.com
GEO:34.1808277;-82.3812485
X-APPLE-STRUCTURED-LOCATION;VALUE=URI;X-ADDRESS=Big House Outpost 100 Greenville St #4 Abbeville South Carolina;X-APPLE-RADIUS=500;X-TITLE=100 Greenville St #4\,:geo:-82.3812485,34.1808277
END:VEVENT
BEGIN:VEVENT
DTSTART;TZID=America/New_York:20251003T070000
DTEND;TZID=America/New_York:20251003T120000
DTSTAMP:20260424T035849
CREATED:20250721T233654Z
LAST-MODIFIED:20260413T233442Z
UID:55375-1759474800-1759492800@864foodtrucks.com
SUMMARY:The Rolling Dough @ Big House Outpost
DESCRIPTION:
URL:https://864foodtrucks.com/event/the-rolling-dough-big-house-outpost/2025-10-03/
LOCATION:Big House Outpost\, 100 Greenville St #4\,\, Abbeville\, South Carolina
CATEGORIES:Abbeville,Food Truck Schedules
ATTACH;FMTTYPE=image/jpeg:https://864foodtrucks.com/wp-content/uploads/2021/05/The-Rolling-Dough-Company-Truck.jpg
ORGANIZER;CN="The Rolling Dough Company":MAILTO:therollingdoughco@yahoo.com
GEO:34.1808277;-82.3812485
X-APPLE-STRUCTURED-LOCATION;VALUE=URI;X-ADDRESS=Big House Outpost 100 Greenville St #4 Abbeville South Carolina;X-APPLE-RADIUS=500;X-TITLE=100 Greenville St #4\,:geo:-82.3812485,34.1808277
END:VEVENT
BEGIN:VEVENT
DTSTART;TZID=America/New_York:20250829T070000
DTEND;TZID=America/New_York:20250829T120000
DTSTAMP:20260424T035849
CREATED:20250721T233654Z
LAST-MODIFIED:20260413T233442Z
UID:52829-1756450800-1756468800@864foodtrucks.com
SUMMARY:The Rolling Dough @ Big House Outpost
DESCRIPTION:
URL:https://864foodtrucks.com/event/the-rolling-dough-big-house-outpost/2025-08-29/
LOCATION:Big House Outpost\, 100 Greenville St #4\,\, Abbeville\, South Carolina
CATEGORIES:Abbeville,Food Truck Schedules
ATTACH;FMTTYPE=image/jpeg:https://864foodtrucks.com/wp-content/uploads/2021/05/The-Rolling-Dough-Company-Truck.jpg
ORGANIZER;CN="The Rolling Dough Company":MAILTO:therollingdoughco@yahoo.com
GEO:34.1808277;-82.3812485
X-APPLE-STRUCTURED-LOCATION;VALUE=URI;X-ADDRESS=Big House Outpost 100 Greenville St #4 Abbeville South Carolina;X-APPLE-RADIUS=500;X-TITLE=100 Greenville St #4\,:geo:-82.3812485,34.1808277
END:VEVENT
BEGIN:VEVENT
DTSTART;TZID=America/New_York:20250725T070000
DTEND;TZID=America/New_York:20250725T120000
DTSTAMP:20260424T035849
CREATED:20250721T233654Z
LAST-MODIFIED:20260413T233441Z
UID:50729-1753426800-1753444800@864foodtrucks.com
SUMMARY:The Rolling Dough @ Big House Outpost
DESCRIPTION:
URL:https://864foodtrucks.com/event/the-rolling-dough-big-house-outpost/2025-07-25/
LOCATION:Big House Outpost\, 100 Greenville St #4\,\, Abbeville\, South Carolina
CATEGORIES:Abbeville,Food Truck Schedules
ATTACH;FMTTYPE=image/jpeg:https://864foodtrucks.com/wp-content/uploads/2021/05/The-Rolling-Dough-Company-Truck.jpg
ORGANIZER;CN="The Rolling Dough Company":MAILTO:therollingdoughco@yahoo.com
GEO:34.1808277;-82.3812485
X-APPLE-STRUCTURED-LOCATION;VALUE=URI;X-ADDRESS=Big House Outpost 100 Greenville St #4 Abbeville South Carolina;X-APPLE-RADIUS=500;X-TITLE=100 Greenville St #4\,:geo:-82.3812485,34.1808277
END:VEVENT
END:VCALENDAR