BEGIN:VCALENDAR
VERSION:2.0
PRODID:-//864 Food Trucks - ECPv6.15.20//NONSGML v1.0//EN
CALSCALE:GREGORIAN
METHOD:PUBLISH
X-WR-CALNAME:864 Food Trucks
X-ORIGINAL-URL:https://864foodtrucks.com
X-WR-CALDESC:Events for 864 Food Trucks
REFRESH-INTERVAL;VALUE=DURATION:PT1H
X-Robots-Tag:noindex
X-PUBLISHED-TTL:PT1H
BEGIN:VTIMEZONE
TZID:America/New_York
BEGIN:DAYLIGHT
TZOFFSETFROM:-0500
TZOFFSETTO:-0400
TZNAME:EDT
DTSTART:20240310T070000
END:DAYLIGHT
BEGIN:STANDARD
TZOFFSETFROM:-0400
TZOFFSETTO:-0500
TZNAME:EST
DTSTART:20241103T060000
END:STANDARD
BEGIN:DAYLIGHT
TZOFFSETFROM:-0500
TZOFFSETTO:-0400
TZNAME:EDT
DTSTART:20250309T070000
END:DAYLIGHT
BEGIN:STANDARD
TZOFFSETFROM:-0400
TZOFFSETTO:-0500
TZNAME:EST
DTSTART:20251102T060000
END:STANDARD
BEGIN:DAYLIGHT
TZOFFSETFROM:-0500
TZOFFSETTO:-0400
TZNAME:EDT
DTSTART:20260308T070000
END:DAYLIGHT
BEGIN:STANDARD
TZOFFSETFROM:-0400
TZOFFSETTO:-0500
TZNAME:EST
DTSTART:20261101T060000
END:STANDARD
END:VTIMEZONE
BEGIN:VEVENT
DTSTART;TZID=America/New_York:20250628T110000
DTEND;TZID=America/New_York:20250628T223000
DTSTAMP:20260425T145217
CREATED:20250623T230608Z
LAST-MODIFIED:20250623T230608Z
UID:48973-1751108400-1751149800@864foodtrucks.com
SUMMARY:Moo Shi Rolled Ice Cream @ Freedom Celebration
DESCRIPTION:We are a Unique dessert truck\, creating one of a kind Rolled Ice Cream!!!
URL:https://864foodtrucks.com/event/moo-shi-rolled-ice-cream-freedom-celebration/
LOCATION:Big Water Marina\, 320 Big Water Rd\, Starr\, South Carolina
CATEGORIES:Food Truck Schedules
ATTACH;FMTTYPE=image/jpeg:https://864foodtrucks.com/wp-content/uploads/2025/03/Moo-Shi-Ice-Cream.jpg
ORGANIZER;CN="Mooshi Ice Cream":MAILTO:MooShi.rolled.ice.cream@gmail.com
GEO:34.3950884;-82.8163208
X-APPLE-STRUCTURED-LOCATION;VALUE=URI;X-ADDRESS=Big Water Marina 320 Big Water Rd Starr South Carolina;X-APPLE-RADIUS=500;X-TITLE=320 Big Water Rd:geo:-82.8163208,34.3950884
END:VEVENT
BEGIN:VEVENT
DTSTART;TZID=America/New_York:20250628T110000
DTEND;TZID=America/New_York:20250628T223000
DTSTAMP:20260425T145217
CREATED:20250623T141112Z
LAST-MODIFIED:20250623T141112Z
UID:48897-1751108400-1751149800@864foodtrucks.com
SUMMARY:Simpell Sammies @ Freedom Celebration Big Water Marina
DESCRIPTION:Simpell Sammies is open for business and ready to serve you flavorful and delicious sandwiches and hoagies.
URL:https://864foodtrucks.com/event/simpell-sammies-freedom-celebration-big-water-marina/
LOCATION:Big Water Marina\, 320 Big Water Rd\, Starr\, South Carolina
CATEGORIES:Food Truck Schedules
ATTACH;FMTTYPE=image/jpeg:https://864foodtrucks.com/wp-content/uploads/2023/06/Simpell-Sammies-Trailer.jpg
ORGANIZER;CN="Simpell Sammies":MAILTO:info@simpelltreats.com
GEO:34.3950884;-82.8163208
X-APPLE-STRUCTURED-LOCATION;VALUE=URI;X-ADDRESS=Big Water Marina 320 Big Water Rd Starr South Carolina;X-APPLE-RADIUS=500;X-TITLE=320 Big Water Rd:geo:-82.8163208,34.3950884
END:VEVENT
END:VCALENDAR