BEGIN:VCALENDAR
VERSION:2.0
PRODID:-//864 Food Trucks - ECPv6.15.20//NONSGML v1.0//EN
CALSCALE:GREGORIAN
METHOD:PUBLISH
X-WR-CALNAME:864 Food Trucks
X-ORIGINAL-URL:https://864foodtrucks.com
X-WR-CALDESC:Events for 864 Food Trucks
REFRESH-INTERVAL;VALUE=DURATION:PT1H
X-Robots-Tag:noindex
X-PUBLISHED-TTL:PT1H
BEGIN:VTIMEZONE
TZID:America/New_York
BEGIN:DAYLIGHT
TZOFFSETFROM:-0500
TZOFFSETTO:-0400
TZNAME:EDT
DTSTART:20210314T070000
END:DAYLIGHT
BEGIN:STANDARD
TZOFFSETFROM:-0400
TZOFFSETTO:-0500
TZNAME:EST
DTSTART:20211107T060000
END:STANDARD
BEGIN:DAYLIGHT
TZOFFSETFROM:-0500
TZOFFSETTO:-0400
TZNAME:EDT
DTSTART:20220313T070000
END:DAYLIGHT
BEGIN:STANDARD
TZOFFSETFROM:-0400
TZOFFSETTO:-0500
TZNAME:EST
DTSTART:20221106T060000
END:STANDARD
BEGIN:DAYLIGHT
TZOFFSETFROM:-0500
TZOFFSETTO:-0400
TZNAME:EDT
DTSTART:20230312T070000
END:DAYLIGHT
BEGIN:STANDARD
TZOFFSETFROM:-0400
TZOFFSETTO:-0500
TZNAME:EST
DTSTART:20231105T060000
END:STANDARD
BEGIN:DAYLIGHT
TZOFFSETFROM:-0500
TZOFFSETTO:-0400
TZNAME:EDT
DTSTART:20240310T070000
END:DAYLIGHT
BEGIN:STANDARD
TZOFFSETFROM:-0400
TZOFFSETTO:-0500
TZNAME:EST
DTSTART:20241103T060000
END:STANDARD
BEGIN:DAYLIGHT
TZOFFSETFROM:-0500
TZOFFSETTO:-0400
TZNAME:EDT
DTSTART:20250309T070000
END:DAYLIGHT
BEGIN:STANDARD
TZOFFSETFROM:-0400
TZOFFSETTO:-0500
TZNAME:EST
DTSTART:20251102T060000
END:STANDARD
END:VTIMEZONE
BEGIN:VEVENT
DTSTART;TZID=America/New_York:20240503T173000
DTEND;TZID=America/New_York:20240503T200000
DTSTAMP:20260425T125953
CREATED:20240430T214552Z
LAST-MODIFIED:20240430T214552Z
UID:28066-1714757400-1714766400@864foodtrucks.com
SUMMARY:Bingbi Sushi @ Bodega Noir
DESCRIPTION:The one and only Sushi Truck in Greenville\n🍣🥙 contact us for all events 📱813-838-7887
URL:https://864foodtrucks.com/event/bingbi-sushi-bodega-noir/
LOCATION:Bodega Noir\, 1520 E Rutherford St\, Landrum\, South Carolina
CATEGORIES:Food Truck Schedules,Greenville
ATTACH;FMTTYPE=image/jpeg:https://864foodtrucks.com/wp-content/uploads/2023/11/Bingbi-Sushi.jpg
ORGANIZER;CN="Bingbi Sushi":MAILTO:bingbisushi@gmail.com
GEO:35.179218;-82.1683251
X-APPLE-STRUCTURED-LOCATION;VALUE=URI;X-ADDRESS=Bodega Noir 1520 E Rutherford St Landrum South Carolina;X-APPLE-RADIUS=500;X-TITLE=1520 E Rutherford St:geo:-82.1683251,35.179218
END:VEVENT
BEGIN:VEVENT
DTSTART;TZID=America/New_York:20230814T170000
DTEND;TZID=America/New_York:20230814T200000
DTSTAMP:20260425T125953
CREATED:20230814T204614Z
LAST-MODIFIED:20240123T133654Z
UID:22134-1692032400-1692043200@864foodtrucks.com
SUMMARY:Yum Bai @ Bodega Noir
DESCRIPTION:Asian fusion street food
URL:https://864foodtrucks.com/event/yum-bai-bodega-noir/2023-08-14/
LOCATION:Bodega Noir\, 1520 E Rutherford St\, Landrum\, South Carolina
CATEGORIES:Food Truck Schedules,Landrum
ATTACH;FMTTYPE=image/jpeg:https://864foodtrucks.com/wp-content/uploads/2021/05/Yum-Bai.jpg
ORGANIZER;CN="Yum Bai":MAILTO:yumbaisc@gmail.com
GEO:35.179218;-82.1683251
X-APPLE-STRUCTURED-LOCATION;VALUE=URI;X-ADDRESS=Bodega Noir 1520 E Rutherford St Landrum South Carolina;X-APPLE-RADIUS=500;X-TITLE=1520 E Rutherford St:geo:-82.1683251,35.179218
END:VEVENT
BEGIN:VEVENT
DTSTART;TZID=America/New_York:20221111T170000
DTEND;TZID=America/New_York:20221111T200000
DTSTAMP:20260425T125953
CREATED:20221108T015249Z
LAST-MODIFIED:20221128T193408Z
UID:14487-1668186000-1668196800@864foodtrucks.com
SUMMARY:Yum Bai @ Bodega Noir
DESCRIPTION:Asian fusion street food
URL:https://864foodtrucks.com/event/yum-bai-bodega-noir-2/2022-11-11/
LOCATION:Bodega Noir\, 1520 E Rutherford St\, Landrum\, South Carolina
CATEGORIES:Food Truck Schedules,Landrum
ATTACH;FMTTYPE=image/jpeg:https://864foodtrucks.com/wp-content/uploads/2021/05/Yum-Bai.jpg
ORGANIZER;CN="Yum Bai":MAILTO:yumbaisc@gmail.com
GEO:35.179218;-82.1683251
X-APPLE-STRUCTURED-LOCATION;VALUE=URI;X-ADDRESS=Bodega Noir 1520 E Rutherford St Landrum South Carolina;X-APPLE-RADIUS=500;X-TITLE=1520 E Rutherford St:geo:-82.1683251,35.179218
END:VEVENT
END:VCALENDAR