BEGIN:VCALENDAR
VERSION:2.0
PRODID:-//864 Food Trucks - ECPv6.15.20//NONSGML v1.0//EN
CALSCALE:GREGORIAN
METHOD:PUBLISH
X-ORIGINAL-URL:https://864foodtrucks.com
X-WR-CALDESC:Events for 864 Food Trucks
REFRESH-INTERVAL;VALUE=DURATION:PT1H
X-Robots-Tag:noindex
X-PUBLISHED-TTL:PT1H
BEGIN:VTIMEZONE
TZID:America/New_York
BEGIN:DAYLIGHT
TZOFFSETFROM:-0500
TZOFFSETTO:-0400
TZNAME:EDT
DTSTART:20240310T070000
END:DAYLIGHT
BEGIN:STANDARD
TZOFFSETFROM:-0400
TZOFFSETTO:-0500
TZNAME:EST
DTSTART:20241103T060000
END:STANDARD
BEGIN:DAYLIGHT
TZOFFSETFROM:-0500
TZOFFSETTO:-0400
TZNAME:EDT
DTSTART:20250309T070000
END:DAYLIGHT
BEGIN:STANDARD
TZOFFSETFROM:-0400
TZOFFSETTO:-0500
TZNAME:EST
DTSTART:20251102T060000
END:STANDARD
BEGIN:DAYLIGHT
TZOFFSETFROM:-0500
TZOFFSETTO:-0400
TZNAME:EDT
DTSTART:20260308T070000
END:DAYLIGHT
BEGIN:STANDARD
TZOFFSETFROM:-0400
TZOFFSETTO:-0500
TZNAME:EST
DTSTART:20261101T060000
END:STANDARD
BEGIN:DAYLIGHT
TZOFFSETFROM:-0500
TZOFFSETTO:-0400
TZNAME:EDT
DTSTART:20270314T070000
END:DAYLIGHT
BEGIN:STANDARD
TZOFFSETFROM:-0400
TZOFFSETTO:-0500
TZNAME:EST
DTSTART:20271107T060000
END:STANDARD
END:VTIMEZONE
BEGIN:VEVENT
DTSTART;TZID=America/New_York:20260321T160000
DTEND;TZID=America/New_York:20260321T190000
DTSTAMP:20260424T170042
CREATED:20260216T003134Z
LAST-MODIFIED:20260216T003134Z
UID:60697-1774108800-1774119600@864foodtrucks.com
SUMMARY:The Noodle Lady @ Bottles Beverage
DESCRIPTION:Authentic Chinese dishes for catering and events. Artisan Noodles and 100% Natural. Check out here our events calendar in Greenville\, South Carolina. #TheNoodleLady
URL:https://864foodtrucks.com/event/the-noodle-lady-bottles-beverage/2026-03-21/
LOCATION:Bottles Beverage Superstore\, 7 Milestone Plz\, Greenville\, South Carolina\, 29615
CATEGORIES:Food Truck Schedules,Greenville
ATTACH;FMTTYPE=image/jpeg:https://864foodtrucks.com/wp-content/uploads/2023/07/Noodle-lady.jpg
ORGANIZER;CN="The Noodle Lady":MAILTO:thenoodlelady@yahoo.com
GEO:34.8623675;-82.2700255
X-APPLE-STRUCTURED-LOCATION;VALUE=URI;X-ADDRESS=Bottles Beverage Superstore 7 Milestone Plz Greenville South Carolina 29615;X-APPLE-RADIUS=500;X-TITLE=7 Milestone Plz:geo:-82.2700255,34.8623675
END:VEVENT
BEGIN:VEVENT
DTSTART;TZID=America/New_York:20260313T130000
DTEND;TZID=America/New_York:20260313T180000
DTSTAMP:20260424T170042
CREATED:20251215T234210Z
LAST-MODIFIED:20251215T234210Z
UID:60410-1773406800-1773424800@864foodtrucks.com
SUMMARY:Uncle Luke's @ Bottles Greenville
DESCRIPTION:Uncle Lukes LLC\nNamed after my Father\nBook for Job worksite’s Corporate lunches\, Churches\, Festivals\, Apartments buildings.
URL:https://864foodtrucks.com/event/uncle-lukes-bottles-greenville/2026-03-13/
LOCATION:Bottles Beverage Superstore\, 7 Milestone Plz\, Greenville\, South Carolina\, 29615
CATEGORIES:Food Truck Schedules,Greenville
ATTACH;FMTTYPE=image/jpeg:https://864foodtrucks.com/wp-content/uploads/2025/12/Uncle-Lukes.jpg
ORGANIZER;CN="Uncle Luke's":MAILTO:j.diggs864@gmail.com
GEO:34.8623675;-82.2700255
X-APPLE-STRUCTURED-LOCATION;VALUE=URI;X-ADDRESS=Bottles Beverage Superstore 7 Milestone Plz Greenville South Carolina 29615;X-APPLE-RADIUS=500;X-TITLE=7 Milestone Plz:geo:-82.2700255,34.8623675
END:VEVENT
BEGIN:VEVENT
DTSTART;TZID=America/New_York:20260227T150000
DTEND;TZID=America/New_York:20260227T200000
DTSTAMP:20260424T170042
CREATED:20251215T234210Z
LAST-MODIFIED:20260308T194526Z
UID:60078-1772204400-1772222400@864foodtrucks.com
SUMMARY:Uncle Luke's @ Bottles Greenville
DESCRIPTION:Uncle Lukes LLC\nNamed after my Father\nBook for Job worksite’s Corporate lunches\, Churches\, Festivals\, Apartments buildings.
URL:https://864foodtrucks.com/event/uncle-lukes-bottles-greenville/2026-02-27/
LOCATION:Bottles Beverage Superstore\, 7 Milestone Plz\, Greenville\, South Carolina\, 29615
CATEGORIES:Food Truck Schedules,Greenville
ATTACH;FMTTYPE=image/jpeg:https://864foodtrucks.com/wp-content/uploads/2025/12/Uncle-Lukes.jpg
ORGANIZER;CN="Uncle Luke's":MAILTO:j.diggs864@gmail.com
GEO:34.8623675;-82.2700255
X-APPLE-STRUCTURED-LOCATION;VALUE=URI;X-ADDRESS=Bottles Beverage Superstore 7 Milestone Plz Greenville South Carolina 29615;X-APPLE-RADIUS=500;X-TITLE=7 Milestone Plz:geo:-82.2700255,34.8623675
END:VEVENT
BEGIN:VEVENT
DTSTART;TZID=America/New_York:20260221T170000
DTEND;TZID=America/New_York:20260221T200000
DTSTAMP:20260424T170042
CREATED:20260216T003134Z
LAST-MODIFIED:20260315T232345Z
UID:59735-1771693200-1771704000@864foodtrucks.com
SUMMARY:The Noodle Lady @ Bottles Beverage
DESCRIPTION:Authentic Chinese dishes for catering and events. Artisan Noodles and 100% Natural. Check out here our events calendar in Greenville\, South Carolina. #TheNoodleLady
URL:https://864foodtrucks.com/event/the-noodle-lady-bottles-beverage/2026-02-21/
LOCATION:Bottles Beverage Superstore\, 7 Milestone Plz\, Greenville\, South Carolina\, 29615
CATEGORIES:Food Truck Schedules,Greenville
ATTACH;FMTTYPE=image/jpeg:https://864foodtrucks.com/wp-content/uploads/2023/07/Noodle-lady.jpg
ORGANIZER;CN="The Noodle Lady":MAILTO:thenoodlelady@yahoo.com
GEO:34.8623675;-82.2700255
X-APPLE-STRUCTURED-LOCATION;VALUE=URI;X-ADDRESS=Bottles Beverage Superstore 7 Milestone Plz Greenville South Carolina 29615;X-APPLE-RADIUS=500;X-TITLE=7 Milestone Plz:geo:-82.2700255,34.8623675
END:VEVENT
BEGIN:VEVENT
DTSTART;TZID=America/New_York:20260213T130000
DTEND;TZID=America/New_York:20260213T180000
DTSTAMP:20260424T170042
CREATED:20251215T234210Z
LAST-MODIFIED:20260308T194525Z
UID:59601-1770987600-1771005600@864foodtrucks.com
SUMMARY:Uncle Luke's @ Bottles Greenville
DESCRIPTION:Uncle Lukes LLC\nNamed after my Father\nBook for Job worksite’s Corporate lunches\, Churches\, Festivals\, Apartments buildings.
URL:https://864foodtrucks.com/event/uncle-lukes-bottles-greenville/2026-02-13/
LOCATION:Bottles Beverage Superstore\, 7 Milestone Plz\, Greenville\, South Carolina\, 29615
CATEGORIES:Food Truck Schedules,Greenville
ATTACH;FMTTYPE=image/jpeg:https://864foodtrucks.com/wp-content/uploads/2025/12/Uncle-Lukes.jpg
ORGANIZER;CN="Uncle Luke's":MAILTO:j.diggs864@gmail.com
GEO:34.8623675;-82.2700255
X-APPLE-STRUCTURED-LOCATION;VALUE=URI;X-ADDRESS=Bottles Beverage Superstore 7 Milestone Plz Greenville South Carolina 29615;X-APPLE-RADIUS=500;X-TITLE=7 Milestone Plz:geo:-82.2700255,34.8623675
END:VEVENT
BEGIN:VEVENT
DTSTART;TZID=America/New_York:20260130T130000
DTEND;TZID=America/New_York:20260130T180000
DTSTAMP:20260424T170042
CREATED:20251215T234210Z
LAST-MODIFIED:20260308T194524Z
UID:59173-1769778000-1769796000@864foodtrucks.com
SUMMARY:Uncle Luke's @ Bottles Greenville
DESCRIPTION:Uncle Lukes LLC\nNamed after my Father\nBook for Job worksite’s Corporate lunches\, Churches\, Festivals\, Apartments buildings.
URL:https://864foodtrucks.com/event/uncle-lukes-bottles-greenville/2026-01-30/
LOCATION:Bottles Beverage Superstore\, 7 Milestone Plz\, Greenville\, South Carolina\, 29615
CATEGORIES:Food Truck Schedules,Greenville
ATTACH;FMTTYPE=image/jpeg:https://864foodtrucks.com/wp-content/uploads/2025/12/Uncle-Lukes.jpg
ORGANIZER;CN="Uncle Luke's":MAILTO:j.diggs864@gmail.com
GEO:34.8623675;-82.2700255
X-APPLE-STRUCTURED-LOCATION;VALUE=URI;X-ADDRESS=Bottles Beverage Superstore 7 Milestone Plz Greenville South Carolina 29615;X-APPLE-RADIUS=500;X-TITLE=7 Milestone Plz:geo:-82.2700255,34.8623675
END:VEVENT
BEGIN:VEVENT
DTSTART;TZID=America/New_York:20260116T130000
DTEND;TZID=America/New_York:20260116T180000
DTSTAMP:20260424T170042
CREATED:20251215T234210Z
LAST-MODIFIED:20260308T194523Z
UID:58698-1768568400-1768586400@864foodtrucks.com
SUMMARY:Uncle Luke's @ Bottles Greenville
DESCRIPTION:Uncle Lukes LLC\nNamed after my Father\nBook for Job worksite’s Corporate lunches\, Churches\, Festivals\, Apartments buildings.
URL:https://864foodtrucks.com/event/uncle-lukes-bottles-greenville/2026-01-16/
LOCATION:Bottles Beverage Superstore\, 7 Milestone Plz\, Greenville\, South Carolina\, 29615
CATEGORIES:Food Truck Schedules,Greenville
ATTACH;FMTTYPE=image/jpeg:https://864foodtrucks.com/wp-content/uploads/2025/12/Uncle-Lukes.jpg
ORGANIZER;CN="Uncle Luke's":MAILTO:j.diggs864@gmail.com
GEO:34.8623675;-82.2700255
X-APPLE-STRUCTURED-LOCATION;VALUE=URI;X-ADDRESS=Bottles Beverage Superstore 7 Milestone Plz Greenville South Carolina 29615;X-APPLE-RADIUS=500;X-TITLE=7 Milestone Plz:geo:-82.2700255,34.8623675
END:VEVENT
BEGIN:VEVENT
DTSTART;TZID=America/New_York:20251219T130000
DTEND;TZID=America/New_York:20251219T180000
DTSTAMP:20260424T170042
CREATED:20251215T234210Z
LAST-MODIFIED:20260308T194521Z
UID:57775-1766149200-1766167200@864foodtrucks.com
SUMMARY:Uncle Luke's @ Bottles Greenville
DESCRIPTION:Uncle Lukes LLC\nNamed after my Father\nBook for Job worksite’s Corporate lunches\, Churches\, Festivals\, Apartments buildings.
URL:https://864foodtrucks.com/event/uncle-lukes-bottles-greenville/2025-12-19/
LOCATION:Bottles Beverage Superstore\, 7 Milestone Plz\, Greenville\, South Carolina\, 29615
CATEGORIES:Food Truck Schedules,Greenville
ATTACH;FMTTYPE=image/jpeg:https://864foodtrucks.com/wp-content/uploads/2025/12/Uncle-Lukes.jpg
ORGANIZER;CN="Uncle Luke's":MAILTO:j.diggs864@gmail.com
GEO:34.8623675;-82.2700255
X-APPLE-STRUCTURED-LOCATION;VALUE=URI;X-ADDRESS=Bottles Beverage Superstore 7 Milestone Plz Greenville South Carolina 29615;X-APPLE-RADIUS=500;X-TITLE=7 Milestone Plz:geo:-82.2700255,34.8623675
END:VEVENT
BEGIN:VEVENT
DTSTART;TZID=America/New_York:20251018T170000
DTEND;TZID=America/New_York:20251018T170000
DTSTAMP:20260424T170042
CREATED:20251013T193939Z
LAST-MODIFIED:20251013T193939Z
UID:55064-1760806800-1760806800@864foodtrucks.com
SUMMARY:The Salted Fry @ Bottles
DESCRIPTION:100% Gluten Free Food Trailer! Crispy Belgian style pommes frites loaded with your choice of savory toppings. Choose from multiple house made sauces and unique ketchup flavors!
URL:https://864foodtrucks.com/event/the-salted-fry-bottles/
LOCATION:Bottles Beverage Superstore\, 7 Milestone Plz\, Greenville\, South Carolina\, 29615
CATEGORIES:Food Truck Schedules,Greenville
ATTACH;FMTTYPE=image/jpeg:https://864foodtrucks.com/wp-content/uploads/2025/05/The-Salted-Fry.jpg
ORGANIZER;CN="The Salted Fry":MAILTO:thesaltedfry@gmail.com
GEO:34.8623675;-82.2700255
X-APPLE-STRUCTURED-LOCATION;VALUE=URI;X-ADDRESS=Bottles Beverage Superstore 7 Milestone Plz Greenville South Carolina 29615;X-APPLE-RADIUS=500;X-TITLE=7 Milestone Plz:geo:-82.2700255,34.8623675
END:VEVENT
END:VCALENDAR