BEGIN:VCALENDAR
VERSION:2.0
PRODID:-//864 Food Trucks - ECPv6.15.20//NONSGML v1.0//EN
CALSCALE:GREGORIAN
METHOD:PUBLISH
X-ORIGINAL-URL:https://864foodtrucks.com
X-WR-CALDESC:Events for 864 Food Trucks
REFRESH-INTERVAL;VALUE=DURATION:PT1H
X-Robots-Tag:noindex
X-PUBLISHED-TTL:PT1H
BEGIN:VTIMEZONE
TZID:America/New_York
BEGIN:DAYLIGHT
TZOFFSETFROM:-0500
TZOFFSETTO:-0400
TZNAME:EDT
DTSTART:20220313T070000
END:DAYLIGHT
BEGIN:STANDARD
TZOFFSETFROM:-0400
TZOFFSETTO:-0500
TZNAME:EST
DTSTART:20221106T060000
END:STANDARD
BEGIN:DAYLIGHT
TZOFFSETFROM:-0500
TZOFFSETTO:-0400
TZNAME:EDT
DTSTART:20230312T070000
END:DAYLIGHT
BEGIN:STANDARD
TZOFFSETFROM:-0400
TZOFFSETTO:-0500
TZNAME:EST
DTSTART:20231105T060000
END:STANDARD
BEGIN:DAYLIGHT
TZOFFSETFROM:-0500
TZOFFSETTO:-0400
TZNAME:EDT
DTSTART:20240310T070000
END:DAYLIGHT
BEGIN:STANDARD
TZOFFSETFROM:-0400
TZOFFSETTO:-0500
TZNAME:EST
DTSTART:20241103T060000
END:STANDARD
END:VTIMEZONE
BEGIN:VEVENT
DTSTART;TZID=America/New_York:20231202T110000
DTEND;TZID=America/New_York:20231202T140000
DTSTAMP:20260425T202007
CREATED:20231128T141815Z
LAST-MODIFIED:20231128T141815Z
UID:24380-1701514800-1701525600@864foodtrucks.com
SUMMARY:We Got the Beets @ Toasty Farmer
DESCRIPTION:Upstate South Carolina’s first exclusively plant-based food truck! Our passion is food and our mission is simple – we want everyone to know how delicious plant-based foods can be! Serving classic street fare since 2017.
URL:https://864foodtrucks.com/event/we-got-the-beets-toasty-farmer/
LOCATION:Brewery 85\, 6 Whitlee Ct\, Greenville\, South Carolina
CATEGORIES:Food Truck Schedules,Greenville
ATTACH;FMTTYPE=image/jpeg:https://864foodtrucks.com/wp-content/uploads/2021/05/We-Got-The-Beets-Food-Truck.jpg
GEO:34.8028464;-82.3491308
X-APPLE-STRUCTURED-LOCATION;VALUE=URI;X-ADDRESS=Brewery 85 6 Whitlee Ct Greenville South Carolina;X-APPLE-RADIUS=500;X-TITLE=6 Whitlee Ct:geo:-82.3491308,34.8028464
END:VEVENT
BEGIN:VEVENT
DTSTART;TZID=America/New_York:20230311T110000
DTEND;TZID=America/New_York:20230311T140000
DTSTAMP:20260425T202007
CREATED:20230307T001456Z
LAST-MODIFIED:20230307T001456Z
UID:17335-1678532400-1678543200@864foodtrucks.com
SUMMARY:We Got The Beets @ The Toasty Farmer
DESCRIPTION:Upstate South Carolina’s first exclusively plant-based food truck! Our passion is food and our mission is simple – we want everyone to know how delicious plant-based foods can be! Serving classic street fare since 2017.
URL:https://864foodtrucks.com/event/we-got-the-beets-the-toasty-farmer-2/
LOCATION:Brewery 85\, 6 Whitlee Ct\, Greenville\, South Carolina
CATEGORIES:Food Truck Schedules,Greenville
ATTACH;FMTTYPE=image/jpeg:https://864foodtrucks.com/wp-content/uploads/2021/05/We-Got-The-Beets-Food-Truck-Square.jpg
GEO:34.8028464;-82.3491308
X-APPLE-STRUCTURED-LOCATION;VALUE=URI;X-ADDRESS=Brewery 85 6 Whitlee Ct Greenville South Carolina;X-APPLE-RADIUS=500;X-TITLE=6 Whitlee Ct:geo:-82.3491308,34.8028464
END:VEVENT
BEGIN:VEVENT
DTSTART;TZID=America/New_York:20230218T110000
DTEND;TZID=America/New_York:20230218T140000
DTSTAMP:20260425T202007
CREATED:20230212T235545Z
LAST-MODIFIED:20230227T012909Z
UID:16756-1676718000-1676728800@864foodtrucks.com
SUMMARY:Local Pie Pizza Co @ The Toasty Farmer
DESCRIPTION:Artisan Pizza Food Truck
URL:https://864foodtrucks.com/event/local-pie-pizza-co-the-toasty-farmer/2023-02-18/
LOCATION:Brewery 85\, 6 Whitlee Ct\, Greenville\, South Carolina
CATEGORIES:Food Truck Schedules,Greenville
ATTACH;FMTTYPE=image/png:https://864foodtrucks.com/wp-content/uploads/2022/01/Local-Pie.png
ORGANIZER;CN="Local Pie Pizza Company":MAILTO:cory@localpiepizzacompany.com
GEO:34.8028464;-82.3491308
X-APPLE-STRUCTURED-LOCATION;VALUE=URI;X-ADDRESS=Brewery 85 6 Whitlee Ct Greenville South Carolina;X-APPLE-RADIUS=500;X-TITLE=6 Whitlee Ct:geo:-82.3491308,34.8028464
END:VEVENT
BEGIN:VEVENT
DTSTART;TZID=America/New_York:20230204T110000
DTEND;TZID=America/New_York:20230204T140000
DTSTAMP:20260425T202007
CREATED:20230130T194304Z
LAST-MODIFIED:20230130T194304Z
UID:16429-1675508400-1675519200@864foodtrucks.com
SUMMARY:We Got the Beets @ The Toasty Farmer
DESCRIPTION:Upstate South Carolina’s first exclusively plant-based food truck! Our passion is food and our mission is simple – we want everyone to know how delicious plant-based foods can be! Serving classic street fare since 2017.
URL:https://864foodtrucks.com/event/we-got-the-beets-the-toasty-farmer/
LOCATION:Brewery 85\, 6 Whitlee Ct\, Greenville\, South Carolina
CATEGORIES:Food Truck Schedules,Greenville
ATTACH;FMTTYPE=image/jpeg:https://864foodtrucks.com/wp-content/uploads/2021/05/We-Got-The-Beets-Food-Truck.jpg
GEO:34.8028464;-82.3491308
X-APPLE-STRUCTURED-LOCATION;VALUE=URI;X-ADDRESS=Brewery 85 6 Whitlee Ct Greenville South Carolina;X-APPLE-RADIUS=500;X-TITLE=6 Whitlee Ct:geo:-82.3491308,34.8028464
END:VEVENT
BEGIN:VEVENT
DTSTART;TZID=America/New_York:20230128T120000
DTEND;TZID=America/New_York:20230128T170000
DTSTAMP:20260425T202007
CREATED:20230127T203336Z
LAST-MODIFIED:20230127T203336Z
UID:16367-1674907200-1674925200@864foodtrucks.com
SUMMARY:Rad Dad's BBQ @ Toasty Farmer
DESCRIPTION:We at Rad Dad’s are determined to bring the best BBQ and friendliest service possible. If there is one thing we love more than slow cooked BBQ it’s people! We want to bring family and friends together because that’s what BBQ truly represents.
URL:https://864foodtrucks.com/event/rad-dads-bbq-toasty-farmer/
LOCATION:Brewery 85\, 6 Whitlee Ct\, Greenville\, South Carolina
CATEGORIES:Food Truck Schedules,Greenville
ATTACH;FMTTYPE=image/jpeg:https://864foodtrucks.com/wp-content/uploads/2021/05/Rad-Dads-BBQ-and-Catering-Truck.jpg
ORGANIZER;CN="Rad Dad's BBQ and Catering":MAILTO:info@raddadsbbq.com
GEO:34.8028464;-82.3491308
X-APPLE-STRUCTURED-LOCATION;VALUE=URI;X-ADDRESS=Brewery 85 6 Whitlee Ct Greenville South Carolina;X-APPLE-RADIUS=500;X-TITLE=6 Whitlee Ct:geo:-82.3491308,34.8028464
END:VEVENT
BEGIN:VEVENT
DTSTART;TZID=America/New_York:20230121T110000
DTEND;TZID=America/New_York:20230121T110000
DTSTAMP:20260425T202007
CREATED:20230118T202200Z
LAST-MODIFIED:20230131T195257Z
UID:16244-1674298800-1674298800@864foodtrucks.com
SUMMARY:Obey the Crave @ The Toasty Farmer
DESCRIPTION:Homemade Cookies Baked randomly. Please follow our Instagram to see when we are taking orders. Best way to get cookies fresh. Currently servicing the Greenville SC area.
URL:https://864foodtrucks.com/event/obey-the-crave-the-toasty-farmer/2023-01-21/
LOCATION:Brewery 85\, 6 Whitlee Ct\, Greenville\, South Carolina
CATEGORIES:Food Truck Schedules,Taylors
ATTACH;FMTTYPE=image/jpeg:https://864foodtrucks.com/wp-content/uploads/2021/05/obey-the-crave-truck.jpg
ORGANIZER;CN="Obey the Crave":MAILTO:creamcookiesmiami@gmail.com
GEO:34.8028464;-82.3491308
X-APPLE-STRUCTURED-LOCATION;VALUE=URI;X-ADDRESS=Brewery 85 6 Whitlee Ct Greenville South Carolina;X-APPLE-RADIUS=500;X-TITLE=6 Whitlee Ct:geo:-82.3491308,34.8028464
END:VEVENT
END:VCALENDAR