BEGIN:VCALENDAR
VERSION:2.0
PRODID:-//864 Food Trucks - ECPv6.15.20//NONSGML v1.0//EN
CALSCALE:GREGORIAN
METHOD:PUBLISH
X-ORIGINAL-URL:https://864foodtrucks.com
X-WR-CALDESC:Events for 864 Food Trucks
REFRESH-INTERVAL;VALUE=DURATION:PT1H
X-Robots-Tag:noindex
X-PUBLISHED-TTL:PT1H
BEGIN:VTIMEZONE
TZID:America/New_York
BEGIN:DAYLIGHT
TZOFFSETFROM:-0500
TZOFFSETTO:-0400
TZNAME:EDT
DTSTART:20230312T070000
END:DAYLIGHT
BEGIN:STANDARD
TZOFFSETFROM:-0400
TZOFFSETTO:-0500
TZNAME:EST
DTSTART:20231105T060000
END:STANDARD
BEGIN:DAYLIGHT
TZOFFSETFROM:-0500
TZOFFSETTO:-0400
TZNAME:EDT
DTSTART:20240310T070000
END:DAYLIGHT
BEGIN:STANDARD
TZOFFSETFROM:-0400
TZOFFSETTO:-0500
TZNAME:EST
DTSTART:20241103T060000
END:STANDARD
BEGIN:DAYLIGHT
TZOFFSETFROM:-0500
TZOFFSETTO:-0400
TZNAME:EDT
DTSTART:20250309T070000
END:DAYLIGHT
BEGIN:STANDARD
TZOFFSETFROM:-0400
TZOFFSETTO:-0500
TZNAME:EST
DTSTART:20251102T060000
END:STANDARD
END:VTIMEZONE
BEGIN:VEVENT
DTSTART;TZID=America/New_York:20240330T120000
DTEND;TZID=America/New_York:20240330T150000
DTSTAMP:20260425T165839
CREATED:20240325T183207Z
LAST-MODIFIED:20240325T183207Z
UID:26958-1711800000-1711810800@864foodtrucks.com
SUMMARY:Matty's Pattys @ Cooperleaf Townhomes
DESCRIPTION:https://www.instagram.com/churro.masters/
URL:https://864foodtrucks.com/event/mattys-pattys-cooperleaf-townhomes/
LOCATION:Cooperleaf Townhomes\, Copperleaf Lane 100\, Anderson\, South Carolina\, 29625\, United States
CATEGORIES:Anderson,Food Truck Schedules
ATTACH;FMTTYPE=image/jpeg:https://864foodtrucks.com/wp-content/uploads/2022/10/Mattys-Pattys.jpg
ORGANIZER;CN="Mattys Pattys":MAILTO:thebradfordfoodgroup@gmail.com
GEO:34.542962;-82.675549
X-APPLE-STRUCTURED-LOCATION;VALUE=URI;X-ADDRESS=Cooperleaf Townhomes Copperleaf Lane 100 Anderson South Carolina 29625 United States;X-APPLE-RADIUS=500;X-TITLE=Copperleaf Lane 100:geo:-82.675549,34.542962
END:VEVENT
END:VCALENDAR