BEGIN:VCALENDAR
VERSION:2.0
PRODID:-//864 Food Trucks - ECPv6.15.20//NONSGML v1.0//EN
CALSCALE:GREGORIAN
METHOD:PUBLISH
X-WR-CALNAME:864 Food Trucks
X-ORIGINAL-URL:https://864foodtrucks.com
X-WR-CALDESC:Events for 864 Food Trucks
REFRESH-INTERVAL;VALUE=DURATION:PT1H
X-Robots-Tag:noindex
X-PUBLISHED-TTL:PT1H
BEGIN:VTIMEZONE
TZID:America/New_York
BEGIN:DAYLIGHT
TZOFFSETFROM:-0500
TZOFFSETTO:-0400
TZNAME:EDT
DTSTART:20220313T070000
END:DAYLIGHT
BEGIN:STANDARD
TZOFFSETFROM:-0400
TZOFFSETTO:-0500
TZNAME:EST
DTSTART:20221106T060000
END:STANDARD
BEGIN:DAYLIGHT
TZOFFSETFROM:-0500
TZOFFSETTO:-0400
TZNAME:EDT
DTSTART:20230312T070000
END:DAYLIGHT
BEGIN:STANDARD
TZOFFSETFROM:-0400
TZOFFSETTO:-0500
TZNAME:EST
DTSTART:20231105T060000
END:STANDARD
BEGIN:DAYLIGHT
TZOFFSETFROM:-0500
TZOFFSETTO:-0400
TZNAME:EDT
DTSTART:20240310T070000
END:DAYLIGHT
BEGIN:STANDARD
TZOFFSETFROM:-0400
TZOFFSETTO:-0500
TZNAME:EST
DTSTART:20241103T060000
END:STANDARD
BEGIN:DAYLIGHT
TZOFFSETFROM:-0500
TZOFFSETTO:-0400
TZNAME:EDT
DTSTART:20250309T070000
END:DAYLIGHT
BEGIN:STANDARD
TZOFFSETFROM:-0400
TZOFFSETTO:-0500
TZNAME:EST
DTSTART:20251102T060000
END:STANDARD
END:VTIMEZONE
BEGIN:VEVENT
DTSTART;TZID=America/New_York:20240518T170000
DTEND;TZID=America/New_York:20240518T193000
DTSTAMP:20260425T230436
CREATED:20240514T144445Z
LAST-MODIFIED:20240514T144445Z
UID:28277-1716051600-1716060600@864foodtrucks.com
SUMMARY:Bingbi Sushi @ Cooper Creek
DESCRIPTION:The one and only Sushi Truck in Greenville\n🍣🥙 contact us for all events 📱813-838-7887
URL:https://864foodtrucks.com/event/bingbi-sushi-cooper-creek/
LOCATION:Copper Creek\, 1 Damascus Dr\, Simpsonville\, SC\, 29681\, United States
CATEGORIES:Food Truck Schedules,Simpsonville
ATTACH;FMTTYPE=image/jpeg:https://864foodtrucks.com/wp-content/uploads/2023/11/Bingbi-Sushi.jpg
ORGANIZER;CN="Bingbi Sushi":MAILTO:bingbisushi@gmail.com
GEO:34.769681;-82.200137
X-APPLE-STRUCTURED-LOCATION;VALUE=URI;X-ADDRESS=Copper Creek 1 Damascus Dr Simpsonville SC 29681 United States;X-APPLE-RADIUS=500;X-TITLE=1 Damascus Dr:geo:-82.200137,34.769681
END:VEVENT
BEGIN:VEVENT
DTSTART;TZID=America/New_York:20230802T170000
DTEND;TZID=America/New_York:20230802T190000
DTSTAMP:20260425T230437
CREATED:20230731T155718Z
LAST-MODIFIED:20230731T155718Z
UID:21627-1690995600-1691002800@864foodtrucks.com
SUMMARY:Lobster Dogs @ Copper Creek
DESCRIPTION:Food truck serving the Best Lobster Rolls & Stuffed Avocados in the Carolinas
URL:https://864foodtrucks.com/event/lobster-dogs-copper-creek-2/
LOCATION:Copper Creek\, 1 Damascus Dr\, Simpsonville\, SC\, 29681\, United States
CATEGORIES:Food Truck Schedules,Simpsonville
ATTACH;FMTTYPE=image/jpeg:https://864foodtrucks.com/wp-content/uploads/2021/05/lobster-dogs-Food-Truck.jpg
ORGANIZER;CN="Lobster Dogs":MAILTO:lobsterdogs3@gmail.com
GEO:34.769681;-82.200137
X-APPLE-STRUCTURED-LOCATION;VALUE=URI;X-ADDRESS=Copper Creek 1 Damascus Dr Simpsonville SC 29681 United States;X-APPLE-RADIUS=500;X-TITLE=1 Damascus Dr:geo:-82.200137,34.769681
END:VEVENT
BEGIN:VEVENT
DTSTART;TZID=America/New_York:20230618T120000
DTEND;TZID=America/New_York:20230618T140000
DTSTAMP:20260425T230437
CREATED:20230612T120335Z
LAST-MODIFIED:20230612T120335Z
UID:19648-1687089600-1687096800@864foodtrucks.com
SUMMARY:Larrio's Doggie Wagon @ Copper Creek
DESCRIPTION:Larrio’s Doggie Wagon is a mobile hot dog cart and catering service and birthday and event.
URL:https://864foodtrucks.com/event/larrios-doggie-wagon-copper-creek/
LOCATION:Copper Creek\, 1 Damascus Dr\, Simpsonville\, SC\, 29681\, United States
CATEGORIES:Food Truck Schedules,Simpsonville
ATTACH;FMTTYPE=image/jpeg:https://864foodtrucks.com/wp-content/uploads/2022/03/Larrios-Doggie-Wagon-Display.jpg
ORGANIZER;CN="Larrio's Doggie Wagon":MAILTO:larriosdoggiewagon@yahoo.com
GEO:34.769681;-82.200137
X-APPLE-STRUCTURED-LOCATION;VALUE=URI;X-ADDRESS=Copper Creek 1 Damascus Dr Simpsonville SC 29681 United States;X-APPLE-RADIUS=500;X-TITLE=1 Damascus Dr:geo:-82.200137,34.769681
END:VEVENT
BEGIN:VEVENT
DTSTART;TZID=America/New_York:20230525T170000
DTEND;TZID=America/New_York:20230525T190000
DTSTAMP:20260425T230437
CREATED:20230521T185647Z
LAST-MODIFIED:20230521T185647Z
UID:19099-1685034000-1685041200@864foodtrucks.com
SUMMARY:Lobster Dogs @ Copper Creek
DESCRIPTION:Food truck serving the Best Lobster Rolls & Stuffed Avocados in the Carolinas
URL:https://864foodtrucks.com/event/lobster-dogs-copper-creek/
LOCATION:Copper Creek\, 1 Damascus Dr\, Simpsonville\, SC\, 29681\, United States
CATEGORIES:Food Truck Schedules,Simpsonville
ATTACH;FMTTYPE=image/jpeg:https://864foodtrucks.com/wp-content/uploads/2021/05/lobster-dogs-Food-Truck.jpg
ORGANIZER;CN="Lobster Dogs":MAILTO:lobsterdogs3@gmail.com
GEO:34.769681;-82.200137
X-APPLE-STRUCTURED-LOCATION;VALUE=URI;X-ADDRESS=Copper Creek 1 Damascus Dr Simpsonville SC 29681 United States;X-APPLE-RADIUS=500;X-TITLE=1 Damascus Dr:geo:-82.200137,34.769681
END:VEVENT
BEGIN:VEVENT
DTSTART;TZID=America/New_York:20230520T120000
DTEND;TZID=America/New_York:20230520T140000
DTSTAMP:20260425T230437
CREATED:20230508T154909Z
LAST-MODIFIED:20230508T154909Z
UID:18803-1684584000-1684591200@864foodtrucks.com
SUMMARY:Sky Cream Ice Cream @ Copper Creek
DESCRIPTION:Greenville’s cutest ice cream truck coming to a neighborhood near you!
URL:https://864foodtrucks.com/event/sky-cream-ice-cream-copper-creek/
LOCATION:Copper Creek\, 1 Damascus Dr\, Simpsonville\, SC\, 29681\, United States
CATEGORIES:Food Truck Schedules,Simpsonville
ATTACH;FMTTYPE=image/jpeg:https://864foodtrucks.com/wp-content/uploads/2022/05/Sky-Cream-Ice-Cream-Truck.jpg
ORGANIZER;CN="Sky Cream Ice Cream Truck":MAILTO:skycreamicecreamtruck@gmail.com
GEO:34.769681;-82.200137
X-APPLE-STRUCTURED-LOCATION;VALUE=URI;X-ADDRESS=Copper Creek 1 Damascus Dr Simpsonville SC 29681 United States;X-APPLE-RADIUS=500;X-TITLE=1 Damascus Dr:geo:-82.200137,34.769681
END:VEVENT
BEGIN:VEVENT
DTSTART;TZID=America/New_York:20230519T170000
DTEND;TZID=America/New_York:20230519T200000
DTSTAMP:20260425T230437
CREATED:20230516T161343Z
LAST-MODIFIED:20230516T161343Z
UID:19047-1684515600-1684526400@864foodtrucks.com
SUMMARY:Dos Bros @ Copper Creek
DESCRIPTION:
URL:https://864foodtrucks.com/event/dos-bros-copper-creek/
LOCATION:Copper Creek\, 1 Damascus Dr\, Simpsonville\, SC\, 29681\, United States
CATEGORIES:Food Truck Schedules,Greer
ATTACH;FMTTYPE=image/jpeg:https://864foodtrucks.com/wp-content/uploads/2021/10/Dos-Bros-Tacos-Truck.jpg
ORGANIZER;CN="Dos Bros Tacos 864":MAILTO:jesusi86@yahoo.com
GEO:34.769681;-82.200137
X-APPLE-STRUCTURED-LOCATION;VALUE=URI;X-ADDRESS=Copper Creek 1 Damascus Dr Simpsonville SC 29681 United States;X-APPLE-RADIUS=500;X-TITLE=1 Damascus Dr:geo:-82.200137,34.769681
END:VEVENT
END:VCALENDAR