BEGIN:VCALENDAR
VERSION:2.0
PRODID:-//864 Food Trucks - ECPv6.15.20//NONSGML v1.0//EN
CALSCALE:GREGORIAN
METHOD:PUBLISH
X-WR-CALNAME:864 Food Trucks
X-ORIGINAL-URL:https://864foodtrucks.com
X-WR-CALDESC:Events for 864 Food Trucks
REFRESH-INTERVAL;VALUE=DURATION:PT1H
X-Robots-Tag:noindex
X-PUBLISHED-TTL:PT1H
BEGIN:VTIMEZONE
TZID:America/New_York
BEGIN:DAYLIGHT
TZOFFSETFROM:-0500
TZOFFSETTO:-0400
TZNAME:EDT
DTSTART:20220313T070000
END:DAYLIGHT
BEGIN:STANDARD
TZOFFSETFROM:-0400
TZOFFSETTO:-0500
TZNAME:EST
DTSTART:20221106T060000
END:STANDARD
BEGIN:DAYLIGHT
TZOFFSETFROM:-0500
TZOFFSETTO:-0400
TZNAME:EDT
DTSTART:20230312T070000
END:DAYLIGHT
BEGIN:STANDARD
TZOFFSETFROM:-0400
TZOFFSETTO:-0500
TZNAME:EST
DTSTART:20231105T060000
END:STANDARD
BEGIN:DAYLIGHT
TZOFFSETFROM:-0500
TZOFFSETTO:-0400
TZNAME:EDT
DTSTART:20240310T070000
END:DAYLIGHT
BEGIN:STANDARD
TZOFFSETFROM:-0400
TZOFFSETTO:-0500
TZNAME:EST
DTSTART:20241103T060000
END:STANDARD
BEGIN:DAYLIGHT
TZOFFSETFROM:-0500
TZOFFSETTO:-0400
TZNAME:EDT
DTSTART:20250309T070000
END:DAYLIGHT
BEGIN:STANDARD
TZOFFSETFROM:-0400
TZOFFSETTO:-0500
TZNAME:EST
DTSTART:20251102T060000
END:STANDARD
END:VTIMEZONE
BEGIN:VEVENT
DTSTART;TZID=America/New_York:20240514T170000
DTEND;TZID=America/New_York:20240514T193000
DTSTAMP:20260424T185327
CREATED:20240513T162935Z
LAST-MODIFIED:20250428T181328Z
UID:28231-1715706000-1715715000@864foodtrucks.com
SUMMARY:Local Pie Pizza Co @ District West
DESCRIPTION:Artisan Pizza Food Truck
URL:https://864foodtrucks.com/event/local-pie-pizza-co-district-west-4/2024-05-14/
LOCATION:District West\, 101 Reedy View Dr\, Greenville\, SC\, United States
CATEGORIES:Food Truck Schedules,Greenville
ATTACH;FMTTYPE=image/jpeg:https://864foodtrucks.com/wp-content/uploads/2021/12/Local-Pie-Pizza-3.jpg
ORGANIZER;CN="Local Pie Pizza Company":MAILTO:cory@localpiepizzacompany.com
END:VEVENT
BEGIN:VEVENT
DTSTART;TZID=America/New_York:20230519T173000
DTEND;TZID=America/New_York:20230519T193000
DTSTAMP:20260424T185327
CREATED:20230515T152431Z
LAST-MODIFIED:20230515T152431Z
UID:18994-1684517400-1684524600@864foodtrucks.com
SUMMARY:Too Sauc'd Up @ District West
DESCRIPTION:
URL:https://864foodtrucks.com/event/too-saucd-up-district-west/
LOCATION:District West\, 101 Reedy View Dr\, Greenville\, SC\, United States
CATEGORIES:Food Truck Schedules,Greenville
ATTACH;FMTTYPE=image/jpeg:https://864foodtrucks.com/wp-content/uploads/2022/07/Too-Saucd-Up.jpg
ORGANIZER;CN="Too Sauc'D Up":MAILTO:toosauc.dup@gmail.com
END:VEVENT
BEGIN:VEVENT
DTSTART;TZID=America/New_York:20230411T170000
DTEND;TZID=America/New_York:20230411T193000
DTSTAMP:20260424T185327
CREATED:20230411T122312Z
LAST-MODIFIED:20231106T204320Z
UID:18193-1681232400-1681241400@864foodtrucks.com
SUMMARY:Local Pie Pizza Co @ District West
DESCRIPTION:Artisan Pizza Food Truck
URL:https://864foodtrucks.com/event/local-pie-pizza-co-district-west-3/2023-04-11/
LOCATION:District West\, 101 Reedy View Dr\, Greenville\, SC\, United States
CATEGORIES:Food Truck Schedules,Greenville
ATTACH;FMTTYPE=image/jpeg:https://864foodtrucks.com/wp-content/uploads/2021/12/Local-Pie-Pizza-3.jpg
ORGANIZER;CN="Local Pie Pizza Company":MAILTO:cory@localpiepizzacompany.com
END:VEVENT
BEGIN:VEVENT
DTSTART;TZID=America/New_York:20230208T170000
DTEND;TZID=America/New_York:20230208T193000
DTSTAMP:20260424T185327
CREATED:20230206T005900Z
LAST-MODIFIED:20230206T005900Z
UID:16542-1675875600-1675884600@864foodtrucks.com
SUMMARY:Local Pie Pizza Co @ District West
DESCRIPTION:Artisan Pizza Food Truck
URL:https://864foodtrucks.com/event/local-pie-pizza-co-district-west-2/
LOCATION:District West\, 101 Reedy View Dr\, Greenville\, SC\, United States
CATEGORIES:Food Truck Schedules,Greenville
ATTACH;FMTTYPE=image/png:https://864foodtrucks.com/wp-content/uploads/2022/01/Local-Pie.png
ORGANIZER;CN="Local Pie Pizza Company":MAILTO:cory@localpiepizzacompany.com
END:VEVENT
BEGIN:VEVENT
DTSTART;TZID=America/New_York:20230124T170000
DTEND;TZID=America/New_York:20230124T193000
DTSTAMP:20260424T185327
CREATED:20230123T191001Z
LAST-MODIFIED:20230320T192735Z
UID:16278-1674579600-1674588600@864foodtrucks.com
SUMMARY:Local Pie Pizza Co @ District West
DESCRIPTION:Artisan Pizza Food Truck
URL:https://864foodtrucks.com/event/local-pie-pizza-co-district-west/2023-01-24/
LOCATION:District West\, 101 Reedy View Dr\, Greenville\, SC\, United States
CATEGORIES:Food Truck Schedules,Greenville
ATTACH;FMTTYPE=image/png:https://864foodtrucks.com/wp-content/uploads/2022/01/Local-Pie.png
ORGANIZER;CN="Local Pie Pizza Company":MAILTO:cory@localpiepizzacompany.com
END:VEVENT
END:VCALENDAR