BEGIN:VCALENDAR
VERSION:2.0
PRODID:-//864 Food Trucks - ECPv6.15.20//NONSGML v1.0//EN
CALSCALE:GREGORIAN
METHOD:PUBLISH
X-ORIGINAL-URL:https://864foodtrucks.com
X-WR-CALDESC:Events for 864 Food Trucks
REFRESH-INTERVAL;VALUE=DURATION:PT1H
X-Robots-Tag:noindex
X-PUBLISHED-TTL:PT1H
BEGIN:VTIMEZONE
TZID:America/New_York
BEGIN:DAYLIGHT
TZOFFSETFROM:-0500
TZOFFSETTO:-0400
TZNAME:EDT
DTSTART:20220313T070000
END:DAYLIGHT
BEGIN:STANDARD
TZOFFSETFROM:-0400
TZOFFSETTO:-0500
TZNAME:EST
DTSTART:20221106T060000
END:STANDARD
BEGIN:DAYLIGHT
TZOFFSETFROM:-0500
TZOFFSETTO:-0400
TZNAME:EDT
DTSTART:20230312T070000
END:DAYLIGHT
BEGIN:STANDARD
TZOFFSETFROM:-0400
TZOFFSETTO:-0500
TZNAME:EST
DTSTART:20231105T060000
END:STANDARD
BEGIN:DAYLIGHT
TZOFFSETFROM:-0500
TZOFFSETTO:-0400
TZNAME:EDT
DTSTART:20240310T070000
END:DAYLIGHT
BEGIN:STANDARD
TZOFFSETFROM:-0400
TZOFFSETTO:-0500
TZNAME:EST
DTSTART:20241103T060000
END:STANDARD
BEGIN:DAYLIGHT
TZOFFSETFROM:-0500
TZOFFSETTO:-0400
TZNAME:EDT
DTSTART:20250309T070000
END:DAYLIGHT
BEGIN:STANDARD
TZOFFSETFROM:-0400
TZOFFSETTO:-0500
TZNAME:EST
DTSTART:20251102T060000
END:STANDARD
END:VTIMEZONE
BEGIN:VEVENT
DTSTART;TZID=America/New_York:20240314T170000
DTEND;TZID=America/New_York:20240314T190000
DTSTAMP:20260425T203347
CREATED:20240310T233339Z
LAST-MODIFIED:20240310T233339Z
UID:26576-1710435600-1710442800@864foodtrucks.com
SUMMARY:Healthy Food Truck GVL @ Emerald Creek
DESCRIPTION:🌶️MEXICAN FLAVOR\n🍅HEALTHY FOOD\n🥬MEAL PREPS
URL:https://864foodtrucks.com/event/healthy-food-truck-gvl-emerald-creek/
LOCATION:Emerald Creek\, 301 Fairforest Way\, Greenville\, SC\, United States
CATEGORIES:Food Truck Schedules,Greenville
ATTACH;FMTTYPE=image/jpeg:https://864foodtrucks.com/wp-content/uploads/2023/02/Healthy-Food-Truck-Greenville.jpg
ORGANIZER;CN="Healthy Food Truck GVL":MAILTO:Nefgym@gmail.com
END:VEVENT
BEGIN:VEVENT
DTSTART;TZID=America/New_York:20240305T173000
DTEND;TZID=America/New_York:20240305T193000
DTSTAMP:20260425T203347
CREATED:20240304T192219Z
LAST-MODIFIED:20240304T192219Z
UID:26475-1709659800-1709667000@864foodtrucks.com
SUMMARY:Kodesh BBQ Bowls @ Emerald Creek
DESCRIPTION:Kodesh BBQ Bowls is a mobile food trailer that provides a heap amount of Levitical clean\, flavorful\, pit smoked BBQ. We’ve also come up with a link between enjoying our delicious BBQ and providing healthier options\, our cultural inspired bowls!
URL:https://864foodtrucks.com/event/kodesh-bbq-bowls-emerald-creek-2/
LOCATION:Emerald Creek\, 301 Fairforest Way\, Greenville\, SC\, United States
CATEGORIES:Food Truck Schedules,Greenville
ATTACH;FMTTYPE=image/jpeg:https://864foodtrucks.com/wp-content/uploads/2023/07/Kodesh-BBQ.jpg
ORGANIZER;CN="Kodesh BBQ & Bowls":MAILTO:kodeshbbq@gmail.com
END:VEVENT
BEGIN:VEVENT
DTSTART;TZID=America/New_York:20230913T180000
DTEND;TZID=America/New_York:20230913T200000
DTSTAMP:20260425T203347
CREATED:20230911T175930Z
LAST-MODIFIED:20230911T175930Z
UID:22777-1694628000-1694635200@864foodtrucks.com
SUMMARY:Too Sauc'd Up @ Emerald Creek
DESCRIPTION:
URL:https://864foodtrucks.com/event/too-saucd-up-emerald-creek-2/
LOCATION:Emerald Creek\, 301 Fairforest Way\, Greenville\, SC\, United States
CATEGORIES:Food Truck Schedules,Greenville
ATTACH;FMTTYPE=image/jpeg:https://864foodtrucks.com/wp-content/uploads/2022/07/Too-Saucd-Up.jpg
ORGANIZER;CN="Too Sauc'D Up":MAILTO:toosauc.dup@gmail.com
END:VEVENT
BEGIN:VEVENT
DTSTART;TZID=America/New_York:20230712T170000
DTEND;TZID=America/New_York:20230712T193000
DTSTAMP:20260425T203347
CREATED:20230710T194246Z
LAST-MODIFIED:20240401T172657Z
UID:20717-1689181200-1689190200@864foodtrucks.com
SUMMARY:Local Pie Pizza Co @ Emerald Creek
DESCRIPTION:Artisan Pizza Food Truck
URL:https://864foodtrucks.com/event/local-pie-pizza-co-emerald-creek-2/2023-07-12/
LOCATION:Emerald Creek\, 301 Fairforest Way\, Greenville\, SC\, United States
CATEGORIES:Food Truck Schedules,Greenville
ATTACH;FMTTYPE=image/jpeg:https://864foodtrucks.com/wp-content/uploads/2021/12/Local-Pie-Pizza-3.jpg
ORGANIZER;CN="Local Pie Pizza Company":MAILTO:cory@localpiepizzacompany.com
END:VEVENT
BEGIN:VEVENT
DTSTART;TZID=America/New_York:20230706T170000
DTEND;TZID=America/New_York:20230706T190000
DTSTAMP:20260425T203347
CREATED:20230703T145039Z
LAST-MODIFIED:20230703T145039Z
UID:20398-1688662800-1688670000@864foodtrucks.com
SUMMARY:Lobster Dogs @ Emerald Creek
DESCRIPTION:Food truck serving the Best Lobster Rolls & Stuffed Avocados in the Carolinas
URL:https://864foodtrucks.com/event/lobster-dogs-emerald-creek/
LOCATION:Emerald Creek\, 301 Fairforest Way\, Greenville\, SC\, United States
CATEGORIES:Food Truck Schedules,Greenville
ATTACH;FMTTYPE=image/jpeg:https://864foodtrucks.com/wp-content/uploads/2021/05/lobster-dogs-Food-Truck.jpg
ORGANIZER;CN="Lobster Dogs":MAILTO:lobsterdogs3@gmail.com
END:VEVENT
BEGIN:VEVENT
DTSTART;TZID=America/New_York:20230614T180000
DTEND;TZID=America/New_York:20230614T200000
DTSTAMP:20260425T203347
CREATED:20230612T165641Z
LAST-MODIFIED:20230612T165641Z
UID:19664-1686765600-1686772800@864foodtrucks.com
SUMMARY:Too Sauc'd Up @ Emerald Creek
DESCRIPTION:
URL:https://864foodtrucks.com/event/too-saucd-up-emerald-creek/
LOCATION:Emerald Creek\, 301 Fairforest Way\, Greenville\, SC\, United States
CATEGORIES:Food Truck Schedules,Greenville
ATTACH;FMTTYPE=image/jpeg:https://864foodtrucks.com/wp-content/uploads/2022/07/Too-Saucd-Up.jpg
ORGANIZER;CN="Too Sauc'D Up":MAILTO:toosauc.dup@gmail.com
END:VEVENT
BEGIN:VEVENT
DTSTART;TZID=America/New_York:20230530T173000
DTEND;TZID=America/New_York:20230530T193000
DTSTAMP:20260425T203347
CREATED:20230529T180641Z
LAST-MODIFIED:20230926T004243Z
UID:19241-1685467800-1685475000@864foodtrucks.com
SUMMARY:Kodesh BBQ Bowls @ Emerald Creek
DESCRIPTION:Kodesh BBQ Bowls is a mobile food trailer that provides a heap amount of Levitical clean\, flavorful\, pit smoked BBQ. We’ve also come up with a link between enjoying our delicious BBQ and providing healthier options\, our cultural inspired bowls!
URL:https://864foodtrucks.com/event/kodesh-bbq-bowls-emerald-creek/2023-05-30/
LOCATION:Emerald Creek\, 301 Fairforest Way\, Greenville\, SC\, United States
CATEGORIES:Food Truck Schedules,Greenville
ATTACH;FMTTYPE=image/jpeg:https://864foodtrucks.com/wp-content/uploads/2022/05/Kodesh-BBQ.jpg
ORGANIZER;CN="Kodesh BBQ & Bowls":MAILTO:kodeshbbq@gmail.com
END:VEVENT
BEGIN:VEVENT
DTSTART;TZID=America/New_York:20230201T170000
DTEND;TZID=America/New_York:20230201T193000
DTSTAMP:20260425T203347
CREATED:20230130T192051Z
LAST-MODIFIED:20230724T181540Z
UID:16407-1675270800-1675279800@864foodtrucks.com
SUMMARY:Local Pie Pizza Co @ Emerald Creek
DESCRIPTION:Artisan Pizza Food Truck
URL:https://864foodtrucks.com/event/local-pie-pizza-co-emerald-creek/2023-02-01/
LOCATION:Emerald Creek\, 301 Fairforest Way\, Greenville\, SC\, United States
CATEGORIES:Food Truck Schedules,Greenville
ATTACH;FMTTYPE=image/png:https://864foodtrucks.com/wp-content/uploads/2022/01/Local-Pie.png
ORGANIZER;CN="Local Pie Pizza Company":MAILTO:cory@localpiepizzacompany.com
END:VEVENT
END:VCALENDAR