BEGIN:VCALENDAR
VERSION:2.0
PRODID:-//864 Food Trucks - ECPv6.15.20//NONSGML v1.0//EN
CALSCALE:GREGORIAN
METHOD:PUBLISH
X-ORIGINAL-URL:https://864foodtrucks.com
X-WR-CALDESC:Events for 864 Food Trucks
REFRESH-INTERVAL;VALUE=DURATION:PT1H
X-Robots-Tag:noindex
X-PUBLISHED-TTL:PT1H
BEGIN:VTIMEZONE
TZID:America/New_York
BEGIN:DAYLIGHT
TZOFFSETFROM:-0500
TZOFFSETTO:-0400
TZNAME:EDT
DTSTART:20210314T070000
END:DAYLIGHT
BEGIN:STANDARD
TZOFFSETFROM:-0400
TZOFFSETTO:-0500
TZNAME:EST
DTSTART:20211107T060000
END:STANDARD
BEGIN:DAYLIGHT
TZOFFSETFROM:-0500
TZOFFSETTO:-0400
TZNAME:EDT
DTSTART:20220313T070000
END:DAYLIGHT
BEGIN:STANDARD
TZOFFSETFROM:-0400
TZOFFSETTO:-0500
TZNAME:EST
DTSTART:20221106T060000
END:STANDARD
BEGIN:DAYLIGHT
TZOFFSETFROM:-0500
TZOFFSETTO:-0400
TZNAME:EDT
DTSTART:20230312T070000
END:DAYLIGHT
BEGIN:STANDARD
TZOFFSETFROM:-0400
TZOFFSETTO:-0500
TZNAME:EST
DTSTART:20231105T060000
END:STANDARD
BEGIN:DAYLIGHT
TZOFFSETFROM:-0500
TZOFFSETTO:-0400
TZNAME:EDT
DTSTART:20240310T070000
END:DAYLIGHT
BEGIN:STANDARD
TZOFFSETFROM:-0400
TZOFFSETTO:-0500
TZNAME:EST
DTSTART:20241103T060000
END:STANDARD
BEGIN:DAYLIGHT
TZOFFSETFROM:-0500
TZOFFSETTO:-0400
TZNAME:EDT
DTSTART:20250309T070000
END:DAYLIGHT
BEGIN:STANDARD
TZOFFSETFROM:-0400
TZOFFSETTO:-0500
TZNAME:EST
DTSTART:20251102T060000
END:STANDARD
END:VTIMEZONE
BEGIN:VEVENT
DTSTART;TZID=America/New_York:20240509T120000
DTEND;TZID=America/New_York:20240509T140000
DTSTAMP:20260424T054518
CREATED:20240429T191221Z
LAST-MODIFIED:20240429T191221Z
UID:27662-1715256000-1715263200@864foodtrucks.com
SUMMARY:Mac Attack @ Eva Hurley State Farm
DESCRIPTION:Mac & Cheese Artists for catering and events in the Upcountry.
URL:https://864foodtrucks.com/event/mac-attack-eva-hurley-state-farm/
LOCATION:Eva Hurley State Farm\, 3906 S Highway 14\, Greenville\, South Carolina
CATEGORIES:Food Truck Schedules,Greenville
ATTACH;FMTTYPE=image/jpeg:https://864foodtrucks.com/wp-content/uploads/2021/05/Mac-Attack.jpg
ORGANIZER;CN="Mac Attack":MAILTO:macattackgvl@gmail.com
GEO:34.8221327;-82.2569293
X-APPLE-STRUCTURED-LOCATION;VALUE=URI;X-ADDRESS=Eva Hurley State Farm 3906 S Highway 14 Greenville South Carolina;X-APPLE-RADIUS=500;X-TITLE=3906 S Highway 14:geo:-82.2569293,34.8221327
END:VEVENT
BEGIN:VEVENT
DTSTART;TZID=America/New_York:20240214T073000
DTEND;TZID=America/New_York:20240214T103000
DTSTAMP:20260424T054518
CREATED:20240212T201550Z
LAST-MODIFIED:20240212T201550Z
UID:25828-1707895800-1707906600@864foodtrucks.com
SUMMARY:Vita Nova Coffee & Tea @ Eva Hurley State Farm
DESCRIPTION:The vision of Vita Nova is to bring communities together around good coffee\, delicacies and various entertainment!
URL:https://864foodtrucks.com/event/vita-nova-coffee-tea-eva-hurley-state-farm/
LOCATION:Eva Hurley State Farm\, 3906 S Highway 14\, Greenville\, South Carolina
CATEGORIES:Food Truck Schedules,Greenville
ATTACH;FMTTYPE=image/jpeg:https://864foodtrucks.com/wp-content/uploads/2023/06/Vita-Nova-1.jpg
ORGANIZER;CN="Vita Nova Coffee And Tea":MAILTO:Vitanova3710@gmail.com
GEO:34.8221327;-82.2569293
X-APPLE-STRUCTURED-LOCATION;VALUE=URI;X-ADDRESS=Eva Hurley State Farm 3906 S Highway 14 Greenville South Carolina;X-APPLE-RADIUS=500;X-TITLE=3906 S Highway 14:geo:-82.2569293,34.8221327
END:VEVENT
BEGIN:VEVENT
DTSTART;TZID=America/New_York:20230714T080000
DTEND;TZID=America/New_York:20230714T080000
DTSTAMP:20260424T054518
CREATED:20230711T200310Z
LAST-MODIFIED:20230711T200310Z
UID:20764-1689321600-1689321600@864foodtrucks.com
SUMMARY:Roaming Ritual @ Eva Hurley State Farm
DESCRIPTION:A mobile coffee trailer serving parts of Greenville County\, SC !
URL:https://864foodtrucks.com/event/roaming-ritual-eva-hurley-state-farm-2/
LOCATION:Eva Hurley State Farm\, 3906 S Highway 14\, Greenville\, South Carolina
CATEGORIES:Food Truck Schedules,Greenville
ATTACH;FMTTYPE=image/jpeg:https://864foodtrucks.com/wp-content/uploads/2022/10/Roaming-Ritual-Trailer-e1666182278753.jpg
ORGANIZER;CN="Roaming Ritual":MAILTO:Roamingritualcoffee@gmail.com
GEO:34.8221327;-82.2569293
X-APPLE-STRUCTURED-LOCATION;VALUE=URI;X-ADDRESS=Eva Hurley State Farm 3906 S Highway 14 Greenville South Carolina;X-APPLE-RADIUS=500;X-TITLE=3906 S Highway 14:geo:-82.2569293,34.8221327
END:VEVENT
BEGIN:VEVENT
DTSTART;TZID=America/New_York:20230414T110000
DTEND;TZID=America/New_York:20230414T140000
DTSTAMP:20260424T054518
CREATED:20230410T135053Z
LAST-MODIFIED:20230410T135053Z
UID:18149-1681470000-1681480800@864foodtrucks.com
SUMMARY:Healthy Food Truck GVL @ Eva Hurley State Farm
DESCRIPTION:🌶️MEXICAN FLAVOR\n🍅HEALTHY FOOD\n🥬MEAL PREPS
URL:https://864foodtrucks.com/event/healthy-food-truck-gvl-eva-hurley-state-farm/
LOCATION:Eva Hurley State Farm\, 3906 S Highway 14\, Greenville\, South Carolina
CATEGORIES:Food Truck Schedules,Greenville
ATTACH;FMTTYPE=image/jpeg:https://864foodtrucks.com/wp-content/uploads/2023/02/Healthy-Food-Truck-Greenville.jpg
ORGANIZER;CN="Healthy Food Truck GVL":MAILTO:Nefgym@gmail.com
GEO:34.8221327;-82.2569293
X-APPLE-STRUCTURED-LOCATION;VALUE=URI;X-ADDRESS=Eva Hurley State Farm 3906 S Highway 14 Greenville South Carolina;X-APPLE-RADIUS=500;X-TITLE=3906 S Highway 14:geo:-82.2569293,34.8221327
END:VEVENT
BEGIN:VEVENT
DTSTART;TZID=America/New_York:20221209T073000
DTEND;TZID=America/New_York:20221209T113000
DTSTAMP:20260424T054518
CREATED:20221205T204837Z
LAST-MODIFIED:20230124T013240Z
UID:15437-1670571000-1670585400@864foodtrucks.com
SUMMARY:Roaming Ritual @ Eva Hurley State Farm
DESCRIPTION:A mobile coffee trailer serving parts of Greenville County\, SC !
URL:https://864foodtrucks.com/event/roaming-ritual-eva-hurley-state-farm/2022-12-09/
LOCATION:Eva Hurley State Farm\, 3906 S Highway 14\, Greenville\, South Carolina
CATEGORIES:Food Truck Schedules,Greenville
ATTACH;FMTTYPE=image/jpeg:https://864foodtrucks.com/wp-content/uploads/2022/10/Roaming-Ritual-Trailer-e1666182278753.jpg
ORGANIZER;CN="Roaming Ritual":MAILTO:Roamingritualcoffee@gmail.com
GEO:34.8221327;-82.2569293
X-APPLE-STRUCTURED-LOCATION;VALUE=URI;X-ADDRESS=Eva Hurley State Farm 3906 S Highway 14 Greenville South Carolina;X-APPLE-RADIUS=500;X-TITLE=3906 S Highway 14:geo:-82.2569293,34.8221327
END:VEVENT
END:VCALENDAR