BEGIN:VCALENDAR
VERSION:2.0
PRODID:-//864 Food Trucks - ECPv6.15.20//NONSGML v1.0//EN
CALSCALE:GREGORIAN
METHOD:PUBLISH
X-WR-CALNAME:864 Food Trucks
X-ORIGINAL-URL:https://864foodtrucks.com
X-WR-CALDESC:Events for 864 Food Trucks
REFRESH-INTERVAL;VALUE=DURATION:PT1H
X-Robots-Tag:noindex
X-PUBLISHED-TTL:PT1H
BEGIN:VTIMEZONE
TZID:America/New_York
BEGIN:DAYLIGHT
TZOFFSETFROM:-0500
TZOFFSETTO:-0400
TZNAME:EDT
DTSTART:20210314T070000
END:DAYLIGHT
BEGIN:STANDARD
TZOFFSETFROM:-0400
TZOFFSETTO:-0500
TZNAME:EST
DTSTART:20211107T060000
END:STANDARD
BEGIN:DAYLIGHT
TZOFFSETFROM:-0500
TZOFFSETTO:-0400
TZNAME:EDT
DTSTART:20220313T070000
END:DAYLIGHT
BEGIN:STANDARD
TZOFFSETFROM:-0400
TZOFFSETTO:-0500
TZNAME:EST
DTSTART:20221106T060000
END:STANDARD
BEGIN:DAYLIGHT
TZOFFSETFROM:-0500
TZOFFSETTO:-0400
TZNAME:EDT
DTSTART:20230312T070000
END:DAYLIGHT
BEGIN:STANDARD
TZOFFSETFROM:-0400
TZOFFSETTO:-0500
TZNAME:EST
DTSTART:20231105T060000
END:STANDARD
END:VTIMEZONE
BEGIN:VEVENT
DTSTART;TZID=America/New_York:20221203T130000
DTEND;TZID=America/New_York:20221203T130000
DTSTAMP:20260425T145411
CREATED:20221128T191156Z
LAST-MODIFIED:20221212T185156Z
UID:15028-1670072400-1670072400@864foodtrucks.com
SUMMARY:Castillo Mobile Cigar @ Farmhouse Taco
DESCRIPTION:Elevate your gathering with our unique mobile cigar lounge. We’ll bring the party to you and create a customized experience for an unforgettable event.
URL:https://864foodtrucks.com/event/castillo-mobile-cigar-farmhouse-taco/2022-12-03/
LOCATION:Farmhouse Tacos\, 1813 Laurens Rd\, Greenville\, South Carolina
CATEGORIES:Food Truck Schedules,Laurens
ATTACH;FMTTYPE=image/jpeg:https://864foodtrucks.com/wp-content/uploads/2021/05/Castillo-Mobile-Cigar-Lounge-Trailer.jpg
ORGANIZER;CN="Castillo Mobile Cigar":MAILTO:castillomobilecigar@gmail.com
GEO:34.839778;-82.3568441
X-APPLE-STRUCTURED-LOCATION;VALUE=URI;X-ADDRESS=Farmhouse Tacos 1813 Laurens Rd Greenville South Carolina;X-APPLE-RADIUS=500;X-TITLE=1813 Laurens Rd:geo:-82.3568441,34.839778
END:VEVENT
END:VCALENDAR