BEGIN:VCALENDAR
VERSION:2.0
PRODID:-//864 Food Trucks - ECPv6.15.20//NONSGML v1.0//EN
CALSCALE:GREGORIAN
METHOD:PUBLISH
X-WR-CALNAME:864 Food Trucks
X-ORIGINAL-URL:https://864foodtrucks.com
X-WR-CALDESC:Events for 864 Food Trucks
REFRESH-INTERVAL;VALUE=DURATION:PT1H
X-Robots-Tag:noindex
X-PUBLISHED-TTL:PT1H
BEGIN:VTIMEZONE
TZID:America/New_York
BEGIN:DAYLIGHT
TZOFFSETFROM:-0500
TZOFFSETTO:-0400
TZNAME:EDT
DTSTART:20230312T070000
END:DAYLIGHT
BEGIN:STANDARD
TZOFFSETFROM:-0400
TZOFFSETTO:-0500
TZNAME:EST
DTSTART:20231105T060000
END:STANDARD
BEGIN:DAYLIGHT
TZOFFSETFROM:-0500
TZOFFSETTO:-0400
TZNAME:EDT
DTSTART:20240310T070000
END:DAYLIGHT
BEGIN:STANDARD
TZOFFSETFROM:-0400
TZOFFSETTO:-0500
TZNAME:EST
DTSTART:20241103T060000
END:STANDARD
BEGIN:DAYLIGHT
TZOFFSETFROM:-0500
TZOFFSETTO:-0400
TZNAME:EDT
DTSTART:20250309T070000
END:DAYLIGHT
BEGIN:STANDARD
TZOFFSETFROM:-0400
TZOFFSETTO:-0500
TZNAME:EST
DTSTART:20251102T060000
END:STANDARD
BEGIN:DAYLIGHT
TZOFFSETFROM:-0500
TZOFFSETTO:-0400
TZNAME:EDT
DTSTART:20260308T070000
END:DAYLIGHT
BEGIN:STANDARD
TZOFFSETFROM:-0400
TZOFFSETTO:-0500
TZNAME:EST
DTSTART:20261101T060000
END:STANDARD
END:VTIMEZONE
BEGIN:VEVENT
DTSTART;TZID=America/New_York:20251214T170000
DTEND;TZID=America/New_York:20251214T180000
DTSTAMP:20260424T142002
CREATED:20250806T145658Z
LAST-MODIFIED:20250806T145658Z
UID:57610-1765731600-1765735200@864foodtrucks.com
SUMMARY:Dos Bros @ Fellowship Church
DESCRIPTION:
URL:https://864foodtrucks.com/event/dos-bros-fellowship-church/2025-12-14/
LOCATION:Fellowship Greenville Church\, 3161 S Highway 14\, Greenville\, South Carolina
CATEGORIES:Food Truck Schedules,Greenville
ATTACH;FMTTYPE=image/jpeg:https://864foodtrucks.com/wp-content/uploads/2021/10/Dos-Bros-Tacos-Truck.jpg
ORGANIZER;CN="Dos Bros Tacos 864":MAILTO:jesusi86@yahoo.com
GEO:34.845637;-82.2363434
X-APPLE-STRUCTURED-LOCATION;VALUE=URI;X-ADDRESS=Fellowship Greenville Church 3161 S Highway 14 Greenville South Carolina;X-APPLE-RADIUS=500;X-TITLE=3161 S Highway 14:geo:-82.2363434,34.845637
END:VEVENT
BEGIN:VEVENT
DTSTART;TZID=America/New_York:20251115T090000
DTEND;TZID=America/New_York:20251115T140000
DTSTAMP:20260424T142002
CREATED:20251110T210258Z
LAST-MODIFIED:20251110T210258Z
UID:56172-1763197200-1763215200@864foodtrucks.com
SUMMARY:Simpell Sammies @ Fellowship Greenville Christmas Market
DESCRIPTION:Simpell Sammies is open for business and ready to serve you flavorful and delicious sandwiches and hoagies.
URL:https://864foodtrucks.com/event/simpell-sammies-fellowship-greenville-christmas-market/
LOCATION:Fellowship Greenville Church\, 3161 S Highway 14\, Greenville\, South Carolina
CATEGORIES:Food Truck Schedules,Greenville
ATTACH;FMTTYPE=image/jpeg:https://864foodtrucks.com/wp-content/uploads/2023/06/Simpell-Sammies-Trailer.jpg
ORGANIZER;CN="Simpell Sammies":MAILTO:info@simpelltreats.com
GEO:34.845637;-82.2363434
X-APPLE-STRUCTURED-LOCATION;VALUE=URI;X-ADDRESS=Fellowship Greenville Church 3161 S Highway 14 Greenville South Carolina;X-APPLE-RADIUS=500;X-TITLE=3161 S Highway 14:geo:-82.2363434,34.845637
END:VEVENT
BEGIN:VEVENT
DTSTART;TZID=America/New_York:20250810T170000
DTEND;TZID=America/New_York:20250810T200000
DTSTAMP:20260424T142002
CREATED:20250806T145658Z
LAST-MODIFIED:20251211T171215Z
UID:51747-1754845200-1754856000@864foodtrucks.com
SUMMARY:Dos Bros @ Fellowship Church
DESCRIPTION:
URL:https://864foodtrucks.com/event/dos-bros-fellowship-church/2025-08-10/
LOCATION:Fellowship Greenville Church\, 3161 S Highway 14\, Greenville\, South Carolina
CATEGORIES:Food Truck Schedules,Greenville
ATTACH;FMTTYPE=image/jpeg:https://864foodtrucks.com/wp-content/uploads/2021/10/Dos-Bros-Tacos-Truck.jpg
ORGANIZER;CN="Dos Bros Tacos 864":MAILTO:jesusi86@yahoo.com
GEO:34.845637;-82.2363434
X-APPLE-STRUCTURED-LOCATION;VALUE=URI;X-ADDRESS=Fellowship Greenville Church 3161 S Highway 14 Greenville South Carolina;X-APPLE-RADIUS=500;X-TITLE=3161 S Highway 14:geo:-82.2363434,34.845637
END:VEVENT
BEGIN:VEVENT
DTSTART;TZID=America/New_York:20250330T163000
DTEND;TZID=America/New_York:20250330T190000
DTSTAMP:20260424T142002
CREATED:20250324T211742Z
LAST-MODIFIED:20250324T211742Z
UID:43294-1743352200-1743361200@864foodtrucks.com
SUMMARY:Churro Masters @ Fellowship Greenville
DESCRIPTION:Delicious CHURROS made fresh!
URL:https://864foodtrucks.com/event/churro-masters-fellowship-greenville/
LOCATION:Fellowship Greenville Church\, 3161 S Highway 14\, Greenville\, South Carolina
CATEGORIES:Food Truck Schedules,Greenville
ATTACH;FMTTYPE=image/jpeg:https://864foodtrucks.com/wp-content/uploads/2025/03/Churro-Masters.jpg
ORGANIZER;CN="Churro Masters":MAILTO:Churromastersemail@gmail.com
GEO:34.845637;-82.2363434
X-APPLE-STRUCTURED-LOCATION;VALUE=URI;X-ADDRESS=Fellowship Greenville Church 3161 S Highway 14 Greenville South Carolina;X-APPLE-RADIUS=500;X-TITLE=3161 S Highway 14:geo:-82.2363434,34.845637
END:VEVENT
BEGIN:VEVENT
DTSTART;TZID=America/New_York:20241116T090000
DTEND;TZID=America/New_York:20241116T140000
DTSTAMP:20260424T142002
CREATED:20241111T193234Z
LAST-MODIFIED:20241111T193234Z
UID:39874-1731747600-1731765600@864foodtrucks.com
SUMMARY:Dos Bros Tacos @ Christmas Market
DESCRIPTION:
URL:https://864foodtrucks.com/event/dos-bros-tacos-christmas-market/
LOCATION:Fellowship Greenville Church\, 3161 S Highway 14\, Greenville\, South Carolina
CATEGORIES:Food Truck Schedules,Greenville
ATTACH;FMTTYPE=image/jpeg:https://864foodtrucks.com/wp-content/uploads/2021/10/Dos-Bros-Tacos-Truck.jpg
ORGANIZER;CN="Dos Bros Tacos 864":MAILTO:jesusi86@yahoo.com
GEO:34.845637;-82.2363434
X-APPLE-STRUCTURED-LOCATION;VALUE=URI;X-ADDRESS=Fellowship Greenville Church 3161 S Highway 14 Greenville South Carolina;X-APPLE-RADIUS=500;X-TITLE=3161 S Highway 14:geo:-82.2363434,34.845637
END:VEVENT
END:VCALENDAR