BEGIN:VCALENDAR
VERSION:2.0
PRODID:-//864 Food Trucks - ECPv6.15.20//NONSGML v1.0//EN
CALSCALE:GREGORIAN
METHOD:PUBLISH
X-WR-CALNAME:864 Food Trucks
X-ORIGINAL-URL:https://864foodtrucks.com
X-WR-CALDESC:Events for 864 Food Trucks
REFRESH-INTERVAL;VALUE=DURATION:PT1H
X-Robots-Tag:noindex
X-PUBLISHED-TTL:PT1H
BEGIN:VTIMEZONE
TZID:America/New_York
BEGIN:DAYLIGHT
TZOFFSETFROM:-0500
TZOFFSETTO:-0400
TZNAME:EDT
DTSTART:20220313T070000
END:DAYLIGHT
BEGIN:STANDARD
TZOFFSETFROM:-0400
TZOFFSETTO:-0500
TZNAME:EST
DTSTART:20221106T060000
END:STANDARD
BEGIN:DAYLIGHT
TZOFFSETFROM:-0500
TZOFFSETTO:-0400
TZNAME:EDT
DTSTART:20230312T070000
END:DAYLIGHT
BEGIN:STANDARD
TZOFFSETFROM:-0400
TZOFFSETTO:-0500
TZNAME:EST
DTSTART:20231105T060000
END:STANDARD
BEGIN:DAYLIGHT
TZOFFSETFROM:-0500
TZOFFSETTO:-0400
TZNAME:EDT
DTSTART:20240310T070000
END:DAYLIGHT
BEGIN:STANDARD
TZOFFSETFROM:-0400
TZOFFSETTO:-0500
TZNAME:EST
DTSTART:20241103T060000
END:STANDARD
BEGIN:DAYLIGHT
TZOFFSETFROM:-0500
TZOFFSETTO:-0400
TZNAME:EDT
DTSTART:20250309T070000
END:DAYLIGHT
BEGIN:STANDARD
TZOFFSETFROM:-0400
TZOFFSETTO:-0500
TZNAME:EST
DTSTART:20251102T060000
END:STANDARD
BEGIN:DAYLIGHT
TZOFFSETFROM:-0500
TZOFFSETTO:-0400
TZNAME:EDT
DTSTART:20260308T070000
END:DAYLIGHT
BEGIN:STANDARD
TZOFFSETFROM:-0400
TZOFFSETTO:-0500
TZNAME:EST
DTSTART:20261101T060000
END:STANDARD
BEGIN:DAYLIGHT
TZOFFSETFROM:-0500
TZOFFSETTO:-0400
TZNAME:EDT
DTSTART:20270314T070000
END:DAYLIGHT
BEGIN:STANDARD
TZOFFSETFROM:-0400
TZOFFSETTO:-0500
TZNAME:EST
DTSTART:20271107T060000
END:STANDARD
END:VTIMEZONE
BEGIN:VEVENT
DTSTART;TZID=America/New_York:20260404T170000
DTEND;TZID=America/New_York:20260404T193000
DTSTAMP:20260425T203337
CREATED:20230212T235420Z
LAST-MODIFIED:20230212T235420Z
UID:61229-1775322000-1775331000@864foodtrucks.com
SUMMARY:Local Pie Pizza Co @ Forrester Heights
DESCRIPTION:Artisan Pizza Food Truck
URL:https://864foodtrucks.com/event/local-pie-pizza-co-forrester-heights/2026-04-04/
LOCATION:Forrester Heights\, 150 Rivanna Ln\,\, Greenville\, South Carolina
CATEGORIES:Food Truck Schedules,Greenville
ATTACH;FMTTYPE=image/png:https://864foodtrucks.com/wp-content/uploads/2022/01/Local-Pie.png
ORGANIZER;CN="Local Pie Pizza Company":MAILTO:cory@localpiepizzacompany.com
GEO:34.807567;-82.3025813
X-APPLE-STRUCTURED-LOCATION;VALUE=URI;X-ADDRESS=Forrester Heights 150 Rivanna Ln Greenville South Carolina;X-APPLE-RADIUS=500;X-TITLE=150 Rivanna Ln\,:geo:-82.3025813,34.807567
END:VEVENT
BEGIN:VEVENT
DTSTART;TZID=America/New_York:20230617T150000
DTEND;TZID=America/New_York:20230617T180000
DTSTAMP:20260425T203337
CREATED:20230613T002340Z
LAST-MODIFIED:20230613T002340Z
UID:19693-1687014000-1687024800@864foodtrucks.com
SUMMARY:Churro Masters @ Forrester Heights
DESCRIPTION:Delicious CHURROS made fresh!
URL:https://864foodtrucks.com/event/churro-masters-forrester-heights/
LOCATION:Forrester Heights\, 150 Rivanna Ln\,\, Greenville\, South Carolina
CATEGORIES:Food Truck Schedules,Greenville
ATTACH;FMTTYPE=image/jpeg:https://864foodtrucks.com/wp-content/uploads/2023/05/Churro-Masters-1.jpg
ORGANIZER;CN="Churro Masters":MAILTO:Churromastersemail@gmail.com
GEO:34.807567;-82.3025813
X-APPLE-STRUCTURED-LOCATION;VALUE=URI;X-ADDRESS=Forrester Heights 150 Rivanna Ln Greenville South Carolina;X-APPLE-RADIUS=500;X-TITLE=150 Rivanna Ln\,:geo:-82.3025813,34.807567
END:VEVENT
BEGIN:VEVENT
DTSTART;TZID=America/New_York:20230426T173000
DTEND;TZID=America/New_York:20230426T193000
DTSTAMP:20260425T203337
CREATED:20230423T193715Z
LAST-MODIFIED:20230423T193715Z
UID:18381-1682530200-1682537400@864foodtrucks.com
SUMMARY:Spinx Cluk Truk @ Forrester Heights
DESCRIPTION:Your favorite southern fried chicken is hitting the road—and it’s going to be legendary. Our community comes first\, and we want to share that tender love by bringing our homegrown menu to you. The Cluk Truk is coming Fall 2020 to the Upstate!
URL:https://864foodtrucks.com/event/spinx-cluk-truk-forrester-heights/
LOCATION:Forrester Heights\, 150 Rivanna Ln\,\, Greenville\, South Carolina
CATEGORIES:Food Truck Schedules,Greenville
ATTACH;FMTTYPE=image/jpeg:https://864foodtrucks.com/wp-content/uploads/2021/05/Spinx-Cluk-Truk-Truck.jpg
ORGANIZER;CN="Spinx Cluk Truk":MAILTO:cluktruk@spinxco.com
GEO:34.807567;-82.3025813
X-APPLE-STRUCTURED-LOCATION;VALUE=URI;X-ADDRESS=Forrester Heights 150 Rivanna Ln Greenville South Carolina;X-APPLE-RADIUS=500;X-TITLE=150 Rivanna Ln\,:geo:-82.3025813,34.807567
END:VEVENT
BEGIN:VEVENT
DTSTART;TZID=America/New_York:20230215T170000
DTEND;TZID=America/New_York:20230215T193000
DTSTAMP:20260425T203337
CREATED:20230212T235420Z
LAST-MODIFIED:20260330T185131Z
UID:16754-1676480400-1676489400@864foodtrucks.com
SUMMARY:Local Pie Pizza Co @ Forrester Heights
DESCRIPTION:Artisan Pizza Food Truck
URL:https://864foodtrucks.com/event/local-pie-pizza-co-forrester-heights/2023-02-15/
LOCATION:Forrester Heights\, 150 Rivanna Ln\,\, Greenville\, South Carolina
CATEGORIES:Food Truck Schedules,Greenville
ATTACH;FMTTYPE=image/png:https://864foodtrucks.com/wp-content/uploads/2022/01/Local-Pie.png
ORGANIZER;CN="Local Pie Pizza Company":MAILTO:cory@localpiepizzacompany.com
GEO:34.807567;-82.3025813
X-APPLE-STRUCTURED-LOCATION;VALUE=URI;X-ADDRESS=Forrester Heights 150 Rivanna Ln Greenville South Carolina;X-APPLE-RADIUS=500;X-TITLE=150 Rivanna Ln\,:geo:-82.3025813,34.807567
END:VEVENT
END:VCALENDAR