BEGIN:VCALENDAR
VERSION:2.0
PRODID:-//864 Food Trucks - ECPv6.15.20//NONSGML v1.0//EN
CALSCALE:GREGORIAN
METHOD:PUBLISH
X-ORIGINAL-URL:https://864foodtrucks.com
X-WR-CALDESC:Events for 864 Food Trucks
REFRESH-INTERVAL;VALUE=DURATION:PT1H
X-Robots-Tag:noindex
X-PUBLISHED-TTL:PT1H
BEGIN:VTIMEZONE
TZID:America/New_York
BEGIN:DAYLIGHT
TZOFFSETFROM:-0500
TZOFFSETTO:-0400
TZNAME:EDT
DTSTART:20220313T070000
END:DAYLIGHT
BEGIN:STANDARD
TZOFFSETFROM:-0400
TZOFFSETTO:-0500
TZNAME:EST
DTSTART:20221106T060000
END:STANDARD
BEGIN:DAYLIGHT
TZOFFSETFROM:-0500
TZOFFSETTO:-0400
TZNAME:EDT
DTSTART:20230312T070000
END:DAYLIGHT
BEGIN:STANDARD
TZOFFSETFROM:-0400
TZOFFSETTO:-0500
TZNAME:EST
DTSTART:20231105T060000
END:STANDARD
BEGIN:DAYLIGHT
TZOFFSETFROM:-0500
TZOFFSETTO:-0400
TZNAME:EDT
DTSTART:20240310T070000
END:DAYLIGHT
BEGIN:STANDARD
TZOFFSETFROM:-0400
TZOFFSETTO:-0500
TZNAME:EST
DTSTART:20241103T060000
END:STANDARD
END:VTIMEZONE
BEGIN:VEVENT
DTSTART;TZID=America/New_York:20231108T110000
DTEND;TZID=America/New_York:20231108T140000
DTSTAMP:20260425T233312
CREATED:20231106T011428Z
LAST-MODIFIED:20231106T011428Z
UID:23932-1699441200-1699452000@864foodtrucks.com
SUMMARY:Simpell Sammies @ Friddles Orthopedics
DESCRIPTION:Simpell Sammies is open for business and ready to serve you flavorful and delicious sandwiches and hoagies.
URL:https://864foodtrucks.com/event/simpell-sammies-friddles-orthopedics-2/
LOCATION:Friddle’s Orthopedic Appliances\, 12306 Belton Honea Path Hwy\, Honea Path\, SC\, United States
CATEGORIES:Food Truck Schedules,Honea Path
ATTACH;FMTTYPE=image/jpeg:https://864foodtrucks.com/wp-content/uploads/2023/06/Simpell-Sammies-Trailer.jpg
ORGANIZER;CN="Simpell Sammies":MAILTO:info@simpelltreats.com
END:VEVENT
BEGIN:VEVENT
DTSTART;TZID=America/New_York:20230919T110000
DTEND;TZID=America/New_York:20230919T140000
DTSTAMP:20260425T233312
CREATED:20230918T161349Z
LAST-MODIFIED:20230918T161349Z
UID:22869-1695121200-1695132000@864foodtrucks.com
SUMMARY:Simpell Sammies @ Friddles Orthopedics
DESCRIPTION:Simpell Sammies is open for business and ready to serve you flavorful and delicious sandwiches and hoagies.
URL:https://864foodtrucks.com/event/simpell-sammies-friddles-orthopedics/
LOCATION:Friddle’s Orthopedic Appliances\, 12306 Belton Honea Path Hwy\, Honea Path\, SC\, United States
CATEGORIES:Food Truck Schedules,Honea Path
ATTACH;FMTTYPE=image/jpeg:https://864foodtrucks.com/wp-content/uploads/2023/06/Simpell-Sammies-Trailer.jpg
ORGANIZER;CN="Simpell Sammies":MAILTO:info@simpelltreats.com
END:VEVENT
BEGIN:VEVENT
DTSTART;TZID=America/New_York:20230712T113000
DTEND;TZID=America/New_York:20230712T140000
DTSTAMP:20260425T233312
CREATED:20230710T192604Z
LAST-MODIFIED:20230710T192604Z
UID:20695-1689161400-1689170400@864foodtrucks.com
SUMMARY:The Krispy Cow @ Friddle Orthopedics
DESCRIPTION:
URL:https://864foodtrucks.com/event/the-krispy-cow-friddle-orthopedics/
LOCATION:Friddle’s Orthopedic Appliances\, 12306 Belton Honea Path Hwy\, Honea Path\, SC\, United States
CATEGORIES:Food Truck Schedules,Honea Path
ATTACH;FMTTYPE=image/png:https://864foodtrucks.com/wp-content/uploads/2023/07/Krispy-Cow.png
ORGANIZER;CN="The Krispy Cow":MAILTO:info@thekrispycow.com
END:VEVENT
BEGIN:VEVENT
DTSTART;TZID=America/New_York:20230404T110000
DTEND;TZID=America/New_York:20230404T130000
DTSTAMP:20260425T233312
CREATED:20230404T013127Z
LAST-MODIFIED:20230404T013127Z
UID:18042-1680606000-1680613200@864foodtrucks.com
SUMMARY:Kodesh BBQ Bowls @ Friddle's Orthopedic Appliances
DESCRIPTION:Kodesh BBQ Bowls is a mobile food trailer that provides a heap amount of Levitical clean\, flavorful\, pit smoked BBQ. We’ve also come up with a link between enjoying our delicious BBQ and providing healthier options\, our cultural inspired bowls!
URL:https://864foodtrucks.com/event/kodesh-bbq-bowls-friddles-orthopedic-appliances/
LOCATION:Friddle’s Orthopedic Appliances\, 12306 Belton Honea Path Hwy\, Honea Path\, SC\, United States
CATEGORIES:Food Truck Schedules,Honea Path
ATTACH;FMTTYPE=image/jpeg:https://864foodtrucks.com/wp-content/uploads/2022/05/Kodesh-BBQ.jpg
ORGANIZER;CN="Kodesh BBQ & Bowls":MAILTO:kodeshbbq@gmail.com
END:VEVENT
END:VCALENDAR