BEGIN:VCALENDAR
VERSION:2.0
PRODID:-//864 Food Trucks - ECPv6.15.20//NONSGML v1.0//EN
CALSCALE:GREGORIAN
METHOD:PUBLISH
X-WR-CALNAME:864 Food Trucks
X-ORIGINAL-URL:https://864foodtrucks.com
X-WR-CALDESC:Events for 864 Food Trucks
REFRESH-INTERVAL;VALUE=DURATION:PT1H
X-Robots-Tag:noindex
X-PUBLISHED-TTL:PT1H
BEGIN:VTIMEZONE
TZID:America/New_York
BEGIN:DAYLIGHT
TZOFFSETFROM:-0500
TZOFFSETTO:-0400
TZNAME:EDT
DTSTART:20240310T070000
END:DAYLIGHT
BEGIN:STANDARD
TZOFFSETFROM:-0400
TZOFFSETTO:-0500
TZNAME:EST
DTSTART:20241103T060000
END:STANDARD
BEGIN:DAYLIGHT
TZOFFSETFROM:-0500
TZOFFSETTO:-0400
TZNAME:EDT
DTSTART:20250309T070000
END:DAYLIGHT
BEGIN:STANDARD
TZOFFSETFROM:-0400
TZOFFSETTO:-0500
TZNAME:EST
DTSTART:20251102T060000
END:STANDARD
BEGIN:DAYLIGHT
TZOFFSETFROM:-0500
TZOFFSETTO:-0400
TZNAME:EDT
DTSTART:20260308T070000
END:DAYLIGHT
BEGIN:STANDARD
TZOFFSETFROM:-0400
TZOFFSETTO:-0500
TZNAME:EST
DTSTART:20261101T060000
END:STANDARD
END:VTIMEZONE
BEGIN:VEVENT
DTSTART;TZID=America/New_York:20250626T160000
DTEND;TZID=America/New_York:20250626T190000
DTSTAMP:20260424T185328
CREATED:20250623T225620Z
LAST-MODIFIED:20250623T225620Z
UID:48968-1750953600-1750964400@864foodtrucks.com
SUMMARY:Lai Sushi @ Glen Lake
DESCRIPTION:Roll into flavor at our food truck! Serving fresh\, hand-crafted sushi and bold Asian (Lai) fusion!
URL:https://864foodtrucks.com/event/lai-sushi-glen-lake/
LOCATION:Glen Lake\, 202 Stewarts Landing\, Boiling Springs\, South Carolina
CATEGORIES:Boiling Springs,Food Truck Schedules
ATTACH;FMTTYPE=image/jpeg:https://864foodtrucks.com/wp-content/uploads/2025/04/Lai-Sushi-Express.jpg
ORGANIZER;CN="Lai Sushi Express":MAILTO:Laisushiexpress@gmail.com
GEO:35.0233253;-81.978336
X-APPLE-STRUCTURED-LOCATION;VALUE=URI;X-ADDRESS=Glen Lake 202 Stewarts Landing Boiling Springs South Carolina;X-APPLE-RADIUS=500;X-TITLE=202 Stewarts Landing:geo:-81.978336,35.0233253
END:VEVENT
END:VCALENDAR