BEGIN:VCALENDAR
VERSION:2.0
PRODID:-//864 Food Trucks - ECPv6.15.20//NONSGML v1.0//EN
CALSCALE:GREGORIAN
METHOD:PUBLISH
X-ORIGINAL-URL:https://864foodtrucks.com
X-WR-CALDESC:Events for 864 Food Trucks
REFRESH-INTERVAL;VALUE=DURATION:PT1H
X-Robots-Tag:noindex
X-PUBLISHED-TTL:PT1H
BEGIN:VTIMEZONE
TZID:America/New_York
BEGIN:DAYLIGHT
TZOFFSETFROM:-0500
TZOFFSETTO:-0400
TZNAME:EDT
DTSTART:20220313T070000
END:DAYLIGHT
BEGIN:STANDARD
TZOFFSETFROM:-0400
TZOFFSETTO:-0500
TZNAME:EST
DTSTART:20221106T060000
END:STANDARD
BEGIN:DAYLIGHT
TZOFFSETFROM:-0500
TZOFFSETTO:-0400
TZNAME:EDT
DTSTART:20230312T070000
END:DAYLIGHT
BEGIN:STANDARD
TZOFFSETFROM:-0400
TZOFFSETTO:-0500
TZNAME:EST
DTSTART:20231105T060000
END:STANDARD
BEGIN:DAYLIGHT
TZOFFSETFROM:-0500
TZOFFSETTO:-0400
TZNAME:EDT
DTSTART:20240310T070000
END:DAYLIGHT
BEGIN:STANDARD
TZOFFSETFROM:-0400
TZOFFSETTO:-0500
TZNAME:EST
DTSTART:20241103T060000
END:STANDARD
BEGIN:DAYLIGHT
TZOFFSETFROM:-0500
TZOFFSETTO:-0400
TZNAME:EDT
DTSTART:20250309T070000
END:DAYLIGHT
BEGIN:STANDARD
TZOFFSETFROM:-0400
TZOFFSETTO:-0500
TZNAME:EST
DTSTART:20251102T060000
END:STANDARD
BEGIN:DAYLIGHT
TZOFFSETFROM:-0500
TZOFFSETTO:-0400
TZNAME:EDT
DTSTART:20260308T070000
END:DAYLIGHT
BEGIN:STANDARD
TZOFFSETFROM:-0400
TZOFFSETTO:-0500
TZNAME:EST
DTSTART:20261101T060000
END:STANDARD
END:VTIMEZONE
BEGIN:VEVENT
DTSTART;TZID=America/New_York:20250725T173000
DTEND;TZID=America/New_York:20250725T173000
DTSTAMP:20260424T123537
CREATED:20250723T011035Z
LAST-MODIFIED:20250723T011035Z
UID:50923-1753464600-1753464600@864foodtrucks.com
SUMMARY:Fuel Foods @ Alien Rave
DESCRIPTION:Fuel Foods – Food Truck & Catering\nClean\, Unique & Delicious!\nLocated in Clemson & Upstate\, SC 📍\nBook Us for Events! Contact for More Info!
URL:https://864foodtrucks.com/event/fuel-foods-alien-rave/2025-07-25/
LOCATION:Golden Grove Farm and Brew\, 115 Krim Road\, Pelzer\, South Carolina
CATEGORIES:Food Truck Schedules,Pelzer
ATTACH;FMTTYPE=image/png:https://864foodtrucks.com/wp-content/uploads/2025/03/Fuel-Foods-.png
ORGANIZER;CN="Fuel Foods Food Truck":MAILTO:fuelfoods.truck@gmail.com
GEO:34.682271;-82.519831
X-APPLE-STRUCTURED-LOCATION;VALUE=URI;X-ADDRESS=Golden Grove Farm and Brew 115 Krim Road Pelzer South Carolina;X-APPLE-RADIUS=500;X-TITLE=115 Krim Road:geo:-82.519831,34.682271
END:VEVENT
BEGIN:VEVENT
DTSTART;TZID=America/New_York:20240127T120000
DTEND;TZID=America/New_York:20240127T160000
DTSTAMP:20260424T123537
CREATED:20240121T210107Z
LAST-MODIFIED:20240121T210107Z
UID:25222-1706356800-1706371200@864foodtrucks.com
SUMMARY:Lobster Dogs @ Golden Grove
DESCRIPTION:Food truck serving the Best Lobster Rolls & Stuffed Avocados in the Carolinas
URL:https://864foodtrucks.com/event/lobster-dogs-golden-grove-2/
LOCATION:Golden Grove Farm and Brew\, 115 Krim Road\, Pelzer\, South Carolina
CATEGORIES:Food Truck Schedules,Piedmont
ATTACH;FMTTYPE=image/jpeg:https://864foodtrucks.com/wp-content/uploads/2021/05/lobster-dogs-Food-Truck.jpg
ORGANIZER;CN="Lobster Dogs":MAILTO:lobsterdogs3@gmail.com
GEO:34.682271;-82.519831
X-APPLE-STRUCTURED-LOCATION;VALUE=URI;X-ADDRESS=Golden Grove Farm and Brew 115 Krim Road Pelzer South Carolina;X-APPLE-RADIUS=500;X-TITLE=115 Krim Road:geo:-82.519831,34.682271
END:VEVENT
BEGIN:VEVENT
DTSTART;TZID=America/New_York:20231209T180000
DTEND;TZID=America/New_York:20231209T200000
DTSTAMP:20260424T123537
CREATED:20231205T190848Z
LAST-MODIFIED:20231205T190848Z
UID:24527-1702144800-1702152000@864foodtrucks.com
SUMMARY:Donut NV Greenville @ Golden Grove Brew & Farm
DESCRIPTION:DonutNV brings the party to your door! Hot mini donuts\, fresh squeezed lemonade\, coffee & more!
URL:https://864foodtrucks.com/event/donut-nv-greenville-golden-grove-brew-farm/
LOCATION:Golden Grove Farm and Brew\, 115 Krim Road\, Pelzer\, South Carolina
CATEGORIES:Food Truck Schedules,Pelzer
ATTACH;FMTTYPE=image/jpeg:https://864foodtrucks.com/wp-content/uploads/2023/11/DonutNV.jpg
ORGANIZER;CN="Donut NV Greenville":MAILTO:greenvillesc@donutnv.com
GEO:34.682271;-82.519831
X-APPLE-STRUCTURED-LOCATION;VALUE=URI;X-ADDRESS=Golden Grove Farm and Brew 115 Krim Road Pelzer South Carolina;X-APPLE-RADIUS=500;X-TITLE=115 Krim Road:geo:-82.519831,34.682271
END:VEVENT
BEGIN:VEVENT
DTSTART;TZID=America/New_York:20231130T170000
DTEND;TZID=America/New_York:20231130T200000
DTSTAMP:20260424T123537
CREATED:20231126T212844Z
LAST-MODIFIED:20231126T212844Z
UID:24287-1701363600-1701374400@864foodtrucks.com
SUMMARY:Lobster Dogs @ Golden Grove
DESCRIPTION:Food truck serving the Best Lobster Rolls & Stuffed Avocados in the Carolinas
URL:https://864foodtrucks.com/event/lobster-dogs-golden-grove/
LOCATION:Golden Grove Farm and Brew\, 115 Krim Road\, Pelzer\, South Carolina
CATEGORIES:Food Truck Schedules,Piedmont
ATTACH;FMTTYPE=image/jpeg:https://864foodtrucks.com/wp-content/uploads/2021/05/lobster-dogs-Food-Truck.jpg
ORGANIZER;CN="Lobster Dogs":MAILTO:lobsterdogs3@gmail.com
GEO:34.682271;-82.519831
X-APPLE-STRUCTURED-LOCATION;VALUE=URI;X-ADDRESS=Golden Grove Farm and Brew 115 Krim Road Pelzer South Carolina;X-APPLE-RADIUS=500;X-TITLE=115 Krim Road:geo:-82.519831,34.682271
END:VEVENT
END:VCALENDAR