BEGIN:VCALENDAR
VERSION:2.0
PRODID:-//864 Food Trucks - ECPv6.15.20//NONSGML v1.0//EN
CALSCALE:GREGORIAN
METHOD:PUBLISH
X-WR-CALNAME:864 Food Trucks
X-ORIGINAL-URL:https://864foodtrucks.com
X-WR-CALDESC:Events for 864 Food Trucks
REFRESH-INTERVAL;VALUE=DURATION:PT1H
X-Robots-Tag:noindex
X-PUBLISHED-TTL:PT1H
BEGIN:VTIMEZONE
TZID:America/New_York
BEGIN:DAYLIGHT
TZOFFSETFROM:-0500
TZOFFSETTO:-0400
TZNAME:EDT
DTSTART:20220313T070000
END:DAYLIGHT
BEGIN:STANDARD
TZOFFSETFROM:-0400
TZOFFSETTO:-0500
TZNAME:EST
DTSTART:20221106T060000
END:STANDARD
BEGIN:DAYLIGHT
TZOFFSETFROM:-0500
TZOFFSETTO:-0400
TZNAME:EDT
DTSTART:20230312T070000
END:DAYLIGHT
BEGIN:STANDARD
TZOFFSETFROM:-0400
TZOFFSETTO:-0500
TZNAME:EST
DTSTART:20231105T060000
END:STANDARD
BEGIN:DAYLIGHT
TZOFFSETFROM:-0500
TZOFFSETTO:-0400
TZNAME:EDT
DTSTART:20240310T070000
END:DAYLIGHT
BEGIN:STANDARD
TZOFFSETFROM:-0400
TZOFFSETTO:-0500
TZNAME:EST
DTSTART:20241103T060000
END:STANDARD
BEGIN:DAYLIGHT
TZOFFSETFROM:-0500
TZOFFSETTO:-0400
TZNAME:EDT
DTSTART:20250309T070000
END:DAYLIGHT
BEGIN:STANDARD
TZOFFSETFROM:-0400
TZOFFSETTO:-0500
TZNAME:EST
DTSTART:20251102T060000
END:STANDARD
BEGIN:DAYLIGHT
TZOFFSETFROM:-0500
TZOFFSETTO:-0400
TZNAME:EDT
DTSTART:20260308T070000
END:DAYLIGHT
BEGIN:STANDARD
TZOFFSETFROM:-0400
TZOFFSETTO:-0500
TZNAME:EST
DTSTART:20261101T060000
END:STANDARD
END:VTIMEZONE
BEGIN:VEVENT
DTSTART;TZID=America/New_York:20250826T160000
DTEND;TZID=America/New_York:20250826T190000
DTSTAMP:20260425T113718
CREATED:20240602T230052Z
LAST-MODIFIED:20240602T230052Z
UID:52733-1756224000-1756234800@864foodtrucks.com
SUMMARY:Local Pie Pizza Co @ Gower Pool
DESCRIPTION:
URL:https://864foodtrucks.com/event/local-pie-pizza-co-gower-pool-3/2025-08-26/
LOCATION:Gower Estates Pool\, 126 Shallowford Rd\, Greenville\, South Carolina
CATEGORIES:Food Truck Schedules,Greenville
ATTACH;FMTTYPE=image/jpeg:https://864foodtrucks.com/wp-content/uploads/2021/12/Local-Pie-Pizza-3.jpg
ORGANIZER;CN="Local Pie Pizza Company":MAILTO:cory@localpiepizzacompany.com
GEO:34.8281679;-82.3518644
X-APPLE-STRUCTURED-LOCATION;VALUE=URI;X-ADDRESS=Gower Estates Pool 126 Shallowford Rd Greenville South Carolina;X-APPLE-RADIUS=500;X-TITLE=126 Shallowford Rd:geo:-82.3518644,34.8281679
END:VEVENT
BEGIN:VEVENT
DTSTART;TZID=America/New_York:20250812T170000
DTEND;TZID=America/New_York:20250812T193000
DTSTAMP:20260425T113718
CREATED:20250610T001608Z
LAST-MODIFIED:20250810T203459Z
UID:47340-1755018000-1755027000@864foodtrucks.com
SUMMARY:Spinx Cluk Truk @ Gower Estates
DESCRIPTION:Your favorite southern fried chicken is hitting the road—and it’s going to be legendary. Our community comes first\, and we want to share that tender love by bringing our homegrown menu to you. The Cluk Truk is coming Fall 2020 to the Upstate!
URL:https://864foodtrucks.com/event/spinx-cluk-truk-gower-estates/
LOCATION:Gower Estates Pool\, 126 Shallowford Rd\, Greenville\, South Carolina
CATEGORIES:Food Truck Schedules,Greenville
ATTACH;FMTTYPE=image/jpeg:https://864foodtrucks.com/wp-content/uploads/2021/05/Spinx-Cluk-Truk-Truck.jpg
ORGANIZER;CN="Spinx Cluk Truk":MAILTO:cluktruk@spinxco.com
GEO:34.8281679;-82.3518644
X-APPLE-STRUCTURED-LOCATION;VALUE=URI;X-ADDRESS=Gower Estates Pool 126 Shallowford Rd Greenville South Carolina;X-APPLE-RADIUS=500;X-TITLE=126 Shallowford Rd:geo:-82.3518644,34.8281679
END:VEVENT
BEGIN:VEVENT
DTSTART;TZID=America/New_York:20250722T173000
DTEND;TZID=America/New_York:20250722T193000
DTSTAMP:20260425T113718
CREATED:20250721T130727Z
LAST-MODIFIED:20250818T224732Z
UID:50619-1753205400-1753212600@864foodtrucks.com
SUMMARY:The Noodle Lady @ Gower Pool
DESCRIPTION:Authentic Chinese dishes for catering and events. Artisan Noodles and 100% Natural. Check out here our events calendar in Greenville\, South Carolina. #TheNoodleLady
URL:https://864foodtrucks.com/event/the-noodle-lady-gower-pool/2025-07-22/
LOCATION:Gower Estates Pool\, 126 Shallowford Rd\, Greenville\, South Carolina
CATEGORIES:Food Truck Schedules,Greenville
ATTACH;FMTTYPE=image/jpeg:https://864foodtrucks.com/wp-content/uploads/2023/07/Noodle-lady.jpg
ORGANIZER;CN="The Noodle Lady":MAILTO:thenoodlelady@yahoo.com
GEO:34.8281679;-82.3518644
X-APPLE-STRUCTURED-LOCATION;VALUE=URI;X-ADDRESS=Gower Estates Pool 126 Shallowford Rd Greenville South Carolina;X-APPLE-RADIUS=500;X-TITLE=126 Shallowford Rd:geo:-82.3518644,34.8281679
END:VEVENT
BEGIN:VEVENT
DTSTART;TZID=America/New_York:20250610T170000
DTEND;TZID=America/New_York:20250610T193000
DTSTAMP:20260425T113718
CREATED:20250610T001946Z
LAST-MODIFIED:20250610T001946Z
UID:47655-1749574800-1749583800@864foodtrucks.com
SUMMARY:Spinx Cluk Truk @ Gower Estates
DESCRIPTION:Your favorite southern fried chicken is hitting the road—and it’s going to be legendary. Our community comes first\, and we want to share that tender love by bringing our homegrown menu to you. The Cluk Truk is coming Fall 2020 to the Upstate!
URL:https://864foodtrucks.com/event/spinx-cluk-truk-gower-estates-2/
LOCATION:Gower Estates Pool\, 126 Shallowford Rd\, Greenville\, South Carolina
CATEGORIES:Food Truck Schedules,Greenville
ATTACH;FMTTYPE=image/jpeg:https://864foodtrucks.com/wp-content/uploads/2021/05/Spinx-Cluk-Truk-Truck.jpg
ORGANIZER;CN="Spinx Cluk Truk":MAILTO:cluktruk@spinxco.com
GEO:34.8281679;-82.3518644
X-APPLE-STRUCTURED-LOCATION;VALUE=URI;X-ADDRESS=Gower Estates Pool 126 Shallowford Rd Greenville South Carolina;X-APPLE-RADIUS=500;X-TITLE=126 Shallowford Rd:geo:-82.3518644,34.8281679
END:VEVENT
BEGIN:VEVENT
DTSTART;TZID=America/New_York:20240716T170000
DTEND;TZID=America/New_York:20240716T193000
DTSTAMP:20260425T113718
CREATED:20240715T143128Z
LAST-MODIFIED:20240715T143128Z
UID:32287-1721149200-1721158200@864foodtrucks.com
SUMMARY:Island Sun @ Gower Pool
DESCRIPTION:Mobile Kitchen serving Caribbean Cuisine to the upstate\, SC\nCaterings\, pop ups\, and private dinners\nDm for more info
URL:https://864foodtrucks.com/event/island-sun-gower-pool/
LOCATION:Gower Estates Pool\, 126 Shallowford Rd\, Greenville\, South Carolina
CATEGORIES:Food Truck Schedules,Greenville
ATTACH;FMTTYPE=image/jpeg:https://864foodtrucks.com/wp-content/uploads/2023/07/IslandSun864.jpg
GEO:34.8281679;-82.3518644
X-APPLE-STRUCTURED-LOCATION;VALUE=URI;X-ADDRESS=Gower Estates Pool 126 Shallowford Rd Greenville South Carolina;X-APPLE-RADIUS=500;X-TITLE=126 Shallowford Rd:geo:-82.3518644,34.8281679
END:VEVENT
BEGIN:VEVENT
DTSTART;TZID=America/New_York:20240604T170000
DTEND;TZID=America/New_York:20240604T193000
DTSTAMP:20260425T113718
CREATED:20240602T230052Z
LAST-MODIFIED:20250825T014733Z
UID:28603-1717520400-1717529400@864foodtrucks.com
SUMMARY:Local Pie Pizza Co @ Gower Pool
DESCRIPTION:
URL:https://864foodtrucks.com/event/local-pie-pizza-co-gower-pool-3/2024-06-04/
LOCATION:Gower Estates Pool\, 126 Shallowford Rd\, Greenville\, South Carolina
CATEGORIES:Food Truck Schedules,Greenville
ATTACH;FMTTYPE=image/jpeg:https://864foodtrucks.com/wp-content/uploads/2021/12/Local-Pie-Pizza-3.jpg
ORGANIZER;CN="Local Pie Pizza Company":MAILTO:cory@localpiepizzacompany.com
GEO:34.8281679;-82.3518644
X-APPLE-STRUCTURED-LOCATION;VALUE=URI;X-ADDRESS=Gower Estates Pool 126 Shallowford Rd Greenville South Carolina;X-APPLE-RADIUS=500;X-TITLE=126 Shallowford Rd:geo:-82.3518644,34.8281679
END:VEVENT
BEGIN:VEVENT
DTSTART;TZID=America/New_York:20230801T170000
DTEND;TZID=America/New_York:20230801T193000
DTSTAMP:20260425T113718
CREATED:20230731T182309Z
LAST-MODIFIED:20230820T231554Z
UID:21654-1690909200-1690918200@864foodtrucks.com
SUMMARY:Local Pie Pizza Co @ Gower Pool
DESCRIPTION:Artisan Pizza Food Truck
URL:https://864foodtrucks.com/event/local-pie-pizza-co-gower-pool-2/2023-08-01/
LOCATION:Gower Estates Pool\, 126 Shallowford Rd\, Greenville\, South Carolina
CATEGORIES:Food Truck Schedules,Greenville
ATTACH;FMTTYPE=image/png:https://864foodtrucks.com/wp-content/uploads/2022/01/Local-Pie.png
ORGANIZER;CN="Local Pie Pizza Company":MAILTO:cory@localpiepizzacompany.com
GEO:34.8281679;-82.3518644
X-APPLE-STRUCTURED-LOCATION;VALUE=URI;X-ADDRESS=Gower Estates Pool 126 Shallowford Rd Greenville South Carolina;X-APPLE-RADIUS=500;X-TITLE=126 Shallowford Rd:geo:-82.3518644,34.8281679
END:VEVENT
BEGIN:VEVENT
DTSTART;TZID=America/New_York:20230607T170000
DTEND;TZID=America/New_York:20230607T193000
DTSTAMP:20260425T113718
CREATED:20230605T190954Z
LAST-MODIFIED:20230717T160551Z
UID:19430-1686157200-1686166200@864foodtrucks.com
SUMMARY:Local Pie Pizza Co @ Gower Pool
DESCRIPTION:Artisan Pizza Food Truck
URL:https://864foodtrucks.com/event/local-pie-pizza-co-gower-pool/2023-06-07/
LOCATION:Gower Estates Pool\, 126 Shallowford Rd\, Greenville\, South Carolina
CATEGORIES:Food Truck Schedules,Greenville
ATTACH;FMTTYPE=image/jpeg:https://864foodtrucks.com/wp-content/uploads/2021/12/Local-Pie-Pizza-3.jpg
ORGANIZER;CN="Local Pie Pizza Company":MAILTO:cory@localpiepizzacompany.com
GEO:34.8281679;-82.3518644
X-APPLE-STRUCTURED-LOCATION;VALUE=URI;X-ADDRESS=Gower Estates Pool 126 Shallowford Rd Greenville South Carolina;X-APPLE-RADIUS=500;X-TITLE=126 Shallowford Rd:geo:-82.3518644,34.8281679
END:VEVENT
END:VCALENDAR