BEGIN:VCALENDAR
VERSION:2.0
PRODID:-//864 Food Trucks - ECPv6.15.20//NONSGML v1.0//EN
CALSCALE:GREGORIAN
METHOD:PUBLISH
X-ORIGINAL-URL:https://864foodtrucks.com
X-WR-CALDESC:Events for 864 Food Trucks
REFRESH-INTERVAL;VALUE=DURATION:PT1H
X-Robots-Tag:noindex
X-PUBLISHED-TTL:PT1H
BEGIN:VTIMEZONE
TZID:America/New_York
BEGIN:DAYLIGHT
TZOFFSETFROM:-0500
TZOFFSETTO:-0400
TZNAME:EDT
DTSTART:20220313T070000
END:DAYLIGHT
BEGIN:STANDARD
TZOFFSETFROM:-0400
TZOFFSETTO:-0500
TZNAME:EST
DTSTART:20221106T060000
END:STANDARD
BEGIN:DAYLIGHT
TZOFFSETFROM:-0500
TZOFFSETTO:-0400
TZNAME:EDT
DTSTART:20230312T070000
END:DAYLIGHT
BEGIN:STANDARD
TZOFFSETFROM:-0400
TZOFFSETTO:-0500
TZNAME:EST
DTSTART:20231105T060000
END:STANDARD
BEGIN:DAYLIGHT
TZOFFSETFROM:-0500
TZOFFSETTO:-0400
TZNAME:EDT
DTSTART:20240310T070000
END:DAYLIGHT
BEGIN:STANDARD
TZOFFSETFROM:-0400
TZOFFSETTO:-0500
TZNAME:EST
DTSTART:20241103T060000
END:STANDARD
END:VTIMEZONE
BEGIN:VEVENT
DTSTART;TZID=America/New_York:20230408T070000
DTEND;TZID=America/New_York:20230408T130000
DTSTAMP:20260425T101617
CREATED:20230405T194450Z
LAST-MODIFIED:20230405T194450Z
UID:18075-1680937200-1680958800@864foodtrucks.com
SUMMARY:Obey the Crave @ Cars and Coffee
DESCRIPTION:Homemade Cookies Baked randomly. Please follow our Instagram to see when we are taking orders. Best way to get cookies fresh. Currently servicing the Greenville SC area.
URL:https://864foodtrucks.com/event/obey-the-crave-cars-and-coffee/
LOCATION:Greer Cars & Coffee\, 508 Pennsylvania Ave\, Greer
CATEGORIES:Food Truck Schedules,Greer
ATTACH;FMTTYPE=image/jpeg:https://864foodtrucks.com/wp-content/uploads/2021/05/obey-the-crave-truck.jpg
ORGANIZER;CN="Obey the Crave":MAILTO:creamcookiesmiami@gmail.com
END:VEVENT
END:VCALENDAR