BEGIN:VCALENDAR
VERSION:2.0
PRODID:-//864 Food Trucks - ECPv6.15.20//NONSGML v1.0//EN
CALSCALE:GREGORIAN
METHOD:PUBLISH
X-WR-CALNAME:864 Food Trucks
X-ORIGINAL-URL:https://864foodtrucks.com
X-WR-CALDESC:Events for 864 Food Trucks
REFRESH-INTERVAL;VALUE=DURATION:PT1H
X-Robots-Tag:noindex
X-PUBLISHED-TTL:PT1H
BEGIN:VTIMEZONE
TZID:America/New_York
BEGIN:DAYLIGHT
TZOFFSETFROM:-0500
TZOFFSETTO:-0400
TZNAME:EDT
DTSTART:20220313T070000
END:DAYLIGHT
BEGIN:STANDARD
TZOFFSETFROM:-0400
TZOFFSETTO:-0500
TZNAME:EST
DTSTART:20221106T060000
END:STANDARD
BEGIN:DAYLIGHT
TZOFFSETFROM:-0500
TZOFFSETTO:-0400
TZNAME:EDT
DTSTART:20230312T070000
END:DAYLIGHT
BEGIN:STANDARD
TZOFFSETFROM:-0400
TZOFFSETTO:-0500
TZNAME:EST
DTSTART:20231105T060000
END:STANDARD
BEGIN:DAYLIGHT
TZOFFSETFROM:-0500
TZOFFSETTO:-0400
TZNAME:EDT
DTSTART:20240310T070000
END:DAYLIGHT
BEGIN:STANDARD
TZOFFSETFROM:-0400
TZOFFSETTO:-0500
TZNAME:EST
DTSTART:20241103T060000
END:STANDARD
BEGIN:DAYLIGHT
TZOFFSETFROM:-0500
TZOFFSETTO:-0400
TZNAME:EDT
DTSTART:20250309T070000
END:DAYLIGHT
BEGIN:STANDARD
TZOFFSETFROM:-0400
TZOFFSETTO:-0500
TZNAME:EST
DTSTART:20251102T060000
END:STANDARD
BEGIN:DAYLIGHT
TZOFFSETFROM:-0500
TZOFFSETTO:-0400
TZNAME:EDT
DTSTART:20260308T070000
END:DAYLIGHT
BEGIN:STANDARD
TZOFFSETFROM:-0400
TZOFFSETTO:-0500
TZNAME:EST
DTSTART:20261101T060000
END:STANDARD
END:VTIMEZONE
BEGIN:VEVENT
DTSTART;TZID=America/New_York:20250826T163000
DTEND;TZID=America/New_York:20250826T163000
DTSTAMP:20260424T041046
CREATED:20250818T184826Z
LAST-MODIFIED:20251110T210608Z
UID:52233-1756225800-1756225800@864foodtrucks.com
SUMMARY:The Salted Fry @ Greer Alive
DESCRIPTION:100% Gluten Free Food Trailer! Crispy Belgian style pommes frites loaded with your choice of savory toppings. Choose from multiple house made sauces and unique ketchup flavors!
URL:https://864foodtrucks.com/event/the-salted-fry-greer-alive/2025-08-26/
LOCATION:Greer City Park\, 301 E Poinsett St\, Greer\, South Carolina
CATEGORIES:Food Truck Schedules,Greer
ATTACH;FMTTYPE=image/jpeg:https://864foodtrucks.com/wp-content/uploads/2025/05/The-Salted-Fry-1.jpg
ORGANIZER;CN="The Salted Fry":MAILTO:thesaltedfry@gmail.com
GEO:34.9377066;-82.2230614
X-APPLE-STRUCTURED-LOCATION;VALUE=URI;X-ADDRESS=Greer City Park 301 E Poinsett St Greer South Carolina;X-APPLE-RADIUS=500;X-TITLE=301 E Poinsett St:geo:-82.2230614,34.9377066
END:VEVENT
BEGIN:VEVENT
DTSTART;TZID=America/New_York:20250810T110000
DTEND;TZID=America/New_York:20250810T150000
DTSTAMP:20260424T041046
CREATED:20250805T210557Z
LAST-MODIFIED:20250805T210557Z
UID:51716-1754823600-1754838000@864foodtrucks.com
SUMMARY:Churro Masters @ Greer Farmers Market
DESCRIPTION:Delicious CHURROS made fresh!
URL:https://864foodtrucks.com/event/churro-masters-greer-farmers-market/
LOCATION:Greer City Park\, 301 E Poinsett St\, Greer\, South Carolina
CATEGORIES:Food Truck Schedules,Greer
ATTACH;FMTTYPE=image/jpeg:https://864foodtrucks.com/wp-content/uploads/2025/03/Churro-Masters.jpg
ORGANIZER;CN="Churro Masters":MAILTO:Churromastersemail@gmail.com
GEO:34.9377066;-82.2230614
X-APPLE-STRUCTURED-LOCATION;VALUE=URI;X-ADDRESS=Greer City Park 301 E Poinsett St Greer South Carolina;X-APPLE-RADIUS=500;X-TITLE=301 E Poinsett St:geo:-82.2230614,34.9377066
END:VEVENT
BEGIN:VEVENT
DTSTART;TZID=America/New_York:20250628T180000
DTEND;TZID=America/New_York:20250628T223000
DTSTAMP:20260424T041046
CREATED:20250624T132039Z
LAST-MODIFIED:20250624T132039Z
UID:49003-1751133600-1751149800@864foodtrucks.com
SUMMARY:Churro Masters @ Freedom Blast in Greer
DESCRIPTION:Delicious CHURROS made fresh!
URL:https://864foodtrucks.com/event/churro-masters-freedom-blast-in-greer/
LOCATION:Greer City Park\, 301 E Poinsett St\, Greer\, South Carolina
CATEGORIES:Food Truck Schedules,Greer
ATTACH;FMTTYPE=image/jpeg:https://864foodtrucks.com/wp-content/uploads/2025/03/Churro-Masters.jpg
ORGANIZER;CN="Churro Masters":MAILTO:Churromastersemail@gmail.com
GEO:34.9377066;-82.2230614
X-APPLE-STRUCTURED-LOCATION;VALUE=URI;X-ADDRESS=Greer City Park 301 E Poinsett St Greer South Carolina;X-APPLE-RADIUS=500;X-TITLE=301 E Poinsett St:geo:-82.2230614,34.9377066
END:VEVENT
BEGIN:VEVENT
DTSTART;TZID=America/New_York:20250628T180000
DTEND;TZID=America/New_York:20250628T220000
DTSTAMP:20260424T041046
CREATED:20250623T161639Z
LAST-MODIFIED:20250623T161639Z
UID:48922-1751133600-1751148000@864foodtrucks.com
SUMMARY:Cinnabon @ City of Greenville Freedom Blast
DESCRIPTION:Cinnabon Food Truck Greenville
URL:https://864foodtrucks.com/event/cinnabon-city-of-greenville-freedom-blast/
LOCATION:Greer City Park\, 301 E Poinsett St\, Greer\, South Carolina
CATEGORIES:Food Truck Schedules,Greer
ATTACH;FMTTYPE=image/jpeg:https://864foodtrucks.com/wp-content/uploads/2024/12/326870080_1829549937401559_2632445834433428235_n-2.jpg
ORGANIZER;CN="Cinnabon Greenville":MAILTO:info@hotbonssc.com
GEO:34.9377066;-82.2230614
X-APPLE-STRUCTURED-LOCATION;VALUE=URI;X-ADDRESS=Greer City Park 301 E Poinsett St Greer South Carolina;X-APPLE-RADIUS=500;X-TITLE=301 E Poinsett St:geo:-82.2230614,34.9377066
END:VEVENT
BEGIN:VEVENT
DTSTART;TZID=America/New_York:20250523T180000
DTEND;TZID=America/New_York:20250523T200000
DTSTAMP:20260424T041046
CREATED:20250519T172448Z
LAST-MODIFIED:20250519T172448Z
UID:45862-1748023200-1748030400@864foodtrucks.com
SUMMARY:Cinnabon @ Greer Alive
DESCRIPTION:Cinnabon Food Truck Greenville
URL:https://864foodtrucks.com/event/cinnabon-greer-alive/
LOCATION:Greer City Park\, 301 E Poinsett St\, Greer\, South Carolina
CATEGORIES:Food Truck Schedules,Greer
ATTACH;FMTTYPE=image/jpeg:https://864foodtrucks.com/wp-content/uploads/2024/12/326870080_1829549937401559_2632445834433428235_n-2.jpg
ORGANIZER;CN="Cinnabon Greenville":MAILTO:info@hotbonssc.com
GEO:34.9377066;-82.2230614
X-APPLE-STRUCTURED-LOCATION;VALUE=URI;X-ADDRESS=Greer City Park 301 E Poinsett St Greer South Carolina;X-APPLE-RADIUS=500;X-TITLE=301 E Poinsett St:geo:-82.2230614,34.9377066
END:VEVENT
BEGIN:VEVENT
DTSTART;TZID=America/New_York:20250516T170000
DTEND;TZID=America/New_York:20250516T170000
DTSTAMP:20260424T041046
CREATED:20250512T211706Z
LAST-MODIFIED:20250512T211706Z
UID:45155-1747414800-1747414800@864foodtrucks.com
SUMMARY:Dos Bros @ Greer City Park
DESCRIPTION:
URL:https://864foodtrucks.com/event/dos-bros-greer-city-park/
LOCATION:Greer City Park\, 301 E Poinsett St\, Greer\, South Carolina
CATEGORIES:Food Truck Schedules,Greer
ATTACH;FMTTYPE=image/jpeg:https://864foodtrucks.com/wp-content/uploads/2021/10/Dos-Bros-Tacos-Truck.jpg
ORGANIZER;CN="Dos Bros Tacos 864":MAILTO:jesusi86@yahoo.com
GEO:34.9377066;-82.2230614
X-APPLE-STRUCTURED-LOCATION;VALUE=URI;X-ADDRESS=Greer City Park 301 E Poinsett St Greer South Carolina;X-APPLE-RADIUS=500;X-TITLE=301 E Poinsett St:geo:-82.2230614,34.9377066
END:VEVENT
BEGIN:VEVENT
DTSTART;TZID=America/New_York:20250426T110000
DTEND;TZID=America/New_York:20250426T170000
DTSTAMP:20260424T041046
CREATED:20250420T010030Z
LAST-MODIFIED:20250420T010030Z
UID:43918-1745665200-1745686800@864foodtrucks.com
SUMMARY:The Noodle Lady @ Greer Goes Global Festival
DESCRIPTION:Authentic Chinese dishes for catering and events. Artisan Noodles and 100% Natural. Check out here our events calendar in Greenville\, South Carolina. #TheNoodleLady
URL:https://864foodtrucks.com/event/the-noodle-lady-greer-goes-global-festival/
LOCATION:Greer City Park\, 301 E Poinsett St\, Greer\, South Carolina
CATEGORIES:Food Truck Schedules,Greer
ATTACH;FMTTYPE=image/jpeg:https://864foodtrucks.com/wp-content/uploads/2023/07/Noodle-lady.jpg
ORGANIZER;CN="The Noodle Lady":MAILTO:thenoodlelady@yahoo.com
GEO:34.9377066;-82.2230614
X-APPLE-STRUCTURED-LOCATION;VALUE=URI;X-ADDRESS=Greer City Park 301 E Poinsett St Greer South Carolina;X-APPLE-RADIUS=500;X-TITLE=301 E Poinsett St:geo:-82.2230614,34.9377066
END:VEVENT
BEGIN:VEVENT
DTSTART;TZID=America/New_York:20240730T163000
DTEND;TZID=America/New_York:20240730T193000
DTSTAMP:20260424T041046
CREATED:20240729T184641Z
LAST-MODIFIED:20240818T210445Z
UID:33293-1722357000-1722367800@864foodtrucks.com
SUMMARY:Lobster Dogs @ Greer Farmer's Market
DESCRIPTION:Food truck serving the Best Lobster Rolls & Stuffed Avocados in the Carolinas
URL:https://864foodtrucks.com/event/lobster-dogs-greer-farmers-market-6/2024-07-30/
LOCATION:Greer City Park\, 301 E Poinsett St\, Greer\, South Carolina
CATEGORIES:Food Truck Schedules,Greer
ATTACH;FMTTYPE=image/jpeg:https://864foodtrucks.com/wp-content/uploads/2021/05/lobster-dogs-Food-Truck.jpg
ORGANIZER;CN="Lobster Dogs":MAILTO:lobsterdogs3@gmail.com
GEO:34.9377066;-82.2230614
X-APPLE-STRUCTURED-LOCATION;VALUE=URI;X-ADDRESS=Greer City Park 301 E Poinsett St Greer South Carolina;X-APPLE-RADIUS=500;X-TITLE=301 E Poinsett St:geo:-82.2230614,34.9377066
END:VEVENT
BEGIN:VEVENT
DTSTART;TZID=America/New_York:20240629T180000
DTEND;TZID=America/New_York:20240629T223000
DTSTAMP:20260424T041046
CREATED:20240623T205438Z
LAST-MODIFIED:20240623T205438Z
UID:29102-1719684000-1719700200@864foodtrucks.com
SUMMARY:Lobster Dogs @ Freedom Blast
DESCRIPTION:Food truck serving the Best Lobster Rolls & Stuffed Avocados in the Carolinas
URL:https://864foodtrucks.com/event/lobster-dogs-freedom-blast/
LOCATION:Greer City Park\, 301 E Poinsett St\, Greer\, South Carolina
CATEGORIES:Food Truck Schedules,Greer
ATTACH;FMTTYPE=image/jpeg:https://864foodtrucks.com/wp-content/uploads/2021/05/lobster-dogs-Food-Truck.jpg
ORGANIZER;CN="Lobster Dogs":MAILTO:lobsterdogs3@gmail.com
GEO:34.9377066;-82.2230614
X-APPLE-STRUCTURED-LOCATION;VALUE=URI;X-ADDRESS=Greer City Park 301 E Poinsett St Greer South Carolina;X-APPLE-RADIUS=500;X-TITLE=301 E Poinsett St:geo:-82.2230614,34.9377066
END:VEVENT
BEGIN:VEVENT
DTSTART;TZID=America/New_York:20240629T180000
DTEND;TZID=America/New_York:20240629T223000
DTSTAMP:20260424T041046
CREATED:20240623T203442Z
LAST-MODIFIED:20250623T140425Z
UID:29080-1719684000-1719700200@864foodtrucks.com
SUMMARY:The Noodle Lady @ Greer Freedom Blast
DESCRIPTION:Authentic Chinese dishes for catering and events. Artisan Noodles and 100% Natural. Check out here our events calendar in Greenville\, South Carolina. #TheNoodleLady
URL:https://864foodtrucks.com/event/the-noodle-lady-greer-freedom-blast-2/2024-06-29/
LOCATION:Greer City Park\, 301 E Poinsett St\, Greer\, South Carolina
CATEGORIES:Food Truck Schedules,Greer
ATTACH;FMTTYPE=image/jpeg:https://864foodtrucks.com/wp-content/uploads/2023/07/Noodle-lady.jpg
ORGANIZER;CN="The Noodle Lady":MAILTO:thenoodlelady@yahoo.com
GEO:34.9377066;-82.2230614
X-APPLE-STRUCTURED-LOCATION;VALUE=URI;X-ADDRESS=Greer City Park 301 E Poinsett St Greer South Carolina;X-APPLE-RADIUS=500;X-TITLE=301 E Poinsett St:geo:-82.2230614,34.9377066
END:VEVENT
BEGIN:VEVENT
DTSTART;TZID=America/New_York:20240507T163000
DTEND;TZID=America/New_York:20240507T193000
DTSTAMP:20260424T041046
CREATED:20240506T185846Z
LAST-MODIFIED:20240610T223755Z
UID:28129-1715099400-1715110200@864foodtrucks.com
SUMMARY:Lobster Dogs @ Greer Farmers Market
DESCRIPTION:Food truck serving the Best Lobster Rolls & Stuffed Avocados in the Carolinas
URL:https://864foodtrucks.com/event/lobster-dogs-greer-farmers-market-5/2024-05-07/
LOCATION:Greer City Park\, 301 E Poinsett St\, Greer\, South Carolina
CATEGORIES:Food Truck Schedules,Greer
ATTACH;FMTTYPE=image/jpeg:https://864foodtrucks.com/wp-content/uploads/2021/05/lobster-dogs-Food-Truck.jpg
ORGANIZER;CN="Lobster Dogs":MAILTO:lobsterdogs3@gmail.com
GEO:34.9377066;-82.2230614
X-APPLE-STRUCTURED-LOCATION;VALUE=URI;X-ADDRESS=Greer City Park 301 E Poinsett St Greer South Carolina;X-APPLE-RADIUS=500;X-TITLE=301 E Poinsett St:geo:-82.2230614,34.9377066
END:VEVENT
BEGIN:VEVENT
DTSTART;TZID=America/New_York:20240420T110000
DTEND;TZID=America/New_York:20240420T160000
DTSTAMP:20260424T041046
CREATED:20240416T004111Z
LAST-MODIFIED:20250914T190652Z
UID:27357-1713610800-1713628800@864foodtrucks.com
SUMMARY:The Noodle Lady @ Greer Tunes in the Park
DESCRIPTION:Authentic Chinese dishes for catering and events. Artisan Noodles and 100% Natural. Check out here our events calendar in Greenville\, South Carolina. #TheNoodleLady
URL:https://864foodtrucks.com/event/the-noodle-lady-greer-international-festival/2024-04-20/
LOCATION:Greer City Park\, 301 E Poinsett St\, Greer\, South Carolina
CATEGORIES:Food Truck Schedules,Greer
ATTACH;FMTTYPE=image/jpeg:https://864foodtrucks.com/wp-content/uploads/2023/07/Noodle-lady.jpg
ORGANIZER;CN="The Noodle Lady":MAILTO:thenoodlelady@yahoo.com
GEO:34.9377066;-82.2230614
X-APPLE-STRUCTURED-LOCATION;VALUE=URI;X-ADDRESS=Greer City Park 301 E Poinsett St Greer South Carolina;X-APPLE-RADIUS=500;X-TITLE=301 E Poinsett St:geo:-82.2230614,34.9377066
END:VEVENT
BEGIN:VEVENT
DTSTART;TZID=America/New_York:20240420T110000
DTEND;TZID=America/New_York:20240420T160000
DTSTAMP:20260424T041046
CREATED:20240415T194027Z
LAST-MODIFIED:20240415T194027Z
UID:27336-1713610800-1713628800@864foodtrucks.com
SUMMARY:Churro Masters @ Greer International Festival
DESCRIPTION:Delicious CHURROS made fresh!
URL:https://864foodtrucks.com/event/churro-masters-greer-international-festival/
LOCATION:Greer City Park\, 301 E Poinsett St\, Greer\, South Carolina
CATEGORIES:Food Truck Schedules,Greer
ATTACH;FMTTYPE=image/jpeg:https://864foodtrucks.com/wp-content/uploads/2023/05/Churro-Masters-1.jpg
ORGANIZER;CN="Churro Masters":MAILTO:Churromastersemail@gmail.com
GEO:34.9377066;-82.2230614
X-APPLE-STRUCTURED-LOCATION;VALUE=URI;X-ADDRESS=Greer City Park 301 E Poinsett St Greer South Carolina;X-APPLE-RADIUS=500;X-TITLE=301 E Poinsett St:geo:-82.2230614,34.9377066
END:VEVENT
BEGIN:VEVENT
DTSTART;TZID=America/New_York:20240412T170000
DTEND;TZID=America/New_York:20240412T200000
DTSTAMP:20260424T041046
CREATED:20240408T173257Z
LAST-MODIFIED:20240812T193345Z
UID:27219-1712941200-1712952000@864foodtrucks.com
SUMMARY:Lobster Dogs @ Food Truck Rollout
DESCRIPTION:Food truck serving the Best Lobster Rolls & Stuffed Avocados in the Carolinas
URL:https://864foodtrucks.com/event/lobster-dogs-food-truck-rollout/2024-04-12/
LOCATION:Greer City Park\, 301 E Poinsett St\, Greer\, South Carolina
CATEGORIES:Food Truck Schedules,Greer
ATTACH;FMTTYPE=image/jpeg:https://864foodtrucks.com/wp-content/uploads/2021/05/lobster-dogs-Food-Truck.jpg
ORGANIZER;CN="Lobster Dogs":MAILTO:lobsterdogs3@gmail.com
GEO:34.9377066;-82.2230614
X-APPLE-STRUCTURED-LOCATION;VALUE=URI;X-ADDRESS=Greer City Park 301 E Poinsett St Greer South Carolina;X-APPLE-RADIUS=500;X-TITLE=301 E Poinsett St:geo:-82.2230614,34.9377066
END:VEVENT
BEGIN:VEVENT
DTSTART;TZID=America/New_York:20240315T170000
DTEND;TZID=America/New_York:20240315T200000
DTSTAMP:20260424T041046
CREATED:20240311T185351Z
LAST-MODIFIED:20250324T211544Z
UID:26778-1710522000-1710532800@864foodtrucks.com
SUMMARY:Churro Masters @ Greer Alive
DESCRIPTION:Delicious CHURROS made fresh!
URL:https://864foodtrucks.com/event/churro-masters-greer-food-truck-rollout/2024-03-15/
LOCATION:Greer City Park\, 301 E Poinsett St\, Greer\, South Carolina
CATEGORIES:Food Truck Schedules,Greer
ATTACH;FMTTYPE=image/jpeg:https://864foodtrucks.com/wp-content/uploads/2025/03/Churro-Masters.jpg
ORGANIZER;CN="Churro Masters":MAILTO:Churromastersemail@gmail.com
GEO:34.9377066;-82.2230614
X-APPLE-STRUCTURED-LOCATION;VALUE=URI;X-ADDRESS=Greer City Park 301 E Poinsett St Greer South Carolina;X-APPLE-RADIUS=500;X-TITLE=301 E Poinsett St:geo:-82.2230614,34.9377066
END:VEVENT
BEGIN:VEVENT
DTSTART;TZID=America/New_York:20231020T170000
DTEND;TZID=America/New_York:20231020T200000
DTSTAMP:20260424T041046
CREATED:20231018T003148Z
LAST-MODIFIED:20231018T003148Z
UID:23602-1697821200-1697832000@864foodtrucks.com
SUMMARY:One Eyed Donkey @ Greer Food Truck Rollout
DESCRIPTION:#followthedonkey … ji-roz presents the one eyed donkey! fun take on some greek classics ~ on wheels!!! same quality\, same service\, same vibe as our brick and mortar just brought directly to you. Call or email us today to schedule our donkey.
URL:https://864foodtrucks.com/event/one-eyed-donkey-greer-food-truck-rollout/
LOCATION:Greer City Park\, 301 E Poinsett St\, Greer\, South Carolina
CATEGORIES:Food Truck Schedules,Greer
ATTACH;FMTTYPE=image/jpeg:https://864foodtrucks.com/wp-content/uploads/2021/05/One-Eyed-Donkey-Food-Truck.jpg
GEO:34.9377066;-82.2230614
X-APPLE-STRUCTURED-LOCATION;VALUE=URI;X-ADDRESS=Greer City Park 301 E Poinsett St Greer South Carolina;X-APPLE-RADIUS=500;X-TITLE=301 E Poinsett St:geo:-82.2230614,34.9377066
END:VEVENT
BEGIN:VEVENT
DTSTART;TZID=America/New_York:20230908T170000
DTEND;TZID=America/New_York:20230908T220000
DTSTAMP:20260424T041046
CREATED:20230905T000923Z
LAST-MODIFIED:20230905T000923Z
UID:22610-1694192400-1694210400@864foodtrucks.com
SUMMARY:Lobster Dogs @ Upstate Renaissance Festival
DESCRIPTION:Food truck serving the Best Lobster Rolls & Stuffed Avocados in the Carolinas
URL:https://864foodtrucks.com/event/lobster-dogs-upstate-renaissance-festival/2023-09-08/
LOCATION:Greer City Park\, 301 E Poinsett St\, Greer\, South Carolina
CATEGORIES:Food Truck Schedules,Greer
ATTACH;FMTTYPE=image/jpeg:https://864foodtrucks.com/wp-content/uploads/2021/05/lobster-dogs-Food-Truck.jpg
ORGANIZER;CN="Lobster Dogs":MAILTO:lobsterdogs3@gmail.com
GEO:34.9377066;-82.2230614
X-APPLE-STRUCTURED-LOCATION;VALUE=URI;X-ADDRESS=Greer City Park 301 E Poinsett St Greer South Carolina;X-APPLE-RADIUS=500;X-TITLE=301 E Poinsett St:geo:-82.2230614,34.9377066
END:VEVENT
BEGIN:VEVENT
DTSTART;TZID=America/New_York:20230725T160000
DTEND;TZID=America/New_York:20230725T190000
DTSTAMP:20260424T041046
CREATED:20230724T184558Z
LAST-MODIFIED:20230814T001147Z
UID:21081-1690300800-1690311600@864foodtrucks.com
SUMMARY:Lobster Dogs @ Greer Farmers Market
DESCRIPTION:Food truck serving the Best Lobster Rolls & Stuffed Avocados in the Carolinas
URL:https://864foodtrucks.com/event/lobster-dogs-greer-farmers-market-4/2023-07-25/
LOCATION:Greer City Park\, 301 E Poinsett St\, Greer\, South Carolina
CATEGORIES:Food Truck Schedules,Greer
ATTACH;FMTTYPE=image/jpeg:https://864foodtrucks.com/wp-content/uploads/2021/05/lobster-dogs-Food-Truck.jpg
ORGANIZER;CN="Lobster Dogs":MAILTO:lobsterdogs3@gmail.com
GEO:34.9377066;-82.2230614
X-APPLE-STRUCTURED-LOCATION;VALUE=URI;X-ADDRESS=Greer City Park 301 E Poinsett St Greer South Carolina;X-APPLE-RADIUS=500;X-TITLE=301 E Poinsett St:geo:-82.2230614,34.9377066
END:VEVENT
BEGIN:VEVENT
DTSTART;TZID=America/New_York:20230627T163000
DTEND;TZID=America/New_York:20230627T193000
DTSTAMP:20260424T041046
CREATED:20230626T233035Z
LAST-MODIFIED:20230626T233035Z
UID:20246-1687883400-1687894200@864foodtrucks.com
SUMMARY:T.H.E. Snickering Coyote @ Greer Farmers Market
DESCRIPTION:
URL:https://864foodtrucks.com/event/t-h-e-snickering-coyote-greer-farmers-market/
LOCATION:Greer City Park\, 301 E Poinsett St\, Greer\, South Carolina
CATEGORIES:Food Truck Schedules,Greer
ATTACH;FMTTYPE=image/jpeg:https://864foodtrucks.com/wp-content/uploads/2021/05/Snickering-Coyote.jpg
GEO:34.9377066;-82.2230614
X-APPLE-STRUCTURED-LOCATION;VALUE=URI;X-ADDRESS=Greer City Park 301 E Poinsett St Greer South Carolina;X-APPLE-RADIUS=500;X-TITLE=301 E Poinsett St:geo:-82.2230614,34.9377066
END:VEVENT
BEGIN:VEVENT
DTSTART;TZID=America/New_York:20230627T163000
DTEND;TZID=America/New_York:20230627T193000
DTSTAMP:20260424T041046
CREATED:20230626T232823Z
LAST-MODIFIED:20230626T232823Z
UID:20244-1687883400-1687894200@864foodtrucks.com
SUMMARY:Mac Attack @ Greer Farmer's Market
DESCRIPTION:Mac & Cheese Artists for catering and events in the Upcountry.
URL:https://864foodtrucks.com/event/mac-attack-greer-farmers-market/
LOCATION:Greer City Park\, 301 E Poinsett St\, Greer\, South Carolina
CATEGORIES:Food Truck Schedules,Greer
ATTACH;FMTTYPE=image/jpeg:https://864foodtrucks.com/wp-content/uploads/2021/05/Mac-Attack.jpg
GEO:34.9377066;-82.2230614
X-APPLE-STRUCTURED-LOCATION;VALUE=URI;X-ADDRESS=Greer City Park 301 E Poinsett St Greer South Carolina;X-APPLE-RADIUS=500;X-TITLE=301 E Poinsett St:geo:-82.2230614,34.9377066
END:VEVENT
BEGIN:VEVENT
DTSTART;TZID=America/New_York:20230624T180000
DTEND;TZID=America/New_York:20230624T230000
DTSTAMP:20260424T041047
CREATED:20230619T190422Z
LAST-MODIFIED:20230619T190422Z
UID:19838-1687629600-1687647600@864foodtrucks.com
SUMMARY:Kiss My Asada @ Freedom Blast Festival
DESCRIPTION:Rollin’ homemade Mexican deliciousness through the SC upstate. Locally sourced when possible!
URL:https://864foodtrucks.com/event/kiss-my-asada-freedom-blast-festival/
LOCATION:Greer City Park\, 301 E Poinsett St\, Greer\, South Carolina
CATEGORIES:Food Truck Schedules,Greer
ATTACH;FMTTYPE=image/jpeg:https://864foodtrucks.com/wp-content/uploads/2023/03/Kiss-my-asada.jpg
ORGANIZER;CN="Kiss My Asada":MAILTO:kissmyasada@gmail.com
GEO:34.9377066;-82.2230614
X-APPLE-STRUCTURED-LOCATION;VALUE=URI;X-ADDRESS=Greer City Park 301 E Poinsett St Greer South Carolina;X-APPLE-RADIUS=500;X-TITLE=301 E Poinsett St:geo:-82.2230614,34.9377066
END:VEVENT
BEGIN:VEVENT
DTSTART;TZID=America/New_York:20230624T180000
DTEND;TZID=America/New_York:20230624T223000
DTSTAMP:20260424T041047
CREATED:20230620T011009Z
LAST-MODIFIED:20230620T011009Z
UID:19883-1687629600-1687645800@864foodtrucks.com
SUMMARY:Too Sauc'd Up @ Freedom Blast
DESCRIPTION:
URL:https://864foodtrucks.com/event/too-saucd-up-freedom-blast/
LOCATION:Greer City Park\, 301 E Poinsett St\, Greer\, South Carolina
CATEGORIES:Food Truck Schedules,Greer
ATTACH;FMTTYPE=image/jpeg:https://864foodtrucks.com/wp-content/uploads/2022/07/Too-Saucd-Up.jpg
ORGANIZER;CN="Too Sauc'D Up":MAILTO:toosauc.dup@gmail.com
GEO:34.9377066;-82.2230614
X-APPLE-STRUCTURED-LOCATION;VALUE=URI;X-ADDRESS=Greer City Park 301 E Poinsett St Greer South Carolina;X-APPLE-RADIUS=500;X-TITLE=301 E Poinsett St:geo:-82.2230614,34.9377066
END:VEVENT
BEGIN:VEVENT
DTSTART;TZID=America/New_York:20230624T170000
DTEND;TZID=America/New_York:20230624T220000
DTSTAMP:20260424T041047
CREATED:20230619T165042Z
LAST-MODIFIED:20230619T165042Z
UID:19795-1687626000-1687644000@864foodtrucks.com
SUMMARY:The Noodle Lady @ Greer Freedom Blast
DESCRIPTION:Authentic Chinese dishes for catering and events. Artisan Noodles and 100% Natural. Check out here our events calendar in Greenville\, South Carolina. #TheNoodleLady
URL:https://864foodtrucks.com/event/the-noodle-lady-greer-freedom-blast/
LOCATION:Greer City Park\, 301 E Poinsett St\, Greer\, South Carolina
CATEGORIES:Food Truck Schedules,Greer
ATTACH;FMTTYPE=image/jpeg:https://864foodtrucks.com/wp-content/uploads/2021/05/The-Noodle-Lady-Truck.jpg
ORGANIZER;CN="The Noodle Lady":MAILTO:thenoodlelady@yahoo.com
GEO:34.9377066;-82.2230614
X-APPLE-STRUCTURED-LOCATION;VALUE=URI;X-ADDRESS=Greer City Park 301 E Poinsett St Greer South Carolina;X-APPLE-RADIUS=500;X-TITLE=301 E Poinsett St:geo:-82.2230614,34.9377066
END:VEVENT
BEGIN:VEVENT
DTSTART;TZID=America/New_York:20230520T180000
DTEND;TZID=America/New_York:20230520T210000
DTSTAMP:20260424T041047
CREATED:20230515T143959Z
LAST-MODIFIED:20240813T004658Z
UID:18959-1684605600-1684616400@864foodtrucks.com
SUMMARY:The Noodle Lady @ Greer Tunes in the Park
DESCRIPTION:Authentic Chinese dishes for catering and events. Artisan Noodles and 100% Natural. Check out here our events calendar in Greenville\, South Carolina. #TheNoodleLady
URL:https://864foodtrucks.com/event/the-noodle-lady-greer-tunes-in-the-park/2023-05-20/
LOCATION:Greer City Park\, 301 E Poinsett St\, Greer\, South Carolina
CATEGORIES:Food Truck Schedules,Greer
ATTACH;FMTTYPE=image/jpeg:https://864foodtrucks.com/wp-content/uploads/2021/05/The-Noodle-Lady-Truck.jpg
ORGANIZER;CN="The Noodle Lady":MAILTO:thenoodlelady@yahoo.com
GEO:34.9377066;-82.2230614
X-APPLE-STRUCTURED-LOCATION;VALUE=URI;X-ADDRESS=Greer City Park 301 E Poinsett St Greer South Carolina;X-APPLE-RADIUS=500;X-TITLE=301 E Poinsett St:geo:-82.2230614,34.9377066
END:VEVENT
BEGIN:VEVENT
DTSTART;TZID=America/New_York:20230429T110000
DTEND;TZID=America/New_York:20230429T160000
DTSTAMP:20260424T041047
CREATED:20230424T175526Z
LAST-MODIFIED:20230424T175526Z
UID:18398-1682766000-1682784000@864foodtrucks.com
SUMMARY:The Noodle Lady @ Greer Goes Global
DESCRIPTION:Authentic Chinese dishes for catering and events. Artisan Noodles and 100% Natural. Check out here our events calendar in Greenville\, South Carolina. #TheNoodleLady
URL:https://864foodtrucks.com/event/the-noodle-lady-greer-goes-global/
LOCATION:Greer City Park\, 301 E Poinsett St\, Greer\, South Carolina
CATEGORIES:Food Truck Schedules,Greer
ATTACH;FMTTYPE=image/jpeg:https://864foodtrucks.com/wp-content/uploads/2021/05/The-Noodle-Lady-Truck.jpg
ORGANIZER;CN="The Noodle Lady":MAILTO:thenoodlelady@yahoo.com
GEO:34.9377066;-82.2230614
X-APPLE-STRUCTURED-LOCATION;VALUE=URI;X-ADDRESS=Greer City Park 301 E Poinsett St Greer South Carolina;X-APPLE-RADIUS=500;X-TITLE=301 E Poinsett St:geo:-82.2230614,34.9377066
END:VEVENT
BEGIN:VEVENT
DTSTART;TZID=America/New_York:20230429T110000
DTEND;TZID=America/New_York:20230429T160000
DTSTAMP:20260424T041047
CREATED:20230406T191801Z
LAST-MODIFIED:20230406T191801Z
UID:18090-1682766000-1682784000@864foodtrucks.com
SUMMARY:Hawaiian Donut Co @ Greer International Food Festival
DESCRIPTION:
URL:https://864foodtrucks.com/event/hawaiian-donut-co-greer-international-food-festival/
LOCATION:Greer City Park\, 301 E Poinsett St\, Greer\, South Carolina
CATEGORIES:Food Truck Schedules,Greer
ATTACH;FMTTYPE=image/jpeg:https://864foodtrucks.com/wp-content/uploads/2022/08/Hawaiian-Donut-Co.jpg
GEO:34.9377066;-82.2230614
X-APPLE-STRUCTURED-LOCATION;VALUE=URI;X-ADDRESS=Greer City Park 301 E Poinsett St Greer South Carolina;X-APPLE-RADIUS=500;X-TITLE=301 E Poinsett St:geo:-82.2230614,34.9377066
END:VEVENT
BEGIN:VEVENT
DTSTART;TZID=America/New_York:20230407T170000
DTEND;TZID=America/New_York:20230407T200000
DTSTAMP:20260424T041047
CREATED:20230330T182425Z
LAST-MODIFIED:20230330T182425Z
UID:17915-1680886800-1680897600@864foodtrucks.com
SUMMARY:One Love Fusion Foods @ Greer Food Truck Rollout
DESCRIPTION:Global Flavors. Local Favorites.\nUS Foods’ Silver Spoon Champion 2017 & 2018\n1st Place at Fall for Greenville 2017 & 2018\nVoted Top 5 Best Food Trucks in the Upstate 2018\, 2019\, & 2020\nAvailable in Public & Private events.
URL:https://864foodtrucks.com/event/one-love-fusion-foods-greer-food-truck-rollout/
LOCATION:Greer City Park\, 301 E Poinsett St\, Greer\, South Carolina
CATEGORIES:Food Truck Schedules,Greer
ATTACH;FMTTYPE=image/jpeg:https://864foodtrucks.com/wp-content/uploads/2021/05/one-Love-Fusion-Foods-truck.jpg
ORGANIZER;CN="One Love Fusion Foods":MAILTO:OneLoveFusionFoods@gmail.com
GEO:34.9377066;-82.2230614
X-APPLE-STRUCTURED-LOCATION;VALUE=URI;X-ADDRESS=Greer City Park 301 E Poinsett St Greer South Carolina;X-APPLE-RADIUS=500;X-TITLE=301 E Poinsett St:geo:-82.2230614,34.9377066
END:VEVENT
BEGIN:VEVENT
DTSTART;TZID=America/New_York:20230402T110000
DTEND;TZID=America/New_York:20230402T140000
DTSTAMP:20260424T041047
CREATED:20230327T122326Z
LAST-MODIFIED:20230430T211101Z
UID:17807-1680433200-1680444000@864foodtrucks.com
SUMMARY:Lobster Dogs @ Greer Farmers Market
DESCRIPTION:Food truck serving the Best Lobster Rolls & Stuffed Avocados in the Carolinas
URL:https://864foodtrucks.com/event/lobster-dogs-greer-farmers-market-3/2023-04-02/
LOCATION:Greer City Park\, 301 E Poinsett St\, Greer\, South Carolina
CATEGORIES:Food Truck Schedules,Greer
ATTACH;FMTTYPE=image/jpeg:https://864foodtrucks.com/wp-content/uploads/2021/05/lobster-dogs-Food-Truck.jpg
ORGANIZER;CN="Lobster Dogs":MAILTO:lobsterdogs3@gmail.com
GEO:34.9377066;-82.2230614
X-APPLE-STRUCTURED-LOCATION;VALUE=URI;X-ADDRESS=Greer City Park 301 E Poinsett St Greer South Carolina;X-APPLE-RADIUS=500;X-TITLE=301 E Poinsett St:geo:-82.2230614,34.9377066
END:VEVENT
BEGIN:VEVENT
DTSTART;TZID=America/New_York:20230310T170000
DTEND;TZID=America/New_York:20230310T200000
DTSTAMP:20260424T041047
CREATED:20230224T204156Z
LAST-MODIFIED:20240311T141707Z
UID:17096-1678467600-1678478400@864foodtrucks.com
SUMMARY:Street Pizza @ Food Truck Rollout Greer
DESCRIPTION:
URL:https://864foodtrucks.com/event/street-pizza-food-truck-rollout-greer/2023-03-10/
LOCATION:Greer City Park\, 301 E Poinsett St\, Greer\, South Carolina
CATEGORIES:Food Truck Schedules,Greer
ATTACH;FMTTYPE=image/jpeg:https://864foodtrucks.com/wp-content/uploads/2022/09/Street-Pizza-Truck.jpg
ORGANIZER;CN="Street Pizza":MAILTO:Streetpizzausa@gmail.com
GEO:34.9377066;-82.2230614
X-APPLE-STRUCTURED-LOCATION;VALUE=URI;X-ADDRESS=Greer City Park 301 E Poinsett St Greer South Carolina;X-APPLE-RADIUS=500;X-TITLE=301 E Poinsett St:geo:-82.2230614,34.9377066
END:VEVENT
BEGIN:VEVENT
DTSTART;TZID=America/New_York:20230310T170000
DTEND;TZID=America/New_York:20230310T200000
DTSTAMP:20260424T041047
CREATED:20230224T203918Z
LAST-MODIFIED:20240311T141655Z
UID:17094-1678467600-1678478400@864foodtrucks.com
SUMMARY:Rolitos Tacos & More @ Food Truck Rollout Greer
DESCRIPTION:
URL:https://864foodtrucks.com/event/rolitos-tacos-more-food-truck-rollout-greer/2023-03-10/
LOCATION:Greer City Park\, 301 E Poinsett St\, Greer\, South Carolina
CATEGORIES:Food Truck Schedules,Greer
ATTACH;FMTTYPE=image/jpeg:https://864foodtrucks.com/wp-content/uploads/2021/05/Rolitos-Tacos-More-Trailer.jpg
ORGANIZER;CN="Rolitos Tacos &amp%3B More":MAILTO:rolitostacos@gmail.com
GEO:34.9377066;-82.2230614
X-APPLE-STRUCTURED-LOCATION;VALUE=URI;X-ADDRESS=Greer City Park 301 E Poinsett St Greer South Carolina;X-APPLE-RADIUS=500;X-TITLE=301 E Poinsett St:geo:-82.2230614,34.9377066
END:VEVENT
END:VCALENDAR