BEGIN:VCALENDAR
VERSION:2.0
PRODID:-//864 Food Trucks - ECPv6.15.20//NONSGML v1.0//EN
CALSCALE:GREGORIAN
METHOD:PUBLISH
X-ORIGINAL-URL:https://864foodtrucks.com
X-WR-CALDESC:Events for 864 Food Trucks
REFRESH-INTERVAL;VALUE=DURATION:PT1H
X-Robots-Tag:noindex
X-PUBLISHED-TTL:PT1H
BEGIN:VTIMEZONE
TZID:America/New_York
BEGIN:DAYLIGHT
TZOFFSETFROM:-0500
TZOFFSETTO:-0400
TZNAME:EDT
DTSTART:20220313T070000
END:DAYLIGHT
BEGIN:STANDARD
TZOFFSETFROM:-0400
TZOFFSETTO:-0500
TZNAME:EST
DTSTART:20221106T060000
END:STANDARD
BEGIN:DAYLIGHT
TZOFFSETFROM:-0500
TZOFFSETTO:-0400
TZNAME:EDT
DTSTART:20230312T070000
END:DAYLIGHT
BEGIN:STANDARD
TZOFFSETFROM:-0400
TZOFFSETTO:-0500
TZNAME:EST
DTSTART:20231105T060000
END:STANDARD
BEGIN:DAYLIGHT
TZOFFSETFROM:-0500
TZOFFSETTO:-0400
TZNAME:EDT
DTSTART:20240310T070000
END:DAYLIGHT
BEGIN:STANDARD
TZOFFSETFROM:-0400
TZOFFSETTO:-0500
TZNAME:EST
DTSTART:20241103T060000
END:STANDARD
BEGIN:DAYLIGHT
TZOFFSETFROM:-0500
TZOFFSETTO:-0400
TZNAME:EDT
DTSTART:20250309T070000
END:DAYLIGHT
BEGIN:STANDARD
TZOFFSETFROM:-0400
TZOFFSETTO:-0500
TZNAME:EST
DTSTART:20251102T060000
END:STANDARD
END:VTIMEZONE
BEGIN:VEVENT
DTSTART;TZID=America/New_York:20241024T160000
DTEND;TZID=America/New_York:20241024T180000
DTSTAMP:20260425T203352
CREATED:20241021T180324Z
LAST-MODIFIED:20241021T180324Z
UID:39343-1729785600-1729792800@864foodtrucks.com
SUMMARY:Churro Masters @ Greer Middle School
DESCRIPTION:Delicious CHURROS made fresh!
URL:https://864foodtrucks.com/event/churro-masters-greer-middle-school/
LOCATION:Greer Middle School\, 3032 E Gap Creek Rd\, Greer\, SC\, United States
CATEGORIES:Food Truck Schedules,Greer
ATTACH;FMTTYPE=image/jpeg:https://864foodtrucks.com/wp-content/uploads/2023/05/Churro-Masters-1.jpg
ORGANIZER;CN="Churro Masters":MAILTO:Churromastersemail@gmail.com
END:VEVENT
BEGIN:VEVENT
DTSTART;TZID=America/New_York:20240308T103000
DTEND;TZID=America/New_York:20240308T123000
DTSTAMP:20260425T203352
CREATED:20240302T222216Z
LAST-MODIFIED:20240310T233716Z
UID:26429-1709893800-1709901000@864foodtrucks.com
SUMMARY:Simpell Sammies @ Greer Middle School
DESCRIPTION:Simpell Sammies is open for business and ready to serve you flavorful and delicious sandwiches and hoagies.
URL:https://864foodtrucks.com/event/simpell-sammies-greer-middle-school-2/2024-03-08/
LOCATION:Greer Middle School\, 3032 E Gap Creek Rd\, Greer\, SC\, United States
CATEGORIES:Food Truck Schedules,Greer
ATTACH;FMTTYPE=image/jpeg:https://864foodtrucks.com/wp-content/uploads/2023/06/Simpell-Sammies-Trailer.jpg
ORGANIZER;CN="Simpell Sammies":MAILTO:info@simpelltreats.com
END:VEVENT
BEGIN:VEVENT
DTSTART;TZID=America/New_York:20230106T103000
DTEND;TZID=America/New_York:20230106T130000
DTSTAMP:20260425T203352
CREATED:20230104T192046Z
LAST-MODIFIED:20230104T192046Z
UID:15952-1673001000-1673010000@864foodtrucks.com
SUMMARY:Simpell Sammies @ Greer Middle School
DESCRIPTION:Simpell Sammies is open for business and ready to serve you flavorful and delicious sandwiches and hoagies.
URL:https://864foodtrucks.com/event/simpell-sammies-greer-middle-school/
LOCATION:Greer Middle School\, 3032 E Gap Creek Rd\, Greer\, SC\, United States
CATEGORIES:Food Truck Schedules,Greer
ATTACH;FMTTYPE=image/jpeg:https://864foodtrucks.com/wp-content/uploads/2021/12/Simpell-Sammies-Trailer.jpg
ORGANIZER;CN="Simpell Sammies":MAILTO:info@simpelltreats.com
END:VEVENT
END:VCALENDAR