BEGIN:VCALENDAR
VERSION:2.0
PRODID:-//864 Food Trucks - ECPv6.15.20//NONSGML v1.0//EN
CALSCALE:GREGORIAN
METHOD:PUBLISH
X-WR-CALNAME:864 Food Trucks
X-ORIGINAL-URL:https://864foodtrucks.com
X-WR-CALDESC:Events for 864 Food Trucks
REFRESH-INTERVAL;VALUE=DURATION:PT1H
X-Robots-Tag:noindex
X-PUBLISHED-TTL:PT1H
BEGIN:VTIMEZONE
TZID:America/New_York
BEGIN:DAYLIGHT
TZOFFSETFROM:-0500
TZOFFSETTO:-0400
TZNAME:EDT
DTSTART:20220313T070000
END:DAYLIGHT
BEGIN:STANDARD
TZOFFSETFROM:-0400
TZOFFSETTO:-0500
TZNAME:EST
DTSTART:20221106T060000
END:STANDARD
BEGIN:DAYLIGHT
TZOFFSETFROM:-0500
TZOFFSETTO:-0400
TZNAME:EDT
DTSTART:20230312T070000
END:DAYLIGHT
BEGIN:STANDARD
TZOFFSETFROM:-0400
TZOFFSETTO:-0500
TZNAME:EST
DTSTART:20231105T060000
END:STANDARD
BEGIN:DAYLIGHT
TZOFFSETFROM:-0500
TZOFFSETTO:-0400
TZNAME:EDT
DTSTART:20240310T070000
END:DAYLIGHT
BEGIN:STANDARD
TZOFFSETFROM:-0400
TZOFFSETTO:-0500
TZNAME:EST
DTSTART:20241103T060000
END:STANDARD
BEGIN:DAYLIGHT
TZOFFSETFROM:-0500
TZOFFSETTO:-0400
TZNAME:EDT
DTSTART:20250309T070000
END:DAYLIGHT
BEGIN:STANDARD
TZOFFSETFROM:-0400
TZOFFSETTO:-0500
TZNAME:EST
DTSTART:20251102T060000
END:STANDARD
BEGIN:DAYLIGHT
TZOFFSETFROM:-0500
TZOFFSETTO:-0400
TZNAME:EDT
DTSTART:20260308T070000
END:DAYLIGHT
BEGIN:STANDARD
TZOFFSETFROM:-0400
TZOFFSETTO:-0500
TZNAME:EST
DTSTART:20261101T060000
END:STANDARD
END:VTIMEZONE
BEGIN:VEVENT
DTSTART;TZID=America/New_York:20251101T160000
DTEND;TZID=America/New_York:20251101T200000
DTSTAMP:20260424T060607
CREATED:20231029T224621Z
LAST-MODIFIED:20231029T224621Z
UID:55691-1762012800-1762027200@864foodtrucks.com
SUMMARY:Vita Nova Coffee & Tea @ Hampton Park Harvest
DESCRIPTION:The vision of Vita Nova is to bring communities together around good coffee\, delicacies and various entertainment!
URL:https://864foodtrucks.com/event/vita-nova-coffee-tea-hampton-park-harvest/2025-11-01/
LOCATION:Hampton Park Baptist Church\, 875 State Park Road\, Greenville\, South Carolina
CATEGORIES:Food Truck Schedules,Taylors
ATTACH;FMTTYPE=image/jpeg:https://864foodtrucks.com/wp-content/uploads/2023/06/Vita-Nova-2.jpg
ORGANIZER;CN="Vita Nova Coffee And Tea":MAILTO:Vitanova3710@gmail.com
GEO:34.8980634;-82.3949748
X-APPLE-STRUCTURED-LOCATION;VALUE=URI;X-ADDRESS=Hampton Park Baptist Church 875 State Park Road Greenville South Carolina;X-APPLE-RADIUS=500;X-TITLE=875 State Park Road:geo:-82.3949748,34.8980634
END:VEVENT
BEGIN:VEVENT
DTSTART;TZID=America/New_York:20241102T160000
DTEND;TZID=America/New_York:20241102T190000
DTSTAMP:20260424T060607
CREATED:20241028T004609Z
LAST-MODIFIED:20241028T004609Z
UID:39432-1730563200-1730574000@864foodtrucks.com
SUMMARY:Spinx Cluk Truk @ Hampton Park Church Fall Festival
DESCRIPTION:Your favorite southern fried chicken is hitting the road—and it’s going to be legendary. Our community comes first\, and we want to share that tender love by bringing our homegrown menu to you. The Cluk Truk is coming Fall 2020 to the Upstate!
URL:https://864foodtrucks.com/event/spinx-cluk-truk-hampton-park-church-fall-festival/
LOCATION:Hampton Park Baptist Church\, 875 State Park Road\, Greenville\, South Carolina
CATEGORIES:Food Truck Schedules,Taylors
ATTACH;FMTTYPE=image/jpeg:https://864foodtrucks.com/wp-content/uploads/2021/05/Spinx-Cluk-Truk-Truck.jpg
ORGANIZER;CN="Spinx Cluk Truk":MAILTO:cluktruk@spinxco.com
GEO:34.8980634;-82.3949748
X-APPLE-STRUCTURED-LOCATION;VALUE=URI;X-ADDRESS=Hampton Park Baptist Church 875 State Park Road Greenville South Carolina;X-APPLE-RADIUS=500;X-TITLE=875 State Park Road:geo:-82.3949748,34.8980634
END:VEVENT
BEGIN:VEVENT
DTSTART;TZID=America/New_York:20241102T160000
DTEND;TZID=America/New_York:20241102T160000
DTSTAMP:20260424T060607
CREATED:20241028T004103Z
LAST-MODIFIED:20241028T004103Z
UID:39426-1730563200-1730563200@864foodtrucks.com
SUMMARY:Vita Nova Coffee & Tea @ Harvest Happenings
DESCRIPTION:The vision of Vita Nova is to bring communities together around good coffee\, delicacies and various entertainment!
URL:https://864foodtrucks.com/event/vita-nova-coffee-tea-harvest-happenings/
LOCATION:Hampton Park Baptist Church\, 875 State Park Road\, Greenville\, South Carolina
CATEGORIES:Food Truck Schedules,Taylors
ATTACH;FMTTYPE=image/jpeg:https://864foodtrucks.com/wp-content/uploads/2023/06/Vita-Nova-2.jpg
ORGANIZER;CN="Vita Nova Coffee And Tea":MAILTO:Vitanova3710@gmail.com
GEO:34.8980634;-82.3949748
X-APPLE-STRUCTURED-LOCATION;VALUE=URI;X-ADDRESS=Hampton Park Baptist Church 875 State Park Road Greenville South Carolina;X-APPLE-RADIUS=500;X-TITLE=875 State Park Road:geo:-82.3949748,34.8980634
END:VEVENT
BEGIN:VEVENT
DTSTART;TZID=America/New_York:20231104T160000
DTEND;TZID=America/New_York:20231104T200000
DTSTAMP:20260424T060607
CREATED:20231029T224621Z
LAST-MODIFIED:20251028T233739Z
UID:23842-1699113600-1699128000@864foodtrucks.com
SUMMARY:Vita Nova Coffee & Tea @ Hampton Park Harvest
DESCRIPTION:The vision of Vita Nova is to bring communities together around good coffee\, delicacies and various entertainment!
URL:https://864foodtrucks.com/event/vita-nova-coffee-tea-hampton-park-harvest/2023-11-04/
LOCATION:Hampton Park Baptist Church\, 875 State Park Road\, Greenville\, South Carolina
CATEGORIES:Food Truck Schedules,Taylors
ATTACH;FMTTYPE=image/jpeg:https://864foodtrucks.com/wp-content/uploads/2023/06/Vita-Nova-2.jpg
ORGANIZER;CN="Vita Nova Coffee And Tea":MAILTO:Vitanova3710@gmail.com
GEO:34.8980634;-82.3949748
X-APPLE-STRUCTURED-LOCATION;VALUE=URI;X-ADDRESS=Hampton Park Baptist Church 875 State Park Road Greenville South Carolina;X-APPLE-RADIUS=500;X-TITLE=875 State Park Road:geo:-82.3949748,34.8980634
END:VEVENT
BEGIN:VEVENT
DTSTART;TZID=America/New_York:20231104T160000
DTEND;TZID=America/New_York:20231104T190000
DTSTAMP:20260424T060607
CREATED:20231029T143226Z
LAST-MODIFIED:20231029T143226Z
UID:23838-1699113600-1699124400@864foodtrucks.com
SUMMARY:Spinx Cluk Truk @ Hampton Park Baptist
DESCRIPTION:Your favorite southern fried chicken is hitting the road—and it’s going to be legendary. Our community comes first\, and we want to share that tender love by bringing our homegrown menu to you. The Cluk Truk is coming Fall 2020 to the Upstate!
URL:https://864foodtrucks.com/event/spinx-cluk-truk-hampton-park-baptist/
LOCATION:Hampton Park Baptist Church\, 875 State Park Road\, Greenville\, South Carolina
CATEGORIES:Food Truck Schedules,Taylors
ATTACH;FMTTYPE=image/jpeg:https://864foodtrucks.com/wp-content/uploads/2021/05/Spinx-Cluk-Truk-Truck.jpg
ORGANIZER;CN="Spinx Cluk Truk":MAILTO:cluktruk@spinxco.com
GEO:34.8980634;-82.3949748
X-APPLE-STRUCTURED-LOCATION;VALUE=URI;X-ADDRESS=Hampton Park Baptist Church 875 State Park Road Greenville South Carolina;X-APPLE-RADIUS=500;X-TITLE=875 State Park Road:geo:-82.3949748,34.8980634
END:VEVENT
END:VCALENDAR