BEGIN:VCALENDAR
VERSION:2.0
PRODID:-//864 Food Trucks - ECPv6.15.20//NONSGML v1.0//EN
CALSCALE:GREGORIAN
METHOD:PUBLISH
X-WR-CALNAME:864 Food Trucks
X-ORIGINAL-URL:https://864foodtrucks.com
X-WR-CALDESC:Events for 864 Food Trucks
REFRESH-INTERVAL;VALUE=DURATION:PT1H
X-Robots-Tag:noindex
X-PUBLISHED-TTL:PT1H
BEGIN:VTIMEZONE
TZID:America/New_York
BEGIN:DAYLIGHT
TZOFFSETFROM:-0500
TZOFFSETTO:-0400
TZNAME:EDT
DTSTART:20220313T070000
END:DAYLIGHT
BEGIN:STANDARD
TZOFFSETFROM:-0400
TZOFFSETTO:-0500
TZNAME:EST
DTSTART:20221106T060000
END:STANDARD
BEGIN:DAYLIGHT
TZOFFSETFROM:-0500
TZOFFSETTO:-0400
TZNAME:EDT
DTSTART:20230312T070000
END:DAYLIGHT
BEGIN:STANDARD
TZOFFSETFROM:-0400
TZOFFSETTO:-0500
TZNAME:EST
DTSTART:20231105T060000
END:STANDARD
BEGIN:DAYLIGHT
TZOFFSETFROM:-0500
TZOFFSETTO:-0400
TZNAME:EDT
DTSTART:20240310T070000
END:DAYLIGHT
BEGIN:STANDARD
TZOFFSETFROM:-0400
TZOFFSETTO:-0500
TZNAME:EST
DTSTART:20241103T060000
END:STANDARD
END:VTIMEZONE
BEGIN:VEVENT
DTSTART;TZID=America/New_York:20231014T110000
DTEND;TZID=America/New_York:20231014T140000
DTSTAMP:20260425T204019
CREATED:20231009T212710Z
LAST-MODIFIED:20231009T212710Z
UID:23445-1697281200-1697292000@864foodtrucks.com
SUMMARY:The Krispy Cow @ Happy Cow Creamery
DESCRIPTION:
URL:https://864foodtrucks.com/event/the-krispy-cow-happy-cow-creamery/
LOCATION:Happy Cow Creamery\, McKelvey Road 332\, Pelzer\, South Carolina\, 29669\, United States
CATEGORIES:Food Truck Schedules,Pelzer
ATTACH;FMTTYPE=image/png:https://864foodtrucks.com/wp-content/uploads/2023/07/Krispy-Cow.png
ORGANIZER;CN="The Krispy Cow":MAILTO:info@thekrispycow.com
GEO:34.613769;-82.3532842
X-APPLE-STRUCTURED-LOCATION;VALUE=URI;X-ADDRESS=Happy Cow Creamery McKelvey Road 332 Pelzer South Carolina 29669 United States;X-APPLE-RADIUS=500;X-TITLE=McKelvey Road 332:geo:-82.3532842,34.613769
END:VEVENT
END:VCALENDAR