BEGIN:VCALENDAR
VERSION:2.0
PRODID:-//864 Food Trucks - ECPv6.15.20//NONSGML v1.0//EN
CALSCALE:GREGORIAN
METHOD:PUBLISH
X-ORIGINAL-URL:https://864foodtrucks.com
X-WR-CALDESC:Events for 864 Food Trucks
REFRESH-INTERVAL;VALUE=DURATION:PT1H
X-Robots-Tag:noindex
X-PUBLISHED-TTL:PT1H
BEGIN:VTIMEZONE
TZID:America/New_York
BEGIN:DAYLIGHT
TZOFFSETFROM:-0500
TZOFFSETTO:-0400
TZNAME:EDT
DTSTART:20220313T070000
END:DAYLIGHT
BEGIN:STANDARD
TZOFFSETFROM:-0400
TZOFFSETTO:-0500
TZNAME:EST
DTSTART:20221106T060000
END:STANDARD
BEGIN:DAYLIGHT
TZOFFSETFROM:-0500
TZOFFSETTO:-0400
TZNAME:EDT
DTSTART:20230312T070000
END:DAYLIGHT
BEGIN:STANDARD
TZOFFSETFROM:-0400
TZOFFSETTO:-0500
TZNAME:EST
DTSTART:20231105T060000
END:STANDARD
BEGIN:DAYLIGHT
TZOFFSETFROM:-0500
TZOFFSETTO:-0400
TZNAME:EDT
DTSTART:20240310T070000
END:DAYLIGHT
BEGIN:STANDARD
TZOFFSETFROM:-0400
TZOFFSETTO:-0500
TZNAME:EST
DTSTART:20241103T060000
END:STANDARD
BEGIN:DAYLIGHT
TZOFFSETFROM:-0500
TZOFFSETTO:-0400
TZNAME:EDT
DTSTART:20250309T070000
END:DAYLIGHT
BEGIN:STANDARD
TZOFFSETFROM:-0400
TZOFFSETTO:-0500
TZNAME:EST
DTSTART:20251102T060000
END:STANDARD
BEGIN:DAYLIGHT
TZOFFSETFROM:-0500
TZOFFSETTO:-0400
TZNAME:EDT
DTSTART:20260308T070000
END:DAYLIGHT
BEGIN:STANDARD
TZOFFSETFROM:-0400
TZOFFSETTO:-0500
TZNAME:EST
DTSTART:20261101T060000
END:STANDARD
END:VTIMEZONE
BEGIN:VEVENT
DTSTART;TZID=America/New_York:20251012T110000
DTEND;TZID=America/New_York:20251012T180000
DTSTAMP:20260425T203913
CREATED:20251008T202306Z
LAST-MODIFIED:20251008T202306Z
UID:54919-1760266800-1760292000@864foodtrucks.com
SUMMARY:Dos Bros @ Heritage Park
DESCRIPTION:
URL:https://864foodtrucks.com/event/dos-bros-heritage-park-3/
LOCATION:Heritage Park\, 864 SE Main St\, Simpsonville\, SC\, 29681\, United States
CATEGORIES:Food Truck Schedules,Simpsonville
ATTACH;FMTTYPE=image/jpeg:https://864foodtrucks.com/wp-content/uploads/2021/10/Dos-Bros-Tacos-Truck.jpg
ORGANIZER;CN="Dos Bros Tacos 864":MAILTO:jesusi86@yahoo.com
GEO:34.7103102;-82.2345331
X-APPLE-STRUCTURED-LOCATION;VALUE=URI;X-ADDRESS=Heritage Park 864 SE Main St Simpsonville SC 29681 United States;X-APPLE-RADIUS=500;X-TITLE=864 SE Main St:geo:-82.2345331,34.7103102
END:VEVENT
BEGIN:VEVENT
DTSTART;TZID=America/New_York:20230601T170000
DTEND;TZID=America/New_York:20230601T210000
DTSTAMP:20260425T203913
CREATED:20230530T210656Z
LAST-MODIFIED:20230530T210656Z
UID:19297-1685638800-1685653200@864foodtrucks.com
SUMMARY:Dos Bros @ Heritage Park
DESCRIPTION:
URL:https://864foodtrucks.com/event/dos-bros-heritage-park-2/
LOCATION:Heritage Park\, 864 SE Main St\, Simpsonville\, SC\, 29681\, United States
CATEGORIES:Food Truck Schedules,Simpsonville
ATTACH;FMTTYPE=image/jpeg:https://864foodtrucks.com/wp-content/uploads/2021/10/Dos-Bros-Tacos-Truck.jpg
ORGANIZER;CN="Dos Bros Tacos 864":MAILTO:jesusi86@yahoo.com
GEO:34.7103102;-82.2345331
X-APPLE-STRUCTURED-LOCATION;VALUE=URI;X-ADDRESS=Heritage Park 864 SE Main St Simpsonville SC 29681 United States;X-APPLE-RADIUS=500;X-TITLE=864 SE Main St:geo:-82.2345331,34.7103102
END:VEVENT
BEGIN:VEVENT
DTSTART;TZID=America/New_York:20230518T170000
DTEND;TZID=America/New_York:20230518T210000
DTSTAMP:20260425T203913
CREATED:20230516T155438Z
LAST-MODIFIED:20230516T155438Z
UID:19045-1684429200-1684443600@864foodtrucks.com
SUMMARY:Dos Bros @ Heritage Park
DESCRIPTION:
URL:https://864foodtrucks.com/event/dos-bros-heritage-park/
LOCATION:Heritage Park\, 864 SE Main St\, Simpsonville\, SC\, 29681\, United States
CATEGORIES:Food Truck Schedules,Simpsonville
ATTACH;FMTTYPE=image/jpeg:https://864foodtrucks.com/wp-content/uploads/2021/10/Dos-Bros-Tacos-Truck.jpg
ORGANIZER;CN="Dos Bros Tacos 864":MAILTO:jesusi86@yahoo.com
GEO:34.7103102;-82.2345331
X-APPLE-STRUCTURED-LOCATION;VALUE=URI;X-ADDRESS=Heritage Park 864 SE Main St Simpsonville SC 29681 United States;X-APPLE-RADIUS=500;X-TITLE=864 SE Main St:geo:-82.2345331,34.7103102
END:VEVENT
END:VCALENDAR